BEGIN:VCALENDAR
VERSION:2.0
PRODID:-//Rink 52 - Skateland Chandler - ECPv6.15.20//NONSGML v1.0//EN
CALSCALE:GREGORIAN
METHOD:PUBLISH
X-ORIGINAL-URL:https://www.unitedskates.com/skateland-chandler
X-WR-CALDESC:Events for Rink 52 - Skateland Chandler
REFRESH-INTERVAL;VALUE=DURATION:PT1H
X-Robots-Tag:noindex
X-PUBLISHED-TTL:PT1H
BEGIN:VTIMEZONE
TZID:America/Phoenix
BEGIN:STANDARD
TZOFFSETFROM:-0700
TZOFFSETTO:-0700
TZNAME:MST
DTSTART:20240101T000000
END:STANDARD
END:VTIMEZONE
BEGIN:VEVENT
DTSTART;TZID=America/Phoenix:20251028T170000
DTEND;TZID=America/Phoenix:20251028T193000
DTSTAMP:20260420T001320
CREATED:20251002T013938Z
LAST-MODIFIED:20251002T013938Z
UID:15394-1761670800-1761679800@www.unitedskates.com
SUMMARY:🙌✨ Praise & Skate — Community Church Event ✨🙌
DESCRIPTION:🙌✨ Praise & Skate — Community Church Event ✨🙌\nSkateland Chandler • Tuesday\, Oct 28 • 5:00pm–7:30pm \nLooking for a fun night out with your congregation? This is the place to be! Join us for an uplifting evening of fellowship\, music\, and skating at our Praise & Skate Community Church Event. \n🎟 Admission: $12.00 (includes skate rental)👀 Adult Spectators: $4.00 \n✨ Enjoy fellowship on wheels as you skate\, laugh\, and connect with your church family in a welcoming\, family-friendly atmosphere! \n🍕 Have Dinner With Us!Party Meal Deal – Just $30!Get a Large 1-Topping Pizza\, a Pitcher of Soda\, plus 20 Game Credits. Perfect for sharing with family & friends! \n📩 Reserve Your Congregation Today!Email us for group rates: skateland1101@gmail.com \n\n⚡ Important Info\n✅ Wristguards are required for all skaters\, regardless of ability.✅ All guests (skating or non-skating) must have a completed liability waiver within 24 hours of the event. \n📍 Skateland Chandler – 1101 W Ray Rd\, Chandler\, AZ 85224📞 480-917-9444 • 🌐 www.skatelandchandler.com
URL:https://www.unitedskates.com/skateland-chandler/event/%f0%9f%99%8c%e2%9c%a8-praise-skate-community-church-event-%e2%9c%a8%f0%9f%99%8c/
LOCATION:Skateland Chandler\, 1101 W. Ray Rd.\, Chandler\, AZ\, 85224\, United States
CATEGORIES:Family Events,Public Skates
ATTACH;FMTTYPE=image/png:https://unitedskates-assets.sfo3.digitaloceanspaces.com/wp-content/uploads/sites/19/2025/10/Screenshot-2025-10-01-183511.png
END:VEVENT
END:VCALENDAR