BEGIN:VCALENDAR
VERSION:2.0
PRODID:-//Rink 52 - Skateland Chandler - ECPv6.15.20//NONSGML v1.0//EN
CALSCALE:GREGORIAN
METHOD:PUBLISH
X-WR-CALNAME:Rink 52 - Skateland Chandler
X-ORIGINAL-URL:https://www.unitedskates.com/skateland-chandler
X-WR-CALDESC:Events for Rink 52 - Skateland Chandler
REFRESH-INTERVAL;VALUE=DURATION:PT1H
X-Robots-Tag:noindex
X-PUBLISHED-TTL:PT1H
BEGIN:VTIMEZONE
TZID:America/Phoenix
BEGIN:STANDARD
TZOFFSETFROM:-0700
TZOFFSETTO:-0700
TZNAME:MST
DTSTART:20240101T000000
END:STANDARD
END:VTIMEZONE
BEGIN:VEVENT
DTSTART;TZID=America/Phoenix:20250919T180000
DTEND;TZID=America/Phoenix:20251006T200000
DTSTAMP:20260420T080511
CREATED:20250815T134603Z
LAST-MODIFIED:20250815T134603Z
UID:15246-1758304800-1759780800@www.unitedskates.com
SUMMARY:Fall Break Skate Schedule
DESCRIPTION:2025 Fall Break Skate Schedule – School’s Out\, Time to Roll! \nGet ready for two weeks of non-stop skating fun this Fall Break! From September 19 through October 6\, we’re packing the rink with themed events\, glow parties\, character meet & greets\, family nights\, and more. \n🛼 Event Highlights: \n\n\nGlow Skates\, Themed Skates\, and Character Days featuring Mario\, Stitch\, Minions\, Sonic\, Toy Story\, Alien\, Grinch\, Nightmare Before Christmas\, and more! \n\n\nAffordable Family Nights with specials on food & glow products \n\n\nFun breakfasts\, brunches\, and dinners with your favorite characters \n\n\nAdult Nights for grown-up fun on the rink \n\n\n💲 Pricing: \n\n\nGeneral Admission: $12 (unless otherwise noted) \n\n\nSkate Rental: $4 \n\n\nSkate Mate Rental: $6 \n\n\nNon-Skating Spectators: $5 \n\n\n📍 Location: Skateland Chandler – 1101 W Ray Rd\, Chandler\, AZ \n🎟 Don’t miss a single day of Fall Break fun — get your tickets now! \nGet Tickets Here
URL:https://www.unitedskates.com/skateland-chandler/event/fall-break-skate-schedule/
LOCATION:Skateland Chandler\, 1101 W. Ray Rd.\, Chandler\, AZ\, 85224\, United States
CATEGORIES:Family Events,Public Skates,Special Events
ATTACH;FMTTYPE=image/jpeg:https://unitedskates-assets.sfo3.digitaloceanspaces.com/wp-content/uploads/sites/19/2025/08/52-Fall-Break-2025-18day.jpg
END:VEVENT
BEGIN:VEVENT
DTSTART;TZID=America/Phoenix:20251006T113000
DTEND;TZID=America/Phoenix:20251006T140000
DTSTAMP:20260420T080511
CREATED:20250916T193611Z
LAST-MODIFIED:20250916T193611Z
UID:15340-1759750200-1759759200@www.unitedskates.com
SUMMARY:🎩✨ Step Into Wonderland at Mad Hatter Monday! ✨🎩
DESCRIPTION:🎩✨ Step Into Wonderland at Mad Hatter Monday! ✨🎩 \nFinish off Fall Break with a topsy-turvy adventure at Skateland Chandler’s Mad Hatter Monday Skate! Bring your wildest hat and your best skating moves — we’re transforming the rink into a magical world of color\, music\, and glow fun inspired by Alice in Wonderland. \n📅 Monday\, October 6 \n🕑 Three Magical Sessions to Choose From: \n\n\n11:30 AM – 2:00 PM – Kick off the fun for $12 \n\n\n2:30 PM – 5:00 PM – Our Glow Skate session for $12 (lights\, music & neon vibes!) \n\n\n5:30 PM – 8:00 PM – An evening skate for just $7 \n\n\n💫 Extras to Make Your Adventure Complete: \n\n\nSkate Rental: $5 \n\n\nSkate Mates: $6 (for those who like a little help down the rabbit hole) \n\n\nNon-Skating Adult Spectator: $4 \n\n\n🌟 Why You’ll Love It:Expect Wonderland-style music\, fun games\, and a hat-tastic atmosphere perfect for photos and family memories. Whether you’re a Mad Hatter or a curious Alice\, this is the way to wrap up Fall Break! \n\n✅ Important Info for All Guests\n\n\nWristguards are required for every skater\, no matter your ability. \n\n\nEvery guest entering — skating or non-skating — must complete a liability waiver within 24 hours of the event.
URL:https://www.unitedskates.com/skateland-chandler/event/%f0%9f%8e%a9%e2%9c%a8-step-into-wonderland-at-mad-hatter-monday-%e2%9c%a8%f0%9f%8e%a9/
LOCATION:Skateland Chandler\, 1101 W. Ray Rd.\, Chandler\, AZ\, 85224\, United States
CATEGORIES:Family Events,Public Skates,Special Events
ATTACH;FMTTYPE=image/png:https://unitedskates-assets.sfo3.digitaloceanspaces.com/wp-content/uploads/sites/19/2025/09/Screenshot-2025-09-16-122648.png
END:VEVENT
BEGIN:VEVENT
DTSTART;TZID=America/Phoenix:20251006T143000
DTEND;TZID=America/Phoenix:20251006T170000
DTSTAMP:20260420T080511
CREATED:20250916T193611Z
LAST-MODIFIED:20250916T193611Z
UID:15342-1759761000-1759770000@www.unitedskates.com
SUMMARY:🎩✨ Step Into Wonderland at Mad Hatter Monday! ✨🎩
DESCRIPTION:🎩✨ Step Into Wonderland at Mad Hatter Monday! ✨🎩 \nFinish off Fall Break with a topsy-turvy adventure at Skateland Chandler’s Mad Hatter Monday Skate! Bring your wildest hat and your best skating moves — we’re transforming the rink into a magical world of color\, music\, and glow fun inspired by Alice in Wonderland. \n📅 Monday\, October 6 \n🕑 Three Magical Sessions to Choose From: \n\n\n11:30 AM – 2:00 PM – Kick off the fun for $12 \n\n\n2:30 PM – 5:00 PM – Our Glow Skate session for $12 (lights\, music & neon vibes!) \n\n\n5:30 PM – 8:00 PM – An evening skate for just $7 \n\n\n💫 Extras to Make Your Adventure Complete: \n\n\nSkate Rental: $5 \n\n\nSkate Mates: $6 (for those who like a little help down the rabbit hole) \n\n\nNon-Skating Adult Spectator: $4 \n\n\n🌟 Why You’ll Love It:Expect Wonderland-style music\, fun games\, and a hat-tastic atmosphere perfect for photos and family memories. Whether you’re a Mad Hatter or a curious Alice\, this is the way to wrap up Fall Break! \n\n✅ Important Info for All Guests\n\n\nWristguards are required for every skater\, no matter your ability. \n\n\nEvery guest entering — skating or non-skating — must complete a liability waiver within 24 hours of the event.
URL:https://www.unitedskates.com/skateland-chandler/event/%f0%9f%8e%a9%e2%9c%a8-step-into-wonderland-at-mad-hatter-monday-%e2%9c%a8%f0%9f%8e%a9/2025-10-06/2/
LOCATION:Skateland Chandler\, 1101 W. Ray Rd.\, Chandler\, AZ\, 85224\, United States
CATEGORIES:Family Events,Public Skates,Special Events
ATTACH;FMTTYPE=image/png:https://unitedskates-assets.sfo3.digitaloceanspaces.com/wp-content/uploads/sites/19/2025/09/Screenshot-2025-09-16-122648.png
END:VEVENT
BEGIN:VEVENT
DTSTART;TZID=America/Phoenix:20251006T173000
DTEND;TZID=America/Phoenix:20251006T200000
DTSTAMP:20260420T080511
CREATED:20250916T193611Z
LAST-MODIFIED:20250916T193611Z
UID:15343-1759771800-1759780800@www.unitedskates.com
SUMMARY:🎩✨ Step Into Wonderland at Mad Hatter Monday! ✨🎩
DESCRIPTION:🎩✨ Step Into Wonderland at Mad Hatter Monday! ✨🎩 \nFinish off Fall Break with a topsy-turvy adventure at Skateland Chandler’s Mad Hatter Monday Skate! Bring your wildest hat and your best skating moves — we’re transforming the rink into a magical world of color\, music\, and glow fun inspired by Alice in Wonderland. \n📅 Monday\, October 6 \n🕑 Three Magical Sessions to Choose From: \n\n\n11:30 AM – 2:00 PM – Kick off the fun for $12 \n\n\n2:30 PM – 5:00 PM – Our Glow Skate session for $12 (lights\, music & neon vibes!) \n\n\n5:30 PM – 8:00 PM – An evening skate for just $7 \n\n\n💫 Extras to Make Your Adventure Complete: \n\n\nSkate Rental: $5 \n\n\nSkate Mates: $6 (for those who like a little help down the rabbit hole) \n\n\nNon-Skating Adult Spectator: $4 \n\n\n🌟 Why You’ll Love It:Expect Wonderland-style music\, fun games\, and a hat-tastic atmosphere perfect for photos and family memories. Whether you’re a Mad Hatter or a curious Alice\, this is the way to wrap up Fall Break! \n\n✅ Important Info for All Guests\n\n\nWristguards are required for every skater\, no matter your ability. \n\n\nEvery guest entering — skating or non-skating — must complete a liability waiver within 24 hours of the event.
URL:https://www.unitedskates.com/skateland-chandler/event/%f0%9f%8e%a9%e2%9c%a8-step-into-wonderland-at-mad-hatter-monday-%e2%9c%a8%f0%9f%8e%a9/2025-10-06/3/
LOCATION:Skateland Chandler\, 1101 W. Ray Rd.\, Chandler\, AZ\, 85224\, United States
CATEGORIES:Family Events,Public Skates,Special Events
ATTACH;FMTTYPE=image/png:https://unitedskates-assets.sfo3.digitaloceanspaces.com/wp-content/uploads/sites/19/2025/09/Screenshot-2025-09-16-122648.png
END:VEVENT
END:VCALENDAR