BEGIN:VCALENDAR
VERSION:2.0
PRODID:-//Rink 52 - Skateland Chandler - ECPv6.15.20//NONSGML v1.0//EN
CALSCALE:GREGORIAN
METHOD:PUBLISH
X-WR-CALNAME:Rink 52 - Skateland Chandler
X-ORIGINAL-URL:https://www.unitedskates.com/skateland-chandler
X-WR-CALDESC:Events for Rink 52 - Skateland Chandler
REFRESH-INTERVAL;VALUE=DURATION:PT1H
X-Robots-Tag:noindex
X-PUBLISHED-TTL:PT1H
BEGIN:VTIMEZONE
TZID:America/Phoenix
BEGIN:STANDARD
TZOFFSETFROM:-0700
TZOFFSETTO:-0700
TZNAME:MST
DTSTART:20240101T000000
END:STANDARD
END:VTIMEZONE
BEGIN:VEVENT
DTSTART;TZID=America/Phoenix:20250919T180000
DTEND;TZID=America/Phoenix:20251006T200000
DTSTAMP:20260420T100617
CREATED:20250815T134603Z
LAST-MODIFIED:20250815T134603Z
UID:15246-1758304800-1759780800@www.unitedskates.com
SUMMARY:Fall Break Skate Schedule
DESCRIPTION:2025 Fall Break Skate Schedule – School’s Out\, Time to Roll! \nGet ready for two weeks of non-stop skating fun this Fall Break! From September 19 through October 6\, we’re packing the rink with themed events\, glow parties\, character meet & greets\, family nights\, and more. \n🛼 Event Highlights: \n\n\nGlow Skates\, Themed Skates\, and Character Days featuring Mario\, Stitch\, Minions\, Sonic\, Toy Story\, Alien\, Grinch\, Nightmare Before Christmas\, and more! \n\n\nAffordable Family Nights with specials on food & glow products \n\n\nFun breakfasts\, brunches\, and dinners with your favorite characters \n\n\nAdult Nights for grown-up fun on the rink \n\n\n💲 Pricing: \n\n\nGeneral Admission: $12 (unless otherwise noted) \n\n\nSkate Rental: $4 \n\n\nSkate Mate Rental: $6 \n\n\nNon-Skating Spectators: $5 \n\n\n📍 Location: Skateland Chandler – 1101 W Ray Rd\, Chandler\, AZ \n🎟 Don’t miss a single day of Fall Break fun — get your tickets now! \nGet Tickets Here
URL:https://www.unitedskates.com/skateland-chandler/event/fall-break-skate-schedule/
LOCATION:Skateland Chandler\, 1101 W. Ray Rd.\, Chandler\, AZ\, 85224\, United States
CATEGORIES:Family Events,Public Skates,Special Events
ATTACH;FMTTYPE=image/jpeg:https://unitedskates-assets.sfo3.digitaloceanspaces.com/wp-content/uploads/sites/19/2025/08/52-Fall-Break-2025-18day.jpg
END:VEVENT
BEGIN:VEVENT
DTSTART;TZID=America/Phoenix:20250928T100000
DTEND;TZID=America/Phoenix:20250928T120000
DTSTAMP:20260420T100617
CREATED:20250814T231826Z
LAST-MODIFIED:20250814T231826Z
UID:15230-1759053600-1759060800@www.unitedskates.com
SUMMARY:🚀 Breakfast with Buzz Lightyear!🚀
DESCRIPTION:🚀 Breakfast with Buzz Lightyear at Skateland Chandler! 🚀📅 Sunday\, September 28th\, 2025🕙 10:00am – 12:00pm💲 $15 per guest \nBlast off into a morning of skating fun with Buzz Lightyear! This special breakfast event includes:✅ Admission✅ Skate Rental✅ A trip to the Waffle Bar✅ 1 Juice Pouch \nEnjoy Top Disney Hits and soundtrack favorites from the movies while you skate and meet Buzz! This is the perfect event for families with small children. \nImportant Event Details: \n\n\nThis is a special event — all guests entering the building pay full admission\, skating or non-skating. \n\n\nNo spectators allowed. \n\n\nAll guests must wear wristguards while skating\, regardless of ability. \n\n\nAll guests (skating or non-skating) must have a completed liability waiver within 24 hours of the event. \n\n\n📍 Skateland Chandler1101 W Ray Road\, Chandler\, AZ 85224📞 480-917-9444🌐 www.skatelandchandler.com \n✨ Don’t miss this galactic breakfast adventure — it’s going to be out of this world!
URL:https://www.unitedskates.com/skateland-chandler/event/%f0%9f%9a%80-breakfast-with-buzz-lightyear%f0%9f%9a%80/
LOCATION:Skateland Chandler\, 1101 W. Ray Rd.\, Chandler\, AZ\, 85224\, United States
CATEGORIES:Family Events,Public Skates,Special Events
ATTACH;FMTTYPE=image/png:https://unitedskates-assets.sfo3.digitaloceanspaces.com/wp-content/uploads/sites/19/2025/08/Screenshot-2025-08-14-161432.png
END:VEVENT
BEGIN:VEVENT
DTSTART;TZID=America/Phoenix:20250928T123000
DTEND;TZID=America/Phoenix:20250928T150000
DTSTAMP:20260420T100617
CREATED:20250126T150331Z
LAST-MODIFIED:20250814T233101Z
UID:14584-1759062600-1759071600@www.unitedskates.com
SUMMARY:🤠 Toy Story Sunday 🛼✨
DESCRIPTION:🤠 Toy Story Sunday at Skateland Chandler! 🛼✨📅 Sunday\, September 28th\, 2025 \nJoin Woody\, Buzz\, and the whole Toy Story crew for a day packed with skating fun\, music\, and photo ops! Dress up as your favorite character and skate along to Top 40 hits mixed with Disney favorites all session long. \n⏰ Session Times & Admission: \n\n\n12:30pm – 3:00pm – Glow Skate! $12 in person / $11 online \n\n\n3:30pm – 6:00pm – $12 in person / $11 online \n\n\n🎟 Purchase tickets online to save $1! \nAdditional Pricing: \n\n\nSkate Rental: $5.00 \n\n\nNon-Skating Parents: $4.00 \n\n\nSkate Mates: $6.00 \n\n\nSpecial Event Fun: \n\n\n📸 Photo ops with Buzz Lightyear & Friends \n\n\n🎭 Dress up as your favorite character \n\n\n🎶 Top 40 & Disney Hits all session \n\n\n📍 Skateland Chandler1101 W Ray Road\, Chandler\, AZ 85224📞 480-917-9444🌐 www.skatelandchandler.com \n⚠ Important Event Info: \n\n\nAll guests must wear wristguards while skating\, regardless of ability. \n\n\nAll guests entering the building (skating or non-skating) must have a completed liability waiver within 24 hours of the event. \n\n\nAll guests ages 3–17 pay full admission\, skating or non-skating. \n\n\n✨ This is your chance to bring your Toy Story adventure to life — round up your friends\, dress up\, and glow the day away!
URL:https://www.unitedskates.com/skateland-chandler/event/sunday-skate-party-at-skateland-chandler-%e2%9c%a8-2025-05-25-2025-09-28/
LOCATION:Skateland Chandler\, 1101 W. Ray Rd.\, Chandler\, AZ\, 85224\, United States
CATEGORIES:Family Events,Public Skates,Special Events
ATTACH;FMTTYPE=image/png:https://unitedskates-assets.sfo3.digitaloceanspaces.com/wp-content/uploads/sites/19/2025/01/Screenshot-2025-08-14-162627.png
END:VEVENT
BEGIN:VEVENT
DTSTART;TZID=America/Phoenix:20250928T153000
DTEND;TZID=America/Phoenix:20250928T180000
DTSTAMP:20260420T100617
CREATED:20241211T223756Z
LAST-MODIFIED:20250814T233226Z
UID:14626-1759073400-1759082400@www.unitedskates.com
SUMMARY:🤠 Toy Story Sunday 🛼✨
DESCRIPTION:🤠 Toy Story Sunday at Skateland Chandler! 🛼✨📅 Sunday\, September 28th\, 2025 \nJoin Woody\, Buzz\, and the whole Toy Story crew for a day packed with skating fun\, music\, and photo ops! Dress up as your favorite character and skate along to Top 40 hits mixed with Disney favorites all session long. \n⏰ Session Times & Admission: \n\n\n12:30pm – 3:00pm – Glow Skate! $12 in person / $11 online \n\n\n3:30pm – 6:00pm – $12 in person / $11 online \n\n\n🎟 Purchase tickets online to save $1! \nAdditional Pricing: \n\n\nSkate Rental: $5.00 \n\n\nNon-Skating Parents: $4.00 \n\n\nSkate Mates: $6.00 \n\n\nSpecial Event Fun: \n\n\n📸 Photo ops with Buzz Lightyear & Friends \n\n\n🎭 Dress up as your favorite character \n\n\n🎶 Top 40 & Disney Hits all session \n\n\n📍 Skateland Chandler1101 W Ray Road\, Chandler\, AZ 85224📞 480-917-9444🌐 www.skatelandchandler.com \n⚠ Important Event Info: \n\n\nAll guests must wear wristguards while skating\, regardless of ability. \n\n\nAll guests entering the building (skating or non-skating) must have a completed liability waiver within 24 hours of the event. \n\n\nAll guests ages 3–17 pay full admission\, skating or non-skating. \n\n\n✨ This is your chance to bring your Toy Story adventure to life — round up your friends\, dress up\, and glow the day away!
URL:https://www.unitedskates.com/skateland-chandler/event/%e2%9c%a8-sunday-fun-day-skate-party-at-skateland-chandler-%e2%9c%a8-2025-05-25-2025-09-28/
LOCATION:Skateland Chandler\, 1101 W. Ray Rd.\, Chandler\, AZ\, 85224\, United States
CATEGORIES:Family Events,Public Skates,Special Events
ATTACH;FMTTYPE=image/png:https://unitedskates-assets.sfo3.digitaloceanspaces.com/wp-content/uploads/sites/19/2025/01/Screenshot-2025-08-14-162627.png
END:VEVENT
END:VCALENDAR