BEGIN:VCALENDAR
VERSION:2.0
PRODID:-//Rink 52 - Skateland Chandler - ECPv6.15.20//NONSGML v1.0//EN
CALSCALE:GREGORIAN
METHOD:PUBLISH
X-WR-CALNAME:Rink 52 - Skateland Chandler
X-ORIGINAL-URL:https://www.unitedskates.com/skateland-chandler
X-WR-CALDESC:Events for Rink 52 - Skateland Chandler
REFRESH-INTERVAL;VALUE=DURATION:PT1H
X-Robots-Tag:noindex
X-PUBLISHED-TTL:PT1H
BEGIN:VTIMEZONE
TZID:America/Phoenix
BEGIN:STANDARD
TZOFFSETFROM:-0700
TZOFFSETTO:-0700
TZNAME:MST
DTSTART:20240101T000000
END:STANDARD
END:VTIMEZONE
BEGIN:VEVENT
DTSTART;TZID=America/Phoenix:20250919T180000
DTEND;TZID=America/Phoenix:20251006T200000
DTSTAMP:20260420T132242
CREATED:20250815T134603Z
LAST-MODIFIED:20250815T134603Z
UID:15246-1758304800-1759780800@www.unitedskates.com
SUMMARY:Fall Break Skate Schedule
DESCRIPTION:2025 Fall Break Skate Schedule – School’s Out\, Time to Roll! \nGet ready for two weeks of non-stop skating fun this Fall Break! From September 19 through October 6\, we’re packing the rink with themed events\, glow parties\, character meet & greets\, family nights\, and more. \n🛼 Event Highlights: \n\n\nGlow Skates\, Themed Skates\, and Character Days featuring Mario\, Stitch\, Minions\, Sonic\, Toy Story\, Alien\, Grinch\, Nightmare Before Christmas\, and more! \n\n\nAffordable Family Nights with specials on food & glow products \n\n\nFun breakfasts\, brunches\, and dinners with your favorite characters \n\n\nAdult Nights for grown-up fun on the rink \n\n\n💲 Pricing: \n\n\nGeneral Admission: $12 (unless otherwise noted) \n\n\nSkate Rental: $4 \n\n\nSkate Mate Rental: $6 \n\n\nNon-Skating Spectators: $5 \n\n\n📍 Location: Skateland Chandler – 1101 W Ray Rd\, Chandler\, AZ \n🎟 Don’t miss a single day of Fall Break fun — get your tickets now! \nGet Tickets Here
URL:https://www.unitedskates.com/skateland-chandler/event/fall-break-skate-schedule/
LOCATION:Skateland Chandler\, 1101 W. Ray Rd.\, Chandler\, AZ\, 85224\, United States
CATEGORIES:Family Events,Public Skates,Special Events
ATTACH;FMTTYPE=image/jpeg:https://unitedskates-assets.sfo3.digitaloceanspaces.com/wp-content/uploads/sites/19/2025/08/52-Fall-Break-2025-18day.jpg
END:VEVENT
BEGIN:VEVENT
DTSTART;TZID=America/Phoenix:20250926T113000
DTEND;TZID=America/Phoenix:20250926T140000
DTSTAMP:20260420T132242
CREATED:20250812T204923Z
LAST-MODIFIED:20250812T204923Z
UID:15216-1758886200-1758895200@www.unitedskates.com
SUMMARY:🌈🛼 Inside Out Day at Skateland Chandler! 🛼🌈
DESCRIPTION:Step into a world of color and fun for Inside Out Day — music\, photo ops\, costumes\, trivia\, and glow skates that the whole family will love! \nWhat’s happening \n\n\n🎶 Skate to the Inside Out movie soundtrack + the best Disney hits \n\n\n📸 Backdrop photo ops for memories \n\n\n👗 Character costume contest — come in your brightest emotions! \n\n\n🧠 Inside Out trivia with prizes \n\n\n📅 Friday\, September 26th \nSession Times & Admission⏰ 11:30 AM – 2:00 PM — $12 admission⏰ 2:30 PM – 5:00 PM — Half-Priced! $6 admission — (Glow Skate)⏰ 6:00 PM – 9:00 PM  — $14 online / $13 in person — (Glow Skate): includes glow stick necklace \nExtras \n\n\nSkate Rental: $5 \n\n\nSkate Mates: $6 \n\n\nNon-Skating Parents: $4 \n\n\nLocation & ContactSkateland Chandler — 1101 W Ray Rd\, Chandler\, AZ 85224☎️ 480-917-9444 • 🌐 www.SkatelandChandler.com \n\nImportant — Please Read✅ Wristguards are required for all skaters\, regardless of ability.✅ All guests (skating or non-skating) must have a completed liability waiver within 24 hours of the event.
URL:https://www.unitedskates.com/skateland-chandler/event/%f0%9f%8c%88%f0%9f%9b%bc-inside-out-day-at-skateland-chandler-%f0%9f%9b%bc%f0%9f%8c%88/
LOCATION:Skateland Chandler\, 1101 W. Ray Rd.\, Chandler\, AZ\, 85224\, United States
CATEGORIES:Family Events,Public Skates,Special Events
ATTACH;FMTTYPE=image/png:https://unitedskates-assets.sfo3.digitaloceanspaces.com/wp-content/uploads/sites/19/2025/08/Screenshot-2025-08-12-133440.png
END:VEVENT
BEGIN:VEVENT
DTSTART;TZID=America/Phoenix:20250926T143000
DTEND;TZID=America/Phoenix:20250926T170000
DTSTAMP:20260420T132242
CREATED:20250812T204923Z
LAST-MODIFIED:20250812T204923Z
UID:15218-1758897000-1758906000@www.unitedskates.com
SUMMARY:🌈🛼 Inside Out Day at Skateland Chandler! 🛼🌈
DESCRIPTION:Step into a world of color and fun for Inside Out Day — music\, photo ops\, costumes\, trivia\, and glow skates that the whole family will love! \nWhat’s happening \n\n\n🎶 Skate to the Inside Out movie soundtrack + the best Disney hits \n\n\n📸 Backdrop photo ops for memories \n\n\n👗 Character costume contest — come in your brightest emotions! \n\n\n🧠 Inside Out trivia with prizes \n\n\n📅 Friday\, September 26th \nSession Times & Admission⏰ 11:30 AM – 2:00 PM — $12 admission⏰ 2:30 PM – 5:00 PM — Half-Priced! $6 admission — (Glow Skate)⏰ 6:00 PM – 9:00 PM  — $14 online / $13 in person — (Glow Skate): includes glow stick necklace \nExtras \n\n\nSkate Rental: $5 \n\n\nSkate Mates: $6 \n\n\nNon-Skating Parents: $4 \n\n\nLocation & ContactSkateland Chandler — 1101 W Ray Rd\, Chandler\, AZ 85224☎️ 480-917-9444 • 🌐 www.SkatelandChandler.com \n\nImportant — Please Read✅ Wristguards are required for all skaters\, regardless of ability.✅ All guests (skating or non-skating) must have a completed liability waiver within 24 hours of the event.
URL:https://www.unitedskates.com/skateland-chandler/event/%f0%9f%8c%88%f0%9f%9b%bc-inside-out-day-at-skateland-chandler-%f0%9f%9b%bc%f0%9f%8c%88/2025-09-26/2/
LOCATION:Skateland Chandler\, 1101 W. Ray Rd.\, Chandler\, AZ\, 85224\, United States
CATEGORIES:Family Events,Public Skates,Special Events
ATTACH;FMTTYPE=image/png:https://unitedskates-assets.sfo3.digitaloceanspaces.com/wp-content/uploads/sites/19/2025/08/Screenshot-2025-08-12-133440.png
END:VEVENT
BEGIN:VEVENT
DTSTART;TZID=America/Phoenix:20250926T180000
DTEND;TZID=America/Phoenix:20250926T210000
DTSTAMP:20260420T132242
CREATED:20250812T204923Z
LAST-MODIFIED:20250812T204923Z
UID:15219-1758909600-1758920400@www.unitedskates.com
SUMMARY:🌈🛼 Inside Out Day at Skateland Chandler! 🛼🌈
DESCRIPTION:Step into a world of color and fun for Inside Out Day — music\, photo ops\, costumes\, trivia\, and glow skates that the whole family will love! \nWhat’s happening \n\n\n🎶 Skate to the Inside Out movie soundtrack + the best Disney hits \n\n\n📸 Backdrop photo ops for memories \n\n\n👗 Character costume contest — come in your brightest emotions! \n\n\n🧠 Inside Out trivia with prizes \n\n\n📅 Friday\, September 26th \nSession Times & Admission⏰ 11:30 AM – 2:00 PM — $12 admission⏰ 2:30 PM – 5:00 PM — Half-Priced! $6 admission — (Glow Skate)⏰ 6:00 PM – 9:00 PM  — $14 online / $13 in person — (Glow Skate): includes glow stick necklace \nExtras \n\n\nSkate Rental: $5 \n\n\nSkate Mates: $6 \n\n\nNon-Skating Parents: $4 \n\n\nLocation & ContactSkateland Chandler — 1101 W Ray Rd\, Chandler\, AZ 85224☎️ 480-917-9444 • 🌐 www.SkatelandChandler.com \n\nImportant — Please Read✅ Wristguards are required for all skaters\, regardless of ability.✅ All guests (skating or non-skating) must have a completed liability waiver within 24 hours of the event.
URL:https://www.unitedskates.com/skateland-chandler/event/%f0%9f%8c%88%f0%9f%9b%bc-inside-out-day-at-skateland-chandler-%f0%9f%9b%bc%f0%9f%8c%88/2025-09-26/3/
LOCATION:Skateland Chandler\, 1101 W. Ray Rd.\, Chandler\, AZ\, 85224\, United States
CATEGORIES:Family Events,Public Skates,Special Events
ATTACH;FMTTYPE=image/png:https://unitedskates-assets.sfo3.digitaloceanspaces.com/wp-content/uploads/sites/19/2025/08/Screenshot-2025-08-12-133440.png
END:VEVENT
END:VCALENDAR