BEGIN:VCALENDAR
VERSION:2.0
PRODID:-//Rink 52 - Skateland Chandler - ECPv6.15.20//NONSGML v1.0//EN
CALSCALE:GREGORIAN
METHOD:PUBLISH
X-ORIGINAL-URL:https://www.unitedskates.com/skateland-chandler
X-WR-CALDESC:Events for Rink 52 - Skateland Chandler
REFRESH-INTERVAL;VALUE=DURATION:PT1H
X-Robots-Tag:noindex
X-PUBLISHED-TTL:PT1H
BEGIN:VTIMEZONE
TZID:America/Phoenix
BEGIN:STANDARD
TZOFFSETFROM:-0700
TZOFFSETTO:-0700
TZNAME:MST
DTSTART:20240101T000000
END:STANDARD
END:VTIMEZONE
BEGIN:VEVENT
DTSTART;TZID=America/Phoenix:20250919T180000
DTEND;TZID=America/Phoenix:20251006T200000
DTSTAMP:20260425T212016
CREATED:20250815T134603Z
LAST-MODIFIED:20250815T134603Z
UID:15246-1758304800-1759780800@www.unitedskates.com
SUMMARY:Fall Break Skate Schedule
DESCRIPTION:2025 Fall Break Skate Schedule – School’s Out\, Time to Roll! \nGet ready for two weeks of non-stop skating fun this Fall Break! From September 19 through October 6\, we’re packing the rink with themed events\, glow parties\, character meet & greets\, family nights\, and more. \n🛼 Event Highlights: \n\n\nGlow Skates\, Themed Skates\, and Character Days featuring Mario\, Stitch\, Minions\, Sonic\, Toy Story\, Alien\, Grinch\, Nightmare Before Christmas\, and more! \n\n\nAffordable Family Nights with specials on food & glow products \n\n\nFun breakfasts\, brunches\, and dinners with your favorite characters \n\n\nAdult Nights for grown-up fun on the rink \n\n\n💲 Pricing: \n\n\nGeneral Admission: $12 (unless otherwise noted) \n\n\nSkate Rental: $4 \n\n\nSkate Mate Rental: $6 \n\n\nNon-Skating Spectators: $5 \n\n\n📍 Location: Skateland Chandler – 1101 W Ray Rd\, Chandler\, AZ \n🎟 Don’t miss a single day of Fall Break fun — get your tickets now! \nGet Tickets Here
URL:https://www.unitedskates.com/skateland-chandler/event/fall-break-skate-schedule/
LOCATION:Skateland Chandler\, 1101 W. Ray Rd.\, Chandler\, AZ\, 85224\, United States
CATEGORIES:Family Events,Public Skates,Special Events
ATTACH;FMTTYPE=image/jpeg:https://unitedskates-assets.sfo3.digitaloceanspaces.com/wp-content/uploads/sites/19/2025/08/52-Fall-Break-2025-18day.jpg
END:VEVENT
BEGIN:VEVENT
DTSTART;TZID=America/Phoenix:20250924T113000
DTEND;TZID=America/Phoenix:20250924T140000
DTSTAMP:20260425T212016
CREATED:20250812T191025Z
LAST-MODIFIED:20250812T191025Z
UID:15204-1758713400-1758722400@www.unitedskates.com
SUMMARY:🩵🌺 Stitch’s ½ Priced Wednesday at Skateland Chandler! 🌺🩵
DESCRIPTION:Get ready for an out-of-this-world skating day with Stitch! Join us on Wednesday\, September 24th\, 2025 for two sessions of skating\, games\, music\, and glow fun — all at special mid-week prices. \n🕒 Choose Your Session:⏰ 11:30 AM – 2:00 PM⏰ 2:30 PM – 5:00 PM (Glow Skate) \n🎟 Admission: $6.00👟 Skate Rental: $5.00 \n💲 Special ½ Price Deals:✨ Skate Mates – ½ Price✨ Game Cards – ½ Price👨‍👩‍👧 Adult Spectators – Just $4.00 \n🎉 Extra Fun:⭐ Meet Stitch in person!💡 Glow Specials to light up the rink🎶 Skating to the best Disney & Top 40 hits☕ Delicious café specials to keep you fueled \n📍 Skateland Chandler1101 W Ray Rd\, Chandler\, AZ 85224📱 480-917-9444 • 🌐 www.SkatelandChandler.com \n\nAdditional Information:✅ Wristguards are required for all skaters\, regardless of skating ability.✅ Every guest — skating or non-skating — must have a completed liability waiver within 24 hours of the event.
URL:https://www.unitedskates.com/skateland-chandler/event/%f0%9f%a9%b5%f0%9f%8c%ba-stitchs-%c2%bd-priced-wednesday-at-skateland-chandler-%f0%9f%8c%ba%f0%9f%a9%b5/
LOCATION:Skateland Chandler\, 1101 W. Ray Rd.\, Chandler\, AZ\, 85224\, United States
CATEGORIES:Family Events,Public Skates,Special Events
ATTACH;FMTTYPE=image/png:https://unitedskates-assets.sfo3.digitaloceanspaces.com/wp-content/uploads/sites/19/2025/08/Screenshot-2025-08-11-175845.png
END:VEVENT
BEGIN:VEVENT
DTSTART;TZID=America/Phoenix:20250924T143000
DTEND;TZID=America/Phoenix:20250924T170000
DTSTAMP:20260425T212016
CREATED:20250812T191025Z
LAST-MODIFIED:20250812T191025Z
UID:15206-1758724200-1758733200@www.unitedskates.com
SUMMARY:🩵🌺 Stitch’s ½ Priced Wednesday at Skateland Chandler! 🌺🩵
DESCRIPTION:Get ready for an out-of-this-world skating day with Stitch! Join us on Wednesday\, September 24th\, 2025 for two sessions of skating\, games\, music\, and glow fun — all at special mid-week prices. \n🕒 Choose Your Session:⏰ 11:30 AM – 2:00 PM⏰ 2:30 PM – 5:00 PM (Glow Skate) \n🎟 Admission: $6.00👟 Skate Rental: $5.00 \n💲 Special ½ Price Deals:✨ Skate Mates – ½ Price✨ Game Cards – ½ Price👨‍👩‍👧 Adult Spectators – Just $4.00 \n🎉 Extra Fun:⭐ Meet Stitch in person!💡 Glow Specials to light up the rink🎶 Skating to the best Disney & Top 40 hits☕ Delicious café specials to keep you fueled \n📍 Skateland Chandler1101 W Ray Rd\, Chandler\, AZ 85224📱 480-917-9444 • 🌐 www.SkatelandChandler.com \n\nAdditional Information:✅ Wristguards are required for all skaters\, regardless of skating ability.✅ Every guest — skating or non-skating — must have a completed liability waiver within 24 hours of the event.
URL:https://www.unitedskates.com/skateland-chandler/event/%f0%9f%a9%b5%f0%9f%8c%ba-stitchs-%c2%bd-priced-wednesday-at-skateland-chandler-%f0%9f%8c%ba%f0%9f%a9%b5/2025-09-24/2/
LOCATION:Skateland Chandler\, 1101 W. Ray Rd.\, Chandler\, AZ\, 85224\, United States
CATEGORIES:Family Events,Public Skates,Special Events
ATTACH;FMTTYPE=image/png:https://unitedskates-assets.sfo3.digitaloceanspaces.com/wp-content/uploads/sites/19/2025/08/Screenshot-2025-08-11-175845.png
END:VEVENT
BEGIN:VEVENT
DTSTART;TZID=America/Phoenix:20250924T173000
DTEND;TZID=America/Phoenix:20250924T200000
DTSTAMP:20260425T212016
CREATED:20250712T232517Z
LAST-MODIFIED:20250812T194151Z
UID:15040-1758735000-1758744000@www.unitedskates.com
SUMMARY:🌺💙 Skate and Dine with Stitch at Skateland Chandler! 💙🌺
DESCRIPTION:Join us for a magical Disney Hits Party featuring everyone’s favorite blue alien — Stitch!Mark your calendars for Wednesday\, September 24th from 5:30 PM – 8:00 PM and enjoy an evening of skating\, music\, food\, and fun. \n🎟 Admission: $15 — Includes:🛼 Skate Rental🍕 1 Slice of Cheese Pizza🥤 1 Small Drink \n🎉 Special Perks:✨ Meet & Skate with Stitch!✨ Skate to your favorite Disney hits and Top 40 songs✨ A perfect family night out with dinner included \n📍 Skateland Chandler1101 W Ray Rd\, Chandler\, AZ 85224📱 480-917-9444 • 🌐 www.SkatelandChandler.com \n\nImportant Details:🚫 No spectators — everyone pays full admission.🚫 No free passes accepted.✅ Wristguards are required for all skaters\, regardless of skating ability.✅ Every guest — skating or non-skating — must have a completed liability waiver within 24 hours of the event. \n\nIf you’d like\, I can now make a short\, high-energy social media version to really make Stitch’s dinner night pop on Facebook and Instagram feeds. That version would be perfect for grabbing attention at first glance. \n✨
URL:https://www.unitedskates.com/skateland-chandler/event/free-dinner-night-skate-3-2025-09-24/
LOCATION:Skateland Chandler\, 1101 W. Ray Rd.\, Chandler\, AZ\, 85224\, United States
CATEGORIES:Family Events,Public Skates,Special Events
ATTACH;FMTTYPE=image/png:https://unitedskates-assets.sfo3.digitaloceanspaces.com/wp-content/uploads/sites/19/2025/07/Screenshot-2025-08-11-181231.png
END:VEVENT
END:VCALENDAR