BEGIN:VCALENDAR
VERSION:2.0
PRODID:-//Rink 52 - Skateland Chandler - ECPv6.15.20//NONSGML v1.0//EN
CALSCALE:GREGORIAN
METHOD:PUBLISH
X-WR-CALNAME:Rink 52 - Skateland Chandler
X-ORIGINAL-URL:https://www.unitedskates.com/skateland-chandler
X-WR-CALDESC:Events for Rink 52 - Skateland Chandler
REFRESH-INTERVAL;VALUE=DURATION:PT1H
X-Robots-Tag:noindex
X-PUBLISHED-TTL:PT1H
BEGIN:VTIMEZONE
TZID:America/Phoenix
BEGIN:STANDARD
TZOFFSETFROM:-0700
TZOFFSETTO:-0700
TZNAME:MST
DTSTART:20240101T000000
END:STANDARD
END:VTIMEZONE
BEGIN:VEVENT
DTSTART;TZID=America/Phoenix:20250919T180000
DTEND;TZID=America/Phoenix:20251006T200000
DTSTAMP:20260425T200958
CREATED:20250815T134603Z
LAST-MODIFIED:20250815T134603Z
UID:15246-1758304800-1759780800@www.unitedskates.com
SUMMARY:Fall Break Skate Schedule
DESCRIPTION:2025 Fall Break Skate Schedule – School’s Out\, Time to Roll! \nGet ready for two weeks of non-stop skating fun this Fall Break! From September 19 through October 6\, we’re packing the rink with themed events\, glow parties\, character meet & greets\, family nights\, and more. \n🛼 Event Highlights: \n\n\nGlow Skates\, Themed Skates\, and Character Days featuring Mario\, Stitch\, Minions\, Sonic\, Toy Story\, Alien\, Grinch\, Nightmare Before Christmas\, and more! \n\n\nAffordable Family Nights with specials on food & glow products \n\n\nFun breakfasts\, brunches\, and dinners with your favorite characters \n\n\nAdult Nights for grown-up fun on the rink \n\n\n💲 Pricing: \n\n\nGeneral Admission: $12 (unless otherwise noted) \n\n\nSkate Rental: $4 \n\n\nSkate Mate Rental: $6 \n\n\nNon-Skating Spectators: $5 \n\n\n📍 Location: Skateland Chandler – 1101 W Ray Rd\, Chandler\, AZ \n🎟 Don’t miss a single day of Fall Break fun — get your tickets now! \nGet Tickets Here
URL:https://www.unitedskates.com/skateland-chandler/event/fall-break-skate-schedule/
LOCATION:Skateland Chandler\, 1101 W. Ray Rd.\, Chandler\, AZ\, 85224\, United States
CATEGORIES:Family Events,Public Skates,Special Events
ATTACH;FMTTYPE=image/jpeg:https://unitedskates-assets.sfo3.digitaloceanspaces.com/wp-content/uploads/sites/19/2025/08/52-Fall-Break-2025-18day.jpg
END:VEVENT
BEGIN:VEVENT
DTSTART;TZID=America/Phoenix:20250923T113000
DTEND;TZID=America/Phoenix:20250923T140000
DTSTAMP:20260425T200958
CREATED:20250811T233541Z
LAST-MODIFIED:20250811T233541Z
UID:15199-1758627000-1758636000@www.unitedskates.com
SUMMARY:🍄🎮 Mario’s Game Day at Skateland Chandler! 🎮🍄
DESCRIPTION:Get ready to level up your fun on Tuesday\, September 23rd at Skateland Chandler! It’s Mario’s Game Day — where skating\, games\, and a special guest appearance make for an unforgettable day. \n🎯 Choose Your Session:🕛 11:30 AM – 2:00 PM🕞 2:30 PM – 5:00 PM (Glow Skate)🕠 5:30 PM – 7:30 PM \n🎟 Admission: $12.00✅ Includes a $5 Game Card✅ Plus ½ Price Credits on Select Games for 1 Hour🎉 Special Bonus: Meet & Greet with Mario himself! \n💲 Extras:👟 Skate Rental: $5.00🛼 Skate Mates: $6.00👨‍👩‍👧 Non-Skating Parents: $4.00 \n📍 Skateland Chandler1101 W Ray Road\, Chandler\, AZ 85224📱 480-917-9444 • 🌐 www.skatelandchandler.com \n\nAdditional Information:✅ Wristguards are required for all skaters\, regardless of skating ability.✅ Every guest — skating or non-skating — must have a completed liability waiver within 24 hours of the event.
URL:https://www.unitedskates.com/skateland-chandler/event/%f0%9f%8d%84%f0%9f%8e%ae-marios-game-day-at-skateland-chandler-%f0%9f%8e%ae%f0%9f%8d%84/
LOCATION:Skateland Chandler\, 1101 W. Ray Rd.\, Chandler\, AZ\, 85224\, United States
CATEGORIES:Family Events,Public Skates,Special Events
ATTACH;FMTTYPE=image/png:https://unitedskates-assets.sfo3.digitaloceanspaces.com/wp-content/uploads/sites/19/2025/08/Screenshot-2025-08-11-162558.png
END:VEVENT
BEGIN:VEVENT
DTSTART;TZID=America/Phoenix:20250923T143000
DTEND;TZID=America/Phoenix:20250923T170000
DTSTAMP:20260425T200958
CREATED:20250811T233541Z
LAST-MODIFIED:20250811T233541Z
UID:15201-1758637800-1758646800@www.unitedskates.com
SUMMARY:🍄🎮 Mario’s Game Day at Skateland Chandler! 🎮🍄
DESCRIPTION:Get ready to level up your fun on Tuesday\, September 23rd at Skateland Chandler! It’s Mario’s Game Day — where skating\, games\, and a special guest appearance make for an unforgettable day. \n🎯 Choose Your Session:🕛 11:30 AM – 2:00 PM🕞 2:30 PM – 5:00 PM (Glow Skate)🕠 5:30 PM – 7:30 PM \n🎟 Admission: $12.00✅ Includes a $5 Game Card✅ Plus ½ Price Credits on Select Games for 1 Hour🎉 Special Bonus: Meet & Greet with Mario himself! \n💲 Extras:👟 Skate Rental: $5.00🛼 Skate Mates: $6.00👨‍👩‍👧 Non-Skating Parents: $4.00 \n📍 Skateland Chandler1101 W Ray Road\, Chandler\, AZ 85224📱 480-917-9444 • 🌐 www.skatelandchandler.com \n\nAdditional Information:✅ Wristguards are required for all skaters\, regardless of skating ability.✅ Every guest — skating or non-skating — must have a completed liability waiver within 24 hours of the event.
URL:https://www.unitedskates.com/skateland-chandler/event/%f0%9f%8d%84%f0%9f%8e%ae-marios-game-day-at-skateland-chandler-%f0%9f%8e%ae%f0%9f%8d%84/2025-09-23/2/
LOCATION:Skateland Chandler\, 1101 W. Ray Rd.\, Chandler\, AZ\, 85224\, United States
CATEGORIES:Family Events,Public Skates,Special Events
ATTACH;FMTTYPE=image/png:https://unitedskates-assets.sfo3.digitaloceanspaces.com/wp-content/uploads/sites/19/2025/08/Screenshot-2025-08-11-162558.png
END:VEVENT
BEGIN:VEVENT
DTSTART;TZID=America/Phoenix:20250923T173000
DTEND;TZID=America/Phoenix:20250923T193000
DTSTAMP:20260425T200958
CREATED:20250811T233541Z
LAST-MODIFIED:20250811T233541Z
UID:15202-1758648600-1758655800@www.unitedskates.com
SUMMARY:🍄🎮 Mario’s Game Day at Skateland Chandler! 🎮🍄
DESCRIPTION:Get ready to level up your fun on Tuesday\, September 23rd at Skateland Chandler! It’s Mario’s Game Day — where skating\, games\, and a special guest appearance make for an unforgettable day. \n🎯 Choose Your Session:🕛 11:30 AM – 2:00 PM🕞 2:30 PM – 5:00 PM (Glow Skate)🕠 5:30 PM – 7:30 PM \n🎟 Admission: $12.00✅ Includes a $5 Game Card✅ Plus ½ Price Credits on Select Games for 1 Hour🎉 Special Bonus: Meet & Greet with Mario himself! \n💲 Extras:👟 Skate Rental: $5.00🛼 Skate Mates: $6.00👨‍👩‍👧 Non-Skating Parents: $4.00 \n📍 Skateland Chandler1101 W Ray Road\, Chandler\, AZ 85224📱 480-917-9444 • 🌐 www.skatelandchandler.com \n\nAdditional Information:✅ Wristguards are required for all skaters\, regardless of skating ability.✅ Every guest — skating or non-skating — must have a completed liability waiver within 24 hours of the event.
URL:https://www.unitedskates.com/skateland-chandler/event/%f0%9f%8d%84%f0%9f%8e%ae-marios-game-day-at-skateland-chandler-%f0%9f%8e%ae%f0%9f%8d%84/2025-09-23/3/
LOCATION:Skateland Chandler\, 1101 W. Ray Rd.\, Chandler\, AZ\, 85224\, United States
CATEGORIES:Family Events,Public Skates,Special Events
ATTACH;FMTTYPE=image/png:https://unitedskates-assets.sfo3.digitaloceanspaces.com/wp-content/uploads/sites/19/2025/08/Screenshot-2025-08-11-162558.png
END:VEVENT
END:VCALENDAR