BEGIN:VCALENDAR
VERSION:2.0
PRODID:-//Rink 52 - Skateland Chandler - ECPv6.15.20//NONSGML v1.0//EN
CALSCALE:GREGORIAN
METHOD:PUBLISH
X-WR-CALNAME:Rink 52 - Skateland Chandler
X-ORIGINAL-URL:https://www.unitedskates.com/skateland-chandler
X-WR-CALDESC:Events for Rink 52 - Skateland Chandler
REFRESH-INTERVAL;VALUE=DURATION:PT1H
X-Robots-Tag:noindex
X-PUBLISHED-TTL:PT1H
BEGIN:VTIMEZONE
TZID:America/Phoenix
BEGIN:STANDARD
TZOFFSETFROM:-0700
TZOFFSETTO:-0700
TZNAME:MST
DTSTART:20240101T000000
END:STANDARD
END:VTIMEZONE
BEGIN:VEVENT
DTSTART;TZID=America/Phoenix:20250829T180000
DTEND;TZID=America/Phoenix:20250901T200000
DTSTAMP:20260420T203746
CREATED:20250808T182714Z
LAST-MODIFIED:20250808T182714Z
UID:15186-1756490400-1756756800@www.unitedskates.com
SUMMARY:Labor Day Weekend
DESCRIPTION:Labor Day Weekend Skate Pass – Just $60!\nGet ready to roll into the long weekend with this epic all-in-one deal! \nThis $105 value includes:🛼 4 Admissions🛼 4 Skate Rentals🎮 1 Game Card with $20 Credit🍕 1 Whole Cheese Pizza🥤 1 Pitcher of Soda \nAll for only $60.00! \n📅 Valid August 29 – September 1 \nRestrictions apply. Valid only during family public skating sessions. \nGet Tickets Here
URL:https://www.unitedskates.com/skateland-chandler/event/labor-day-weekend/
LOCATION:Skateland Chandler\, 1101 W. Ray Rd.\, Chandler\, AZ\, 85224\, United States
CATEGORIES:Family Events,Public Skates,Special Events
ATTACH;FMTTYPE=image/jpeg:https://unitedskates-assets.sfo3.digitaloceanspaces.com/wp-content/uploads/sites/19/2025/08/52-Labor-Day-Weekend-Pass.jpg
END:VEVENT
BEGIN:VEVENT
DTSTART;TZID=America/Phoenix:20250831T100000
DTEND;TZID=America/Phoenix:20250831T120000
DTSTAMP:20260420T203746
CREATED:20250815T204305Z
LAST-MODIFIED:20250815T204305Z
UID:15251-1756634400-1756641600@www.unitedskates.com
SUMMARY: Labor Day Weekend at Skateland Chandler! 
DESCRIPTION: Roll Into Fun This Labor Day Weekend at Skateland Chandler!  \nGet ready for a weekend packed with skating\, music\, and glowing good times! From Friday\, August 29 through Monday\, September 1\, Skateland Chandler is the place to be for unforgettable holiday fun. Whether you’re a pro on wheels or just here for the vibes\, we’ve got a session for you! \n Weekend Lineup: \nFriday\, Aug 29\n 6:00–9:00 PM – K-Pop Demon Hunters Glow Skate\n $14 In Person / $13 Online \nSaturday\, Aug 30\n 10:00 AM–12:00 PM – Public Skate – $12 In Person / $11 Online\n 12:30–3:00 PM – Public Skate – $12 In Person / $11 Online\n 3:30–6:00 PM – Public Skate – $12 In Person / $11 Online\n 6:30–9:00 PM – Public Glow Skate – $14 In Person / $13 Online \nSunday\, Aug 31\n 10:00 AM–12:00 PM – Early Bird Public Skate – $6\n 12:30–3:00 PM – Public Glow Skate – $6\n 3:30–6:00 PM – Public Skate – $6 \nMonday\, Sept 1 – Labor Day\n 12:00–5:00 PM – Public Glow Skate – $14\n 5:30–8:00 PM – Affordable Family Night – $7 \n Extras & Amenities: \n\nSkate Rental: $5.00\nSkate Mates: $6.00\nNon-Skating Adults: $4.00\nCafé Specials available all weekend! \n\n Location: 1101 W Ray Rd\, Chandler\, AZ 85224\n 480-917-9444\n www.SkatelandChandler.com \n\nImportant Guest Info:\n All guests must wear wristguards\, regardless of skating ability.\n All guests entering the building — skating or not — must have a completed liability waiver within 24 hours of the event.\n All guests ages 3–17 pay full admission price\, whether skating or not. \n Mark your calendars\, grab your friends\, and let’s roll into Labor Day with music\, lights\, and nonstop fun at Skateland Chandler!
URL:https://www.unitedskates.com/skateland-chandler/event/labor-day-weekend-at-skateland-chandler/2025-08-31/
LOCATION:Skateland Chandler\, 1101 W. Ray Rd.\, Chandler\, AZ\, 85224\, United States
CATEGORIES:Family Events,Public Skates,Special Events
ATTACH;FMTTYPE=image/png:https://unitedskates-assets.sfo3.digitaloceanspaces.com/wp-content/uploads/sites/19/2025/08/Screenshot-2025-08-15-133738.png
END:VEVENT
BEGIN:VEVENT
DTSTART;TZID=America/Phoenix:20250831T123000
DTEND;TZID=America/Phoenix:20250831T150000
DTSTAMP:20260420T203746
CREATED:20250724T175327Z
LAST-MODIFIED:20250724T175327Z
UID:15127-1756643400-1756652400@www.unitedskates.com
SUMMARY:1/2 Price Sundays July & August
DESCRIPTION:Sunday Skate Party at Skateland Chandler! ✨ \nJoin us for a fun-filled Sunday afternoon at Skateland Chandler from   12:30 PM – 3:00 PM! Get your skates on and groove to the best Top 40 hits. Perfect for friends\, family\, and anyone looking to enjoy a great time on wheels! \n📍 Location: 1101 West Ray Blvd\, Chandler\, AZ 85224\n📞 Contact: 480-917-9444\n🎉 Admission: $6 Admission (Reg $12 admission)\n🛼 Skate Rental: $5\nBring your own skates or rent ours! \n✨ Birthday Parties Available! ✨\nCelebrate your special day with us — let us make it unforgettable! \nImportant Info: \n\nChildren (ages 3-17) must pay admission and skate rental (or bring their own skates).\nNon-skating adults (spectators) are $4.\nAll Guests are required to sign a waiver\, available at skatelandchandler.com.\n\nAll prices exclude tax. \nCome have fun\, skate\, and make memories at Skateland Chandler!
URL:https://www.unitedskates.com/skateland-chandler/event/1-2-price-sundays-july-august/2025-08-31/
LOCATION:Skateland Chandler\, 1101 W. Ray Rd.\, Chandler\, AZ\, 85224\, United States
CATEGORIES:Family Events,Public Skates
ATTACH;FMTTYPE=image/jpeg:https://unitedskates-assets.sfo3.digitaloceanspaces.com/wp-content/uploads/sites/19/2025/07/52-Half-Price-Sunday-Skate-N-Play.jpg
END:VEVENT
BEGIN:VEVENT
DTSTART;TZID=America/Phoenix:20250831T153000
DTEND;TZID=America/Phoenix:20250831T180000
DTSTAMP:20260420T203746
CREATED:20250724T175637Z
LAST-MODIFIED:20250724T175637Z
UID:15134-1756654200-1756663200@www.unitedskates.com
SUMMARY:1/2 Price Sundays July & August
DESCRIPTION:✨ Skate Party at Skateland Chandler! ✨ \nJoin us for a fun-filled Sunday afternoon at Skateland Chandler from 3:30 PM – 6:00 PM! Get your skates on and groove to the best Top 40 hits. Perfect for friends\, family\, and anyone looking to enjoy a great time on wheels! \n📍 Location: 1101 West Ray Blvd\, Chandler\, AZ 85224\n📞 Contact: 480-917-9444\n🎉 Admission: $6 Admission (Reg $12 admission)\n🛼 Skate Rental: $5\nBring your own skates or rent ours! \n✨ Birthday Parties Available! ✨\nCelebrate your special day with us — let us make it unforgettable! \nImportant Info: \nChildren (ages 3-17) must pay admission and skate rental (or bring their own skates).\nNon-skating adults (spectators) are $4.\nAll guests are required to sign a waiver\, available at skatelandchandler.com.\nAll prices exclude tax. \nCome have fun\, skate\, and make memories at Skateland Chandler!
URL:https://www.unitedskates.com/skateland-chandler/event/1-2-price-sundays-july-august-2/2025-08-31/
LOCATION:Skateland Chandler\, 1101 W. Ray Rd.\, Chandler\, AZ\, 85224\, United States
CATEGORIES:Family Events,Public Skates,Special Events
ATTACH;FMTTYPE=image/jpeg:https://unitedskates-assets.sfo3.digitaloceanspaces.com/wp-content/uploads/sites/19/2025/07/52-Half-Price-Sunday-Skate-N-Play.jpg
END:VEVENT
END:VCALENDAR