BEGIN:VCALENDAR
VERSION:2.0
PRODID:-//Rink 52 - Skateland Chandler - ECPv6.15.20//NONSGML v1.0//EN
CALSCALE:GREGORIAN
METHOD:PUBLISH
X-WR-CALNAME:Rink 52 - Skateland Chandler
X-ORIGINAL-URL:https://www.unitedskates.com/skateland-chandler
X-WR-CALDESC:Events for Rink 52 - Skateland Chandler
REFRESH-INTERVAL;VALUE=DURATION:PT1H
X-Robots-Tag:noindex
X-PUBLISHED-TTL:PT1H
BEGIN:VTIMEZONE
TZID:America/Phoenix
BEGIN:STANDARD
TZOFFSETFROM:-0700
TZOFFSETTO:-0700
TZNAME:MST
DTSTART:20240101T000000
END:STANDARD
END:VTIMEZONE
BEGIN:VEVENT
DTSTART;TZID=America/Phoenix:20250826T170000
DTEND;TZID=America/Phoenix:20250826T193000
DTSTAMP:20260421T104121
CREATED:20250707T194355Z
LAST-MODIFIED:20250707T200053Z
UID:14980-1756227600-1756236600@www.unitedskates.com
SUMMARY:🎒✨ Back to School Skate Party at Skateland Chandler! ✨🎒
DESCRIPTION:🎒✨ Back to School Skate Party at Skateland Chandler! ✨🎒 \nKick off the new school year in style at our Back to School Skate Party! Bring the whole family for an evening of fun\, laughter\, and magical memories. \n🛼 Skating Details \n📅 Tuesday\, August 26 \n🕔 5:00 PM – 7:30 PM✅ Admission: $11 (includes skate rental)✅ Non-skating adult spectators: $4✅ Skate Mates available: $6 \n⭐ Meet Our Family of Characters!Get ready for smiles and selfies—our friendly costumed characters will be here to greet you\, pose for photos\, and make your night extra special. \n🍕 Family Pizza Deal!Make it dinner and a skate night! Enjoy a Large 1-Topping Pizza & Pitcher of Soda for only $28. \nIt’s the perfect way to celebrate going back to school while making unforgettable memories with friends and family! \n\nAdditional Information:⚠️ A liability waiver must be completed for all guests entering the building\, skating and non-skating.🛡️ Wrist guards are required for all skaters. \n📍 1101 W Ray Rd\, Chandler\, AZ 85224📞 480-917-9444🌐 www.SkatelandChandler.com
URL:https://www.unitedskates.com/skateland-chandler/event/%f0%9f%8e%92%e2%9c%a8-back-to-school-skate-party-at-skateland-chandler-%e2%9c%a8%f0%9f%8e%92-2025-08-26/
LOCATION:Skateland Chandler\, 1101 W. Ray Rd.\, Chandler\, AZ\, 85224\, United States
CATEGORIES:Family Events,Public Skates,Special Events
ATTACH;FMTTYPE=image/png:https://unitedskates-assets.sfo3.digitaloceanspaces.com/wp-content/uploads/sites/19/2025/07/Screenshot-2025-07-07-123311.png
END:VEVENT
END:VCALENDAR