BEGIN:VCALENDAR
VERSION:2.0
PRODID:-//Rink 52 - Skateland Chandler - ECPv6.15.20//NONSGML v1.0//EN
CALSCALE:GREGORIAN
METHOD:PUBLISH
X-ORIGINAL-URL:https://www.unitedskates.com/skateland-chandler
X-WR-CALDESC:Events for Rink 52 - Skateland Chandler
REFRESH-INTERVAL;VALUE=DURATION:PT1H
X-Robots-Tag:noindex
X-PUBLISHED-TTL:PT1H
BEGIN:VTIMEZONE
TZID:America/Phoenix
BEGIN:STANDARD
TZOFFSETFROM:-0700
TZOFFSETTO:-0700
TZNAME:MST
DTSTART:20240101T000000
END:STANDARD
END:VTIMEZONE
BEGIN:VEVENT
DTSTART;TZID=America/Phoenix:20250815T180000
DTEND;TZID=America/Phoenix:20250815T210000
DTSTAMP:20260421T140828
CREATED:20250728T234218Z
LAST-MODIFIED:20250728T234218Z
UID:15141-1755280800-1755291600@www.unitedskates.com
SUMMARY:🎬🛼 Freakier Friday Skate Party! 🛼🎬
DESCRIPTION:🎬🛼 Freakier Friday Skate Party! 🛼🎬Friday\, August 15 • 6:00PM–9:00PM \nGet ready to flip out—again! Join us at Skateland Chandler for a magical night of music\, mayhem\, and wheels as we celebrate the release of the Freaky Friday Sequel with an epic skate party you won’t want to miss! \n🎶 Skate & Sing AlongJam out to the best tracks from both Freaky Friday movies—all night long! \n🧠 Movie Trivia ChallengeThink you know Freaky Friday? Show off your knowledge and win fun prizes in our Freakier Friday Trivia! \n🌟 Glow Up the RinkEvery full-paid admission includes a FREE glowstick necklace—perfect for lighting up the floor as you skate! \n🍕 Grab Dinner & DessertSpecials on pizza combos and sweet treats will keep you fueled for all the fun! \n🎟️ Admission: $14.00Skate Rental: $5.00 • Skate Mates: $6.00 • Adult Spectators: $4.00 \n📍 Skateland Chandler1101 W Ray Rd\, Chandler\, AZ📞 Call 480-917-9444 for group rates & food packages! \n\n⚠️ IMPORTANT DETAILS: \n\n\nWrist guards are required for all skaters. \n\n\nA liability waiver must be completed for every guest entering the building—skating or non-skating.
URL:https://www.unitedskates.com/skateland-chandler/event/%f0%9f%8e%ac%f0%9f%9b%bc-freakier-friday-skate-party-%f0%9f%9b%bc%f0%9f%8e%ac/
LOCATION:Skateland Chandler\, 1101 W. Ray Rd.\, Chandler\, AZ\, 85224\, United States
CATEGORIES:Family Events,Public Skates,Special Events
ATTACH;FMTTYPE=image/png:https://unitedskates-assets.sfo3.digitaloceanspaces.com/wp-content/uploads/sites/19/2025/07/Screenshot-2025-07-28-164033.png
END:VEVENT
END:VCALENDAR