BEGIN:VCALENDAR
VERSION:2.0
PRODID:-//Rink 52 - Skateland Chandler - ECPv6.15.20//NONSGML v1.0//EN
CALSCALE:GREGORIAN
METHOD:PUBLISH
X-ORIGINAL-URL:https://www.unitedskates.com/skateland-chandler
X-WR-CALDESC:Events for Rink 52 - Skateland Chandler
REFRESH-INTERVAL;VALUE=DURATION:PT1H
X-Robots-Tag:noindex
X-PUBLISHED-TTL:PT1H
BEGIN:VTIMEZONE
TZID:America/Phoenix
BEGIN:STANDARD
TZOFFSETFROM:-0700
TZOFFSETTO:-0700
TZNAME:MST
DTSTART:20240101T000000
END:STANDARD
END:VTIMEZONE
BEGIN:VEVENT
DTSTART;TZID=America/Phoenix:20250801T180000
DTEND;TZID=America/Phoenix:20250801T210000
DTSTAMP:20260421T140750
CREATED:20250707T205905Z
LAST-MODIFIED:20250707T205905Z
UID:14986-1754071200-1754082000@www.unitedskates.com
SUMMARY:🧙‍♂️✨ HOGWARTS TAKEOVER SKATE – Celebrate Harry Potter’s Birthday! ✨🧙‍♀️
DESCRIPTION:🧙‍♂️✨ HOGWARTS TAKEOVER SKATE – Celebrate Harry Potter’s Birthday! ✨🧙‍♀️ \nCalling all witches\, wizards\, and Muggles! Join us at Skateland Chandler for an enchanted night of skating\, spells\, and magical fun as we celebrate Harry Potter’s Birthday in true Hogwarts style! \n📅 Friday\, August 1st🕕 6:00pm – 9:00pm \n🎟️ Admission: \n\n\n$14 at the door / $13 online \n\n\n🛼 Skate Rental: $5.00👀 Spectators Fee: $4.00 \n⚡ Event Specials and Magical Features: \n\n\nPhoto Ops & our Magical Cafe Specials all session long! \n\n\nMusic straight from the Harry Potter Soundtrack – transport yourself to Hogwarts with every lap! \n\n\nTrivia games that will challenge even the most devoted fans! \n\n\nCostume Contest for the BEST Wizard Attire – come dressed in your House robes and win magical prizes! \n\n\n🪄✨ Whether you’re Gryffindor brave\, Slytherin cunning\, Ravenclaw wise\, or Hufflepuff loyal\, there’s something for everyone at this spellbinding skate night! Bring your friends\, your wands\, and your love for all things Harry Potter. \n\n📌 Important Information:✅ A liability waiver must be completed for every guest entering the building—skating and non-skating.✅ Wrist guards are required for all skaters. \n📍 Skateland Chandler1101 W Ray Rd\, Chandler\, AZ 85224☎️ 480-917-9444🌐 www.SkatelandChandler.com
URL:https://www.unitedskates.com/skateland-chandler/event/%f0%9f%a7%99%e2%99%82%ef%b8%8f%e2%9c%a8-hogwarts-takeover-skate-celebrate-harry-potters-birthday-%e2%9c%a8%f0%9f%a7%99%e2%99%80%ef%b8%8f/
LOCATION:Skateland Chandler\, 1101 W. Ray Rd.\, Chandler\, AZ\, 85224\, United States
CATEGORIES:Family Events,Public Skates,Special Events
ATTACH;FMTTYPE=image/png:https://unitedskates-assets.sfo3.digitaloceanspaces.com/wp-content/uploads/sites/19/2025/07/Screenshot-2025-07-07-134749.png
END:VEVENT
END:VCALENDAR