BEGIN:VCALENDAR
VERSION:2.0
PRODID:-//Rink 52 - Skateland Chandler - ECPv6.15.20//NONSGML v1.0//EN
CALSCALE:GREGORIAN
METHOD:PUBLISH
X-WR-CALNAME:Rink 52 - Skateland Chandler
X-ORIGINAL-URL:https://www.unitedskates.com/skateland-chandler
X-WR-CALDESC:Events for Rink 52 - Skateland Chandler
REFRESH-INTERVAL;VALUE=DURATION:PT1H
X-Robots-Tag:noindex
X-PUBLISHED-TTL:PT1H
BEGIN:VTIMEZONE
TZID:America/Phoenix
BEGIN:STANDARD
TZOFFSETFROM:-0700
TZOFFSETTO:-0700
TZNAME:MST
DTSTART:20240101T000000
END:STANDARD
END:VTIMEZONE
BEGIN:VEVENT
DTSTART;TZID=America/Phoenix:20250711T120000
DTEND;TZID=America/Phoenix:20250711T143000
DTSTAMP:20260421T120833
CREATED:20250617T183011Z
LAST-MODIFIED:20250617T183011Z
UID:14962-1752235200-1752244200@www.unitedskates.com
SUMMARY:🎉 National Slurpee Day at Skateland Chandler! 🎉
DESCRIPTION:🎉 Get Ready for National Slurpee Day at Skateland Chandler! 🎉 \nCome cool off and roll into some fun on Friday\, July 11 as we celebrate National Slurpee Day—Skateland style! \n🛼 Join us during any of our three public skating sessions: \n\n\n12:00 PM – 2:30 PM (Glow Family Skate) \n\n\n3:00 PM – 5:30 PM (Half Price Skate) \n\n\n6:00 PM – 9:00 PM (Public Family Skate) \n\n\n🎁 Every full paid admission receives a FREE ICEE!Chill out with a frosty treat and enjoy the coolest way to beat the Arizona heat. \n🍬 We’ll also have: \n\n\nAwesome specials on ICEEs \n\n\nDelicious Sour ICEE Bears \n\n\nICEE Candy Packs \n\n\nTons of FUN Café Treats \n\n\n📣 Looking to roll deep with friends or family?Book your group today for special group rates! Call 📞 480-917-9444 \n📍 Skateland Chandler1101 W Ray Rd\, Chandler\, AZ 85224www.SkatelandChandler.com \n✨Skating. ICEEs. Snacks. Smiles. What more could you ask for this Slurpee Day? Let the good times roll!
URL:https://www.unitedskates.com/skateland-chandler/event/%f0%9f%8e%89-national-slurpee-day-at-skateland-chandler-%f0%9f%8e%89/
LOCATION:Skateland Chandler\, 1101 W. Ray Rd.\, Chandler\, AZ\, 85224\, United States
CATEGORIES:Family Events,Public Skates,Special Events
ATTACH;FMTTYPE=image/png:https://unitedskates-assets.sfo3.digitaloceanspaces.com/wp-content/uploads/sites/19/2025/06/Screenshot-2025-06-17-112021.png
END:VEVENT
END:VCALENDAR