BEGIN:VCALENDAR
VERSION:2.0
PRODID:-//Rink 52 - Skateland Chandler - ECPv6.15.20//NONSGML v1.0//EN
CALSCALE:GREGORIAN
METHOD:PUBLISH
X-ORIGINAL-URL:https://www.unitedskates.com/skateland-chandler
X-WR-CALDESC:Events for Rink 52 - Skateland Chandler
REFRESH-INTERVAL;VALUE=DURATION:PT1H
X-Robots-Tag:noindex
X-PUBLISHED-TTL:PT1H
BEGIN:VTIMEZONE
TZID:America/Phoenix
BEGIN:STANDARD
TZOFFSETFROM:-0700
TZOFFSETTO:-0700
TZNAME:MST
DTSTART:20240101T000000
END:STANDARD
END:VTIMEZONE
BEGIN:VEVENT
DTSTART;TZID=America/Phoenix:20250527T120000
DTEND;TZID=America/Phoenix:20250527T143000
DTSTAMP:20260422T180228
CREATED:20250520T231942Z
LAST-MODIFIED:20250521T170705Z
UID:14319-1748347200-1748356200@www.unitedskates.com
SUMMARY:🌟🛼 FAMILY GLOW SKATE 🎶🎉
DESCRIPTION:🌟🛼 FAMILY GLOW SKATE 🎶🎉📍 Skateland Chandler – 1101 W Ray Rd\, Chandler\, AZ 85224🗓️ Every Monday–Friday Afternoon This Summer🕛 12:00 PM – 2:30 PM \n💡✨ Get ready to light up your summer break at our super exciting\, family-friendly glow-in-the-dark skate! \n👨‍👩‍👧‍👦 What’s Glowing On: \n\n\n💃 Skate to all the best Top 40 hits \n\n\n🌈 Glow Bag Available – Just $5! \n\n\n🍕 Family Café Deals & Glow Cart Specials \n\n\n🤩 Perfect for all ages – bring the whole crew! \n\n\n💵 Pricing: \n\n\n🎫 $12.00 Admission \n\n\n👟 $5.00 Skate Rental \n\n\n👀 $4.00 Non-Skating Spectator Fee \n\n\n🛑 Wrist Guards Are Required for All Skaters🎂 Birthday Parties Available👨‍👩‍👧 Group Rates Available \n⚠️ Don’t miss this bright and bold afternoon event that turns skating into a glowing summer memory! \n🌐 More info: www.SkatelandChandler.com📞 Call: 480-917-9444📍 1101 W Ray Rd\, Chandler\, AZ 85224
URL:https://www.unitedskates.com/skateland-chandler/event/%f0%9f%8c%9f%f0%9f%9b%bc-family-glow-skate-%f0%9f%8e%b6%f0%9f%8e%89/2025-05-27/
LOCATION:Skateland Chandler\, 1101 W. Ray Rd.\, Chandler\, AZ\, 85224\, United States
CATEGORIES:Family Events,Public Skates
ATTACH;FMTTYPE=image/png:https://unitedskates-assets.sfo3.digitaloceanspaces.com/wp-content/uploads/sites/19/2025/05/Screenshot-2025-05-21-100551.png
END:VEVENT
BEGIN:VEVENT
DTSTART;TZID=America/Phoenix:20250527T150000
DTEND;TZID=America/Phoenix:20250527T173000
DTSTAMP:20260422T180228
CREATED:20250520T224719Z
LAST-MODIFIED:20250521T172703Z
UID:14274-1748358000-1748367000@www.unitedskates.com
SUMMARY:🎉🛼1/2 PRICE AFTERNOON SKATE 🎯🎮
DESCRIPTION:🎉🛼 SUPER EXCLUSIVE 1/2 PRICE AFTERNOON SKATE 🎯🎮📍 Skateland Chandler – 1101 W Ray Rd\, Chandler\, AZ 85224🗓️ Every Monday–Friday Afternoon This Summer🕒 Session Time: 3:00 PM – 5:30 PM \n🔥 It’s your chance to beat the heat with a cool deal all summer long! Bring your family and friends for an action-packed afternoon of skating and games! \n🎊 What’s Included: \n\n\n🎫 Admission: $6 per person  \n\n\n🛼 ½ Price Skate Mates – Great for beginner skaters \n\n\n🎮 ½ Price Arcade Games in our state-of-the-art arcade \n\n\n🎟️ Some games remain regular price – see venue for details \n\n\n💵 Additional Costs: \n\n\n👟 $5.00 Skate Rental \n\n\n👀 $4.00 Non-Skating Parent Admission \n\n\n🛑 Wrist Guards Are Required for All Skaters🎂 Birthday Parties Available👨‍👩‍👧 Group Rates Available⚠️ Discounts cannot be combined with other offers. No passes accepted. \n🌐 More info: www.SkatelandChandler.com📞 Call: 480-917-9444📍 1101 W Ray Rd\, Chandler\, AZ 85224
URL:https://www.unitedskates.com/skateland-chandler/event/%f0%9f%8e%89%f0%9f%9b%bc1-2-price-afternoon-skate-%f0%9f%8e%af%f0%9f%8e%ae/2025-05-27/
LOCATION:Skateland Chandler\, 1101 W. Ray Rd.\, Chandler\, AZ\, 85224\, United States
CATEGORIES:Family Events,Public Skates
ATTACH;FMTTYPE=image/png:https://unitedskates-assets.sfo3.digitaloceanspaces.com/wp-content/uploads/sites/19/2025/05/Screenshot-2025-05-21-102604.png
END:VEVENT
BEGIN:VEVENT
DTSTART;TZID=America/Phoenix:20250527T203000
DTEND;TZID=America/Phoenix:20250527T233000
DTSTAMP:20260422T180228
CREATED:20250521T170412Z
LAST-MODIFIED:20250611T030739Z
UID:14728-1748377800-1748388600@www.unitedskates.com
SUMMARY:🎉TUESDAY Adult Night at Skateland Chandler! 🎉
DESCRIPTION:🎉 TURN’T UP TUESDAY at Skateland Chandler! 🎉 \nGet ready for an electrifying night of skating\, music\, and fun! 🎶✨ \n🛼 When? Every Tuesday | 8:30 PM – 11:30 PM💰 Admission: $14 | Skate Rental: $5🔞 18+ Only (Valid physical photo ID required at the door) \n🎧 Featuring DJ K-HAMMA spinning the best Old School Hip-Hop\, R&B\, Funk\, Soul House\, & JB! 🎵🔥 \n🚨 No free passes accepted on this night. All guests must pay full admission. 🚨 \n📍 Location: Skateland Chandler – 1101 W. Ray Rd\, Chandler\, AZ 85224📞 Call Us: 480-917-9444🌐 Visit: www.skatelandchandler.com \nTag your crew and let’s roll! 🎉🛼🔥 #TurntUpTuesday #SkatelandChandler
URL:https://www.unitedskates.com/skateland-chandler/event/%f0%9f%8e%89tuesday-adult-night-at-skateland-chandler-%f0%9f%8e%89-2/2025-05-27/
LOCATION:Skateland Chandler\, 1101 W. Ray Rd.\, Chandler\, AZ\, 85224\, United States
CATEGORIES:Adult Events,Public Skates,Special Events
ATTACH;FMTTYPE=image/png:https://unitedskates-assets.sfo3.digitaloceanspaces.com/wp-content/uploads/sites/19/2025/05/Screenshot-2025-06-10-200436.png
END:VEVENT
END:VCALENDAR