BEGIN:VCALENDAR
VERSION:2.0
PRODID:-//Rink 52 - Skateland Chandler - ECPv6.15.20//NONSGML v1.0//EN
CALSCALE:GREGORIAN
METHOD:PUBLISH
X-WR-CALNAME:Rink 52 - Skateland Chandler
X-ORIGINAL-URL:https://www.unitedskates.com/skateland-chandler
X-WR-CALDESC:Events for Rink 52 - Skateland Chandler
REFRESH-INTERVAL;VALUE=DURATION:PT1H
X-Robots-Tag:noindex
X-PUBLISHED-TTL:PT1H
BEGIN:VTIMEZONE
TZID:America/Phoenix
BEGIN:STANDARD
TZOFFSETFROM:-0700
TZOFFSETTO:-0700
TZNAME:MST
DTSTART:20240101T000000
END:STANDARD
END:VTIMEZONE
BEGIN:VEVENT
DTSTART;TZID=America/Phoenix:20250511T123000
DTEND;TZID=America/Phoenix:20250511T150000
DTSTAMP:20260422T044844
CREATED:20250424T044844Z
LAST-MODIFIED:20250424T044844Z
UID:14071-1746966600-1746975600@www.unitedskates.com
SUMMARY:🌸 Mother’s Day Skate Party – Celebrate Mom on Wheels! 🛼💖
DESCRIPTION:🌸 Mother’s Day Skate Party – Celebrate Mom on Wheels! 🛼💖 \n💐 Skate\, Celebrate\, and Make Memories with Mom! 💐 \nJoin us at Skateland Chandler for a special Mother’s Day Skate Party where families can roll together and celebrate the amazing moms in their lives! \n🎉 Sunday\, May 11\n🕰 Two Sessions: \n\n12:30 PM – 3:00 PM\n3:30 PM – 6:00 PM\n\n🎟 Admission: \n\n$13.00 at the door $12.00 online\nSkate Rental: $5.00\nNon-skating parents: $4.00\n🌷 MOMS SKATE FREE with a paid child’s admission! 🌷\n\nBring the whole family and enjoy an afternoon of fun\, laughter\, and smooth skating! Let’s make this Mother’s Day one to remember. 🌸
URL:https://www.unitedskates.com/skateland-chandler/event/%f0%9f%8c%b8-mothers-day-skate-party-celebrate-mom-on-wheels-%f0%9f%9b%bc%f0%9f%92%96/
LOCATION:Skateland Chandler\, 1101 W. Ray Rd.\, Chandler\, AZ\, 85224\, United States
CATEGORIES:Family Events,Public Skates,Special Events
ATTACH;FMTTYPE=image/jpeg:https://unitedskates-assets.sfo3.digitaloceanspaces.com/wp-content/uploads/sites/19/2025/04/Screenshot-2025-04-23-214509.jpg
END:VEVENT
BEGIN:VEVENT
DTSTART;TZID=America/Phoenix:20250511T153000
DTEND;TZID=America/Phoenix:20250511T180000
DTSTAMP:20260422T044844
CREATED:20250424T044943Z
LAST-MODIFIED:20250424T044943Z
UID:14074-1746977400-1746986400@www.unitedskates.com
SUMMARY:🌸 Mother’s Day Skate Party – Celebrate Mom on Wheels! 🛼💖
DESCRIPTION:🌸 Mother’s Day Skate Party – Celebrate Mom on Wheels! 🛼💖 \n💐 Skate\, Celebrate\, and Make Memories with Mom! 💐 \nJoin us at Skateland Chandler for a special Mother’s Day Skate Party where families can roll together and celebrate the amazing moms in their lives! \n🎉 Sunday\, May 11\n🕰 Two Sessions: \n\n12:30 PM – 3:00 PM\n3:30 PM – 6:00 PM\n\n🎟 Admission: \n\n$13.00 at the door $12.00 online\nSkate Rental: $5.00\nNon-skating parents: $4.00\n🌷 MOMS SKATE FREE with a paid child’s admission! 🌷\n\nBring the whole family and enjoy an afternoon of fun\, laughter\, and smooth skating! Let’s make this Mother’s Day one to remember. 🌸
URL:https://www.unitedskates.com/skateland-chandler/event/%f0%9f%8c%b8-mothers-day-skate-party-celebrate-mom-on-wheels-%f0%9f%9b%bc%f0%9f%92%96-2/
LOCATION:Skateland Chandler\, 1101 W. Ray Rd.\, Chandler\, AZ\, 85224\, United States
CATEGORIES:Family Events,Public Skates,Special Events
ATTACH;FMTTYPE=image/jpeg:https://unitedskates-assets.sfo3.digitaloceanspaces.com/wp-content/uploads/sites/19/2025/04/Screenshot-2025-04-23-214509.jpg
END:VEVENT
END:VCALENDAR