BEGIN:VCALENDAR
VERSION:2.0
PRODID:-//Rink 52 - Skateland Chandler - ECPv6.15.20//NONSGML v1.0//EN
CALSCALE:GREGORIAN
METHOD:PUBLISH
X-WR-CALNAME:Rink 52 - Skateland Chandler
X-ORIGINAL-URL:https://www.unitedskates.com/skateland-chandler
X-WR-CALDESC:Events for Rink 52 - Skateland Chandler
REFRESH-INTERVAL;VALUE=DURATION:PT1H
X-Robots-Tag:noindex
X-PUBLISHED-TTL:PT1H
BEGIN:VTIMEZONE
TZID:America/Phoenix
BEGIN:STANDARD
TZOFFSETFROM:-0700
TZOFFSETTO:-0700
TZNAME:MST
DTSTART:20240101T000000
END:STANDARD
END:VTIMEZONE
BEGIN:VEVENT
DTSTART;TZID=America/Phoenix:20250505T173000
DTEND;TZID=America/Phoenix:20250505T200000
DTSTAMP:20260422T173641
CREATED:20250425T192711Z
LAST-MODIFIED:20250425T192711Z
UID:14076-1746466200-1746475200@www.unitedskates.com
SUMMARY:🎉Cinco De Mayo Affordable Family Fun Skate 🛼
DESCRIPTION:🎉🎉 Get Ready to Roll into Cinco De Mayo Fiesta Fun!🛼 \nJoin us for an unforgettable night of roller skating fun at our Cinco De Mayo Special Event — perfect for the whole family! \nEvent Details: \n📅 When: Monday\, May 5th\n🕠 Time: 5:30 PM – 8:00 PM\n📍 Where: United Skates of America – 1101 W Ray Rd\, Chandler\, AZ 85224\n📞 Call Us: 480-917-9444\n🌐 www.UnitedSkates.com/Chandler \n🎉 EVENT PRICING & SPECIALS 🎉\n💥 $7.00 Admission\n💥 $5.00 Skate Rental\n💥 $5.00 Game Cards\n💥 $5.00 Glow Bags\n👀 $4.00 Spectator Fee \nImportant Information👀 : \nAll guests\, skating or non-skating\, must have a completed liability waiver on the day of skating. \nAll skaters are required to wear wrist guards. We offer free wrist guard rental at our skate counter. \nBring your friends\, bring your family\, and don’t forget your best Cinco De Mayo vibes! 🎊 Whether you’re skating or spectating\, the energy will be electric and the memories will roll on forever! 🛼🎶 \nAffordable Family FUN You Don’t Want to Miss!
URL:https://www.unitedskates.com/skateland-chandler/event/%f0%9f%8e%89cinco-de-mayo-affordable-family-fun-skate-%f0%9f%9b%bc/
LOCATION:Skateland Chandler\, 1101 W. Ray Rd.\, Chandler\, AZ\, 85224\, United States
CATEGORIES:Family Events,Public Skates,Special Events
ATTACH;FMTTYPE=image/png:https://unitedskates-assets.sfo3.digitaloceanspaces.com/wp-content/uploads/sites/19/2025/04/Screenshot-2025-04-25-122050.png
END:VEVENT
END:VCALENDAR