BEGIN:VCALENDAR
VERSION:2.0
PRODID:-//Rink 52 - Skateland Chandler - ECPv6.15.20//NONSGML v1.0//EN
CALSCALE:GREGORIAN
METHOD:PUBLISH
X-ORIGINAL-URL:https://www.unitedskates.com/skateland-chandler
X-WR-CALDESC:Events for Rink 52 - Skateland Chandler
REFRESH-INTERVAL;VALUE=DURATION:PT1H
X-Robots-Tag:noindex
X-PUBLISHED-TTL:PT1H
BEGIN:VTIMEZONE
TZID:America/Phoenix
BEGIN:STANDARD
TZOFFSETFROM:-0700
TZOFFSETTO:-0700
TZNAME:MST
DTSTART:20240101T000000
END:STANDARD
END:VTIMEZONE
BEGIN:VEVENT
DTSTART;TZID=America/Phoenix:20250420T100000
DTEND;TZID=America/Phoenix:20250420T120000
DTSTAMP:20260423T231347
CREATED:20250227T200834Z
LAST-MODIFIED:20250227T200834Z
UID:13523-1745143200-1745150400@www.unitedskates.com
SUMMARY:🐰🥞 Breakfast with the Easter Bunny! 🌸🎉
DESCRIPTION:🐰🥞 Breakfast with the Easter Bunny! 🌸🎉\nJoin us for a fun-filled morning at Skateland Chandler with a special appearance by the Easter Bunny! Bring your family and friends for a delicious waffle bar\, skating\, and Easter-themed activities! \n📅 Date: Sunday\, April 20th⏰ Time: 10:00 AM – 12:00 PM📍 Location: Skateland Chandler\, 1101 W Ray Road\, Chandler\, AZ \n🎟️ Admission: $15 (Includes one trip to the waffle bar)🛼Skate Rental: $5.00🛼 Skate Mate Rental: $6.00 \n🚫 No passes accepted. All guests pay admission. \n✨ Activities Include:✅ Meet & Greet with the Easter Bunny 🐰✅ Craft & Coloring Stations 🎨✅ Roller Skating Fun! \n📞 For more info\, call us at: 480-917-9444🌐 Visit our website: www.skatelandchandler.com \n🌷 Hop on over for a memorable Easter celebration with us! 🎊🐣
URL:https://www.unitedskates.com/skateland-chandler/event/%f0%9f%90%b0%f0%9f%a5%9e-breakfast-with-the-easter-bunny-%f0%9f%8c%b8%f0%9f%8e%89/
LOCATION:Skateland Chandler\, 1101 W. Ray Rd.\, Chandler\, AZ\, 85224\, United States
CATEGORIES:Family Events,Public Skates,Special Events
ATTACH;FMTTYPE=image/jpeg:https://unitedskates-assets.sfo3.digitaloceanspaces.com/wp-content/uploads/sites/19/2025/02/Screenshot-2025-02-27-130254.jpg
END:VEVENT
BEGIN:VEVENT
DTSTART;TZID=America/Phoenix:20250420T123000
DTEND;TZID=America/Phoenix:20250420T150000
DTSTAMP:20260423T231347
CREATED:20250324T224101Z
LAST-MODIFIED:20250324T224101Z
UID:13661-1745152200-1745161200@www.unitedskates.com
SUMMARY:🐰🌸Hop Into Fun at the Easter Character Explosion! 🐰🌸
DESCRIPTION:Hop Into Fun at the Easter Character Explosion! 🐰🌸\nGet ready for a day filled with smiles\, laughter\, and springtime fun at USA’s Skateland Chandler on Sunday\, April 20th! Bring your family and friends for an unforgettable Easter celebration featuring character meet-and-greets\, exciting giveaways\, and an Egg-Cellent Easter egg hunt! \n🌟 Event Details: \n\nTwo Sessions:\n\n12:30 PM – 3:00 PM\n3:30 PM – 6:00 PM\n\n\nAdmission: $12.00 (includes a FREE Egg Hunt Bag!)\nSkate Rental: $5.00\nParent Spectators (Non-Skating): $4.00\n\n🐣 Highlights: \n\nMeet the Easter Bunny and his delightful friends Luigi\, Sonic and Buzz Lightyear!\nParticipate in a fun-filled Easter egg hunt.\nEnjoy exciting giveaways and earn one raffle ticket with admission (extra raffle tickets available for $1.00 each).\n\n📍 Location: USA’s Skateland Chandler 1101 W. Ray Road\, Chandler\, AZ 85224 \n📞 Contact: Phone: 480-917-9444 \n🌸 Don’t miss this chance to hop into a day of springtime fun! Gather your loved ones and make memories that will last a lifetime!
URL:https://www.unitedskates.com/skateland-chandler/event/%f0%9f%90%b0%f0%9f%8c%b8hop-into-fun-at-the-easter-character-explosion-%f0%9f%90%b0%f0%9f%8c%b8/
LOCATION:Skateland Chandler\, 1101 W. Ray Rd.\, Chandler\, AZ\, 85224\, United States
CATEGORIES:Family Events,Public Skates,Special Events
ATTACH;FMTTYPE=image/png:https://unitedskates-assets.sfo3.digitaloceanspaces.com/wp-content/uploads/sites/19/2025/03/Screenshot-2025-03-24-153622.png
END:VEVENT
BEGIN:VEVENT
DTSTART;TZID=America/Phoenix:20250420T153000
DTEND;TZID=America/Phoenix:20250420T180000
DTSTAMP:20260423T231347
CREATED:20250324T224233Z
LAST-MODIFIED:20250324T224233Z
UID:13664-1745163000-1745172000@www.unitedskates.com
SUMMARY:Hop Into Fun at the Easter Character Explosion! 🐰🌸
DESCRIPTION:Hop Into Fun at the Easter Character Explosion! 🐰🌸\nGet ready for a day filled with smiles\, laughter\, and springtime fun at USA’s Skateland Chandler on Sunday\, April 20th! Bring your family and friends for an unforgettable Easter celebration featuring character meet-and-greets\, exciting giveaways\, and an Egg-Cellent Easter egg hunt! \n🌟 Event Details: \n\nTwo Sessions:\n\n12:30 PM – 3:00 PM\n3:30 PM – 6:00 PM\n\n\nAdmission: $12.00 (includes a FREE Egg Hunt Bag!)\nSkate Rental: $5.00\nParent Spectators (Non-Skating): $4.00\n\n🐣 Highlights: \n\nMeet the Easter Bunny and his delightful friends Luigi\, Sonic and Buzz Lightyear!\nParticipate in a fun-filled Easter egg hunt.\nEnjoy exciting giveaways and earn one raffle ticket with admission (extra raffle tickets available for $1.00 each).\n\n📍 Location: USA’s Skateland Chandler 1101 W. Ray Road\, Chandler\, AZ 85224 \n📞 Contact: Phone: 480-917-9444 \n🌸 Don’t miss this chance to hop into a day of springtime fun! Gather your loved ones and make memories that will last a lifetime!
URL:https://www.unitedskates.com/skateland-chandler/event/hop-into-fun-at-the-easter-character-explosion-%f0%9f%90%b0%f0%9f%8c%b8/
LOCATION:Skateland Chandler\, 1101 W. Ray Rd.\, Chandler\, AZ\, 85224\, United States
CATEGORIES:Family Events,Public Skates,Special Events
ATTACH;FMTTYPE=image/png:https://unitedskates-assets.sfo3.digitaloceanspaces.com/wp-content/uploads/sites/19/2025/03/Screenshot-2025-03-24-153622.png
END:VEVENT
END:VCALENDAR