BEGIN:VCALENDAR
VERSION:2.0
PRODID:-//Rink 52 - Skateland Chandler - ECPv6.15.20//NONSGML v1.0//EN
CALSCALE:GREGORIAN
METHOD:PUBLISH
X-WR-CALNAME:Rink 52 - Skateland Chandler
X-ORIGINAL-URL:https://www.unitedskates.com/skateland-chandler
X-WR-CALDESC:Events for Rink 52 - Skateland Chandler
REFRESH-INTERVAL;VALUE=DURATION:PT1H
X-Robots-Tag:noindex
X-PUBLISHED-TTL:PT1H
BEGIN:VTIMEZONE
TZID:America/Phoenix
BEGIN:STANDARD
TZOFFSETFROM:-0700
TZOFFSETTO:-0700
TZNAME:MST
DTSTART:20240101T000000
END:STANDARD
END:VTIMEZONE
BEGIN:VEVENT
DTSTART;TZID=America/Phoenix:20250410T100000
DTEND;TZID=America/Phoenix:20250410T123000
DTSTAMP:20260422T124901
CREATED:20250302T202208Z
LAST-MODIFIED:20250302T202208Z
UID:13558-1744279200-1744288200@www.unitedskates.com
SUMMARY:🎉 Homeschool Skate Day Exclusively for Homeschool & Small School Groups 🎉
DESCRIPTION:Exclusive Skating Sessions for Home Schools & Small School Groups!  \n\n\n\n\n\n\n\n\n\n\n\n\n\n\n📅 Mark your calendars for these exciting skating dates!\n🗓 Thursday\, March 6\, 2025 | Thursday\, April 10\, 2025\n⏰ Time: 10:00 AM – 12:30 PM\nReservations are required 📩 \n💲 $10 Admission (includes skate rental)\n👨‍👩‍👧‍👦 All guests ages 3-17 pay admission and skate rental\, or bring your own skates!\n🚶‍♂️ Non-Skating Adults: Only $4.00 + tax\n🍴 Café specials available for lunch! 🍔 \n📍 Location:\nSkateland Chandler\n1101 W Ray Road\, Chandler\, AZ 85224\n☎️ Call: 480.917.9444\n🌐 Visit: Skateland Chandler \n📩 To make reservations\, email Diane at: skatelandchandlersalesmgr@gmail.com \nBring your friends\, have fun\, and make memories! \n#HomeSchoolSkating #SkatingForGroups #ChandlerAZ #SkatelandChandler #FamilyFun #HomeschoolActivities #SmallGroupEvents #SkatingSessions #ReserveNow #SkateRental
URL:https://www.unitedskates.com/skateland-chandler/event/%f0%9f%8e%89-homeschool-skate-day-exclusively-for-homeschool-small-school-groups-%f0%9f%8e%89/
LOCATION:Skateland Chandler\, 1101 W. Ray Rd.\, Chandler\, AZ\, 85224\, United States
CATEGORIES:Public Skates,Special Events
ATTACH;FMTTYPE=image/png:https://unitedskates-assets.sfo3.digitaloceanspaces.com/wp-content/uploads/sites/19/2025/03/Screenshot-2025-03-02-131357.png
END:VEVENT
END:VCALENDAR