BEGIN:VCALENDAR
VERSION:2.0
PRODID:-//Rink 52 - Skateland Chandler - ECPv6.15.20//NONSGML v1.0//EN
CALSCALE:GREGORIAN
METHOD:PUBLISH
X-WR-CALNAME:Rink 52 - Skateland Chandler
X-ORIGINAL-URL:https://www.unitedskates.com/skateland-chandler
X-WR-CALDESC:Events for Rink 52 - Skateland Chandler
REFRESH-INTERVAL;VALUE=DURATION:PT1H
X-Robots-Tag:noindex
X-PUBLISHED-TTL:PT1H
BEGIN:VTIMEZONE
TZID:America/Phoenix
BEGIN:STANDARD
TZOFFSETFROM:-0700
TZOFFSETTO:-0700
TZNAME:MST
DTSTART:20240101T000000
END:STANDARD
END:VTIMEZONE
BEGIN:VEVENT
DTSTART;TZID=America/Phoenix:20250310T180000
DTEND;TZID=America/Phoenix:20250321T210000
DTSTAMP:20260422T122002
CREATED:20250228T175042Z
LAST-MODIFIED:20250312T174656Z
UID:13542-1741629600-1742590800@www.unitedskates.com
SUMMARY:🛼Spring Break Roller Skating - School is OUT and Skateland is Open Everyday for Families🛼
DESCRIPTION:🌟 SCHOOL IS OUT! GO SKATE! 🌟\nSPRING BREAK ROLLER SKATING FUN at Skateland Chandler!\n📍 1101 W. Ray Rd\, Chandler\, AZ 85224 | 📞 480-917-9444🌐 www.SkatelandChandler.com \nGet ready for an EPIC Spring Break at Skateland Chandler! We’ve packed each day with thrilling themed skate parties\, glow sessions\, character meet-and-greets\, and all-you-can-eat pizza nights! Bring your friends\, dress up for our special theme days\, and make unforgettable memories on the rink! 🛼💃 \nAdditional Information:\n\nSkate Rental: $5.00\nSkate Mate Rental: $6.00\nNon-Skating Parent Chaperones: $4.00\nEvents Marked (*) Have No Passes Accepted\nEvents Marked (**) Have No Spectators – Everyone Pays Admission**\n\n\n🗓 MONDAY\, MARCH 10 – SPRING BREAK KICK-OFF! 🎡\n🎠 Kick off Spring Break with a carnival twist! Enjoy skating\, games\, and prizes all day long! \n\n🎡 11:00 AM – 1:30 PM – Spring Break Kick-Off Carnival ($14.00)\n🌟 2:00 PM – 4:30 PM – Spring Break Kick-Off Carnival Glow Skate ($14.00)\n💰 5:00 PM – 8:00 PM – Affordable Family Night – Best Deal! ($7.00)\n\n\n❄️ TUESDAY\, MARCH 11 – SKATE WITH ELSA & OLAF! ⛄\n🌨 Step into a winter wonderland and skate with Elsa & Olaf! \n\n👑 11:00 AM – 1:30 PM – Elsa & Olaf Skate Party ($11.00)\n✨ 2:00 PM – 4:30 PM – Elsa & Olaf Glow Skate ($11.00)\n👨‍👩‍👧 5:00 PM – 7:30 PM – Family Skate Night – A fun evening for all! ($10.00)\n🌙 8:00 PM – 11:00 PM – Adult Night – 18+ only! ($13.00)\n\n\n🦸‍♂️ WEDNESDAY\, MARCH 12 – SUPERHERO DAY! 🦸‍♀️\n💥 Put on your cape and unleash your inner hero! \n\n🦹 11:00 AM – 1:30 PM – Super Hero Skate Party ($11.00)\n🌟 2:00 PM – 4:30 PM – Super Hero Glow Skate ($11.00)\n🎓 4:30 PM – 5:30 PM – Skate School – Learn new moves! ($20.00)\n🍕 5:30 PM – 8:30 PM – Free Dinner Night – Skating + Pizza? Yes\, please! ($15.00)\n\n\n💚 THURSDAY\, MARCH 13 – GRINCH SKATE PARTY! 🎄\n😈 The Grinch is back! Join the mischief and make unforgettable memories. \n\n🎭 11:00 AM – 1:30 PM – Grinch Skate Party ($11.00)\n🌌 2:00 PM – 4:30 PM – Grinch Glow Skate ($11.00)\n🍕 5:30 PM – 8:30 PM – AYCE Grinch Dinner Skate – Unlimited Cheese Pizza! ($15.00)\n\n\n🧙‍♀️ FRIDAY\, MARCH 14 – WICKED SKATE! 🦇\n🦹 A spellbinding night of fun awaits! Dress up as your favorite villain! \n\n🖤 11:00 AM – 1:30 PM – Wicked Skate Party ($11.00)\n💀 2:00 PM – 4:30 PM – Wicked Glow Skate ($11.00)\n🔥 6:00 PM – 9:00 PM – Wicked Family Glow Skate ($13.00)\n\n\n🐭 SATURDAY\, MARCH 15 – MINNIE & MICKEY TAKEOVER! 🏰\n🐭 The most magical skate session is here! \n\n🎓 9:00 AM – 10:00 AM – Skate School – Become a pro! ($20.00)\n🎶 10:00 AM – 12:00 PM – Disney Hits Skate – Sing along & skate! ($10.00)\n🏰 12:30 PM – 3:00 PM – Minnie & Mickey Skate Party ($11.00)\n✨ 3:30 PM – 6:00 PM – Minnie & Mickey Glow Skate ($11.00)\n🌌 6:30 PM – 9:00 PM – Cosmic Glow Skate – Ultimate neon experience! ($13.00)\n\n\n👑 SUNDAY\, MARCH 16 – PRINCESS BREAKFAST & TOY STORY SKATE! 🤠\n👑 Start your day with royalty and end it with adventure! \n\n🍽 10:00 AM – 12:00 PM – Princess Breakfast Skate (Includes waffle station & princess meet-and-greet!) ($15.00)\n🧸 12:30 PM – 3:00 PM – Toy Story Skate Party ($11.00)\n🌟 3:30 PM – 6:00 PM – Toy Story Glow Skate ($11.00)\n\n\n🍀 MONDAY\, MARCH 17 – ST. PATRICK’S DAY SKATE! 🌈\n🍀 Wear green and skate for good luck! \n\n🌈 11:00 AM – 1:30 PM – St. Patrick’s Day Skate Party ($11.00)\n✨ 2:00 PM – 4:30 PM – St. Patrick’s Day Glow Skate ($11.00)\n💰 5:00 PM – 8:00 PM – Affordable Family Night – Only $7.00!\n\n\n💡 TUESDAY\, MARCH 18 – INSIDE OUT SKATE! 🎭\n\n🎭 11:00 AM – 1:30 PM – Inside Out Skate Party ($13.00)\n🌟 2:00 PM – 4:30 PM – Inside Out Glow Skate ($11.00)\n👨‍👩‍👧 5:00 PM – 7:30 PM – Family Skate Night! ($10.00)\n🎶 8:00 PM – 11:00 PM – Adult Night! ($13.00)\n\n\n🌀 WEDNESDAY\, MARCH 19 – TROLLS SKATE PARTY! 🎤\n\n🎶 11:00 AM – 1:30 PM – Trolls Skate Party ($11.00)\n✨ 2:00 PM – 4:30 PM – Trolls Glow Skate ($11.00)\n🎓 4:30 PM – 5:30 PM – Skate School – Learn new moves! ($20.00)\n🍕 5:30 PM – 8:30 PM – Free Dinner Night! ($15.00)\n\n\n💛 THURSDAY\, MARCH 20 – MINIONS MAYHEM! 🍌\n\n🤪 11:00 AM – 1:30 PM – Minions Skate Party ($11.00)\n🌟 1:30 PM – 3:30 PM – Minions Glow Skate ($11.00)\n🍕 5:30 PM – 8:30 PM – AYCE Minions Dinner Skate! ($15.00)\n\n\n💙 FRIDAY\, MARCH 21 – SONIC SKATE PARTY! 🏁\n\n⚡ 11:00 AM – 1:30 PM – Sonic Skate Party ($11.00)\n💨 2:00 PM – 4:30 PM – Sonic Glow Skate ($11.00)\n🌌 6:00 PM – 9:00 PM – Sonic Family Glow Skate! ($13.00)\n\n\n🎉 Tag your friends and LET’S ROLL! 🛼 \n#SpringBreak #SkateParty #FamilyFun #FrozenFun #IceMagic #FamilySkateNight #SuperheroSkate #PizzaAndSkates #GrinchSkate #PizzaLover #SkateTheNightAway #WickedFun #VillainVibes #DisneyMagic #MickeyAndMinnie #GlowSkate #LuckySkate #GlowForGold #ShamrockShakeAndSkate #SkatelandChandler #SpringBreakFun #RollerSkating #SkateAndGlow #FamilyTime #WeekendVibes
URL:https://www.unitedskates.com/skateland-chandler/event/%f0%9f%9b%bcspring-break-roller-skating-school-is-out-and-skateland-is-open-everyday-for-families%f0%9f%9b%bc/
LOCATION:Skateland Chandler\, 1101 W. Ray Rd.\, Chandler\, AZ\, 85224\, United States
CATEGORIES:Adult Events,Family Events,Public Skates,Special Events
ATTACH;FMTTYPE=image/jpeg:https://unitedskates-assets.sfo3.digitaloceanspaces.com/wp-content/uploads/sites/19/2025/02/Spring-Break-2025-Calendar-Front-rink-52.jpg
END:VEVENT
BEGIN:VEVENT
DTSTART;TZID=America/Phoenix:20250313T110000
DTEND;TZID=America/Phoenix:20250313T133000
DTSTAMP:20260422T122002
CREATED:20250226T233214Z
LAST-MODIFIED:20250226T233214Z
UID:13505-1741863600-1741872600@www.unitedskates.com
SUMMARY:🌸 Spring Break Glow Skate with The Grinch! 🛼✨
DESCRIPTION:Get ready for an EPIC Spring Break roller-skating event with a special appearance by Mr. Grinch! 🎉💚 \n🗓 Date: Thursday\, March 13⏰ Time: 11:00am – 1:30pm📍 Location: Skateland Chandler – 1101 W Ray Road\, Chandler\, AZ \n🌟 Event Highlights:✅ Meet & Greet with The Grinch!✅ Café Specials – Delicious snacks & drinks! \n🎟 Admission: $11.00| 🛼 Skate Rental: $5.00 | 👨‍👩‍👧 Non-Skating Parents: $4.00 \n🌴 Dress in your best Spring Break vibes\, Holiday or Mr. Grinch attire and get ready for an unforgettable day of fun\, laughter\, and skating! 🌈 \n📢 Tag your friends & family – Let’s make this a day to remember! \n📞 Call 480-917-9444 or visit www.skatelandchandler.com for more details! \nDon’t miss out—mark your calendars now! 🎊🔥
URL:https://www.unitedskates.com/skateland-chandler/event/%f0%9f%8c%b8-spring-break-glow-skate-with-the-grinch-%f0%9f%9b%bc%e2%9c%a8/
LOCATION:Skateland Chandler\, 1101 W. Ray Rd.\, Chandler\, AZ\, 85224\, United States
CATEGORIES:Family Events,Public Skates,Special Events
ATTACH;FMTTYPE=image/png:https://unitedskates-assets.sfo3.digitaloceanspaces.com/wp-content/uploads/sites/19/2025/02/Screenshot-2025-02-26-163129.png
END:VEVENT
BEGIN:VEVENT
DTSTART;TZID=America/Phoenix:20250313T140000
DTEND;TZID=America/Phoenix:20250313T163000
DTSTAMP:20260422T122002
CREATED:20250226T222856Z
LAST-MODIFIED:20250226T222856Z
UID:13499-1741874400-1741883400@www.unitedskates.com
SUMMARY:💚 Grinch Glow Skate – A Skating Spectacle with the Grinch! 🛼✨
DESCRIPTION:💚 Grinch Glow Skate – A Skating Spectacle with the Grinch! 🛼✨\n📅 Date: Thursday\, March 13⏰ Time: 2:00 PM – 4:30 PM \n📍 Location: Skateland Chandler\, 1101 W Ray Road\, Chandler\, AZ 85224📞 Contact: 480-917-9444🌐 Visit Us Online \n🎟️ Admission: $11.00\n🛼 Skate Rental: $5.00👨‍👩‍👧 Non-Skating Parents: $4.00 \n💡 Event Highlights:\n🌟 Meet & Greet with The Grinch! 🎭🎶 Glow Skate with Great Music All Session! 🎵✨🛼 Enjoy a fun-filled skating experience with family & friends! \n💚 Glow\, Skate & Have a Blast!\nGet ready for a Grinch-inspired skating adventure with lights\, amazing tunes\, and plenty of fun surprises! Don’t forget to wear your brightest neon colors and bring your skating spirit! \n📢 Tag your friends & family and join us for a glowing good time! \n#GrinchGlowSkate #GlowSkateFun #SkatelandChandler #FamilyFun
URL:https://www.unitedskates.com/skateland-chandler/event/%f0%9f%92%9a-grinch-glow-skate-a-skating-spectacle-with-the-grinch-%f0%9f%9b%bc%e2%9c%a8/
LOCATION:Skateland Chandler\, 1101 W. Ray Rd.\, Chandler\, AZ\, 85224\, United States
CATEGORIES:Family Events,Public Skates,Special Events
ATTACH;FMTTYPE=image/png:https://unitedskates-assets.sfo3.digitaloceanspaces.com/wp-content/uploads/sites/19/2025/02/Screenshot-2025-02-26-152834.png
END:VEVENT
BEGIN:VEVENT
DTSTART;TZID=America/Phoenix:20250313T173000
DTEND;TZID=America/Phoenix:20250313T203000
DTSTAMP:20260422T122002
CREATED:20250226T233628Z
LAST-MODIFIED:20250226T233628Z
UID:13508-1741887000-1741897800@www.unitedskates.com
SUMMARY:🎄💚 All You Can Eat Cheese Pizza Skate with The Grinch! 🛼✨
DESCRIPTION:🎄💚 FREE Dinner Skate with The Grinch! 🛼✨\nJoin us for a night of skating fun\, great food\, and a special visit from The Grinch! 🏆🍕 \n🗓 Thursday\, March 13⏰ 5:30 PM – 8:30 PM📍 Skateland Chandler – 1101 W Ray Road\, Chandler\, AZ \n🌟 Event Highlights:✅ FREE Dinner – Enjoy unlimited cheese pizza! 🍕✅ Meet & Greet with The Grinch! 🎭✅ Glow Skate Special – Add a glow stick for only $1.00! ✨✅ Café Specials & Glow Cart Deals 🍔🥤✅ Dress Up & Join the Fun! 🎉 \n🎟 Admission: $15* (Includes unlimited Cheese Pizza) \n🛼 Skate Rental: $5.00 |👨‍👩‍👧 Non-Skating Parents: $4.00\n📢 Bring your family & friends for an unforgettable night of skating\, food\, and laughter! \n📞 Call us at 480-917-9444 or visit www.skatelandchandler.com for more details! \nNo Passes | All Guests Pay Admission
URL:https://www.unitedskates.com/skateland-chandler/event/%f0%9f%8e%84%f0%9f%92%9a-all-you-can-eat-cheese-pizza-skate-with-the-grinch-%f0%9f%9b%bc%e2%9c%a8/
LOCATION:Skateland Chandler\, 1101 W. Ray Rd.\, Chandler\, AZ\, 85224\, United States
CATEGORIES:Family Events,Public Skates,Special Events
ATTACH;FMTTYPE=image/png:https://unitedskates-assets.sfo3.digitaloceanspaces.com/wp-content/uploads/sites/19/2025/02/Screenshot-2025-02-26-162637.png
END:VEVENT
END:VCALENDAR