BEGIN:VCALENDAR
VERSION:2.0
PRODID:-//Rink 52 - Skateland Chandler - ECPv6.15.20//NONSGML v1.0//EN
CALSCALE:GREGORIAN
METHOD:PUBLISH
X-WR-CALNAME:Rink 52 - Skateland Chandler
X-ORIGINAL-URL:https://www.unitedskates.com/skateland-chandler
X-WR-CALDESC:Events for Rink 52 - Skateland Chandler
REFRESH-INTERVAL;VALUE=DURATION:PT1H
X-Robots-Tag:noindex
X-PUBLISHED-TTL:PT1H
BEGIN:VTIMEZONE
TZID:America/Phoenix
BEGIN:STANDARD
TZOFFSETFROM:-0700
TZOFFSETTO:-0700
TZNAME:MST
DTSTART:20240101T000000
END:STANDARD
END:VTIMEZONE
BEGIN:VEVENT
DTSTART;TZID=America/Phoenix:20250126T123000
DTEND;TZID=America/Phoenix:20250126T150000
DTSTAMP:20260423T202047
CREATED:20241130T004843Z
LAST-MODIFIED:20250126T152841Z
UID:11997-1737894600-1737903600@www.unitedskates.com
SUMMARY:🎉 Toy Story Skate Party! 🎉
DESCRIPTION:🎉 Toy Story Skate Party! 🎉\n🛼✨ Get ready to skate and groove to your favorite Disney Hits all session long! It’s going to be a magical day at Skateland Chandler! ✨ \n🎶 Disney Hits All Session!\nDance and skate to the best Disney music\, including your favorite Toy Story tunes! 🎶🛼 \n📅 Event Details\n🗓 Sunday \, January 26\n⏰ 12:30 PM – 3:00 PM\n📍 Skateland Chandler\n1101 W Ray Rd\, Chandler\, AZ 85224\n📞 480-917-9444\n🌐 SkatelandChandler.com \n🎟 Admission \n\n$10 Admission\n$5.00 Skate Rental\n$4.00 for Non-Skating Parents\n(Prices do not include tax)\n\n✨ Special Highlights: \n\nPhoto Ops with Mr. Potato Head\, Rex\, Buzz Lightyear\, and more! 📸\nDress up as your favorite Toy Story or Disney character and join in the fun! 🎭\nA magical atmosphere with Disney Hits playing all day long! 🏰🎶\n\n✨ A Magical Day Awaits! ✨\nPut on your best Disney costume\, bring the whole family\, and get ready for an unforgettable day of skating\, dancing\, and Disney magic! 🌟 \nSee you there\, Toy Story fans! 🚀🐢💫
URL:https://www.unitedskates.com/skateland-chandler/event/%f0%9f%8e%89-toy-story-skate-party-%f0%9f%8e%89/
LOCATION:Skateland Chandler\, 1101 W. Ray Rd.\, Chandler\, AZ\, 85224\, United States
CATEGORIES:Family Events,Public Skates,Special Events
ATTACH;FMTTYPE=image/png:https://unitedskates-assets.sfo3.digitaloceanspaces.com/wp-content/uploads/sites/19/2024/11/Screenshot-2025-01-26-082703.png
END:VEVENT
END:VCALENDAR