BEGIN:VCALENDAR
VERSION:2.0
PRODID:-//Rink 52 - Skateland Chandler - ECPv6.15.20//NONSGML v1.0//EN
CALSCALE:GREGORIAN
METHOD:PUBLISH
X-ORIGINAL-URL:https://www.unitedskates.com/skateland-chandler
X-WR-CALDESC:Events for Rink 52 - Skateland Chandler
REFRESH-INTERVAL;VALUE=DURATION:PT1H
X-Robots-Tag:noindex
X-PUBLISHED-TTL:PT1H
BEGIN:VTIMEZONE
TZID:America/Phoenix
BEGIN:STANDARD
TZOFFSETFROM:-0700
TZOFFSETTO:-0700
TZNAME:MST
DTSTART:20240101T000000
END:STANDARD
END:VTIMEZONE
BEGIN:VEVENT
DTSTART;TZID=America/Phoenix:20250125T123000
DTEND;TZID=America/Phoenix:20250125T150000
DTSTAMP:20260425T090552
CREATED:20250126T151118Z
LAST-MODIFIED:20250325T200628Z
UID:13226-1737808200-1737817200@www.unitedskates.com
SUMMARY:🛼Saturday Public Skate🛼
DESCRIPTION:Join us for a fun-filled Saturday  afternoon at Skateland Chandler from   12:30 PM – 3:00 PM! Get your skates on and groove to the best Top 40 hits. Perfect for friends\, family\, and anyone looking to enjoy a great time on wheels! \n📍 Location: 1101 West Ray Blvd\, Chandler\, AZ 85224\n📞 Contact: 480-917-9444\n🎉 Admission: $11\n🛼 Skate Rental: $5\nBring your own skates or rent ours! \n✨ Birthday Parties Available! ✨\nCelebrate your special day with us — let us make it unforgettable! \nImportant Info: \n\nChildren (ages 3-17) must pay admission and skate rental (or bring their own skates).\nNon-skating adults (spectators) are $4.\nAll Guests are required to sign a waiver\, available at skatelandchandler.com.\n\nAll prices exclude tax. \nCome have fun\, skate\, and make memories at Skateland Chandler!
URL:https://www.unitedskates.com/skateland-chandler/event/skatetastic-saturday-skate/
LOCATION:Skateland Chandler\, 1101 W. Ray Rd.\, Chandler\, AZ\, 85224\, United States
CATEGORIES:Family Events,Public Skates
ATTACH;FMTTYPE=image/jpeg:https://unitedskates-assets.sfo3.digitaloceanspaces.com/wp-content/uploads/sites/19/2022/10/Public-Skate-1200x900-v3.jpg
END:VEVENT
BEGIN:VEVENT
DTSTART;TZID=America/Phoenix:20250125T153000
DTEND;TZID=America/Phoenix:20250125T180000
DTSTAMP:20260425T090552
CREATED:20241130T002644Z
LAST-MODIFIED:20241130T002644Z
UID:11994-1737819000-1737828000@www.unitedskates.com
SUMMARY:🚨 Calling all Marvel fans and superheroes! 🚨
DESCRIPTION:🚨 Calling all Marvel fans and superheroes! 🚨 \nGet ready to skate into action at Skateland Chandler! 🛼💥 \n🦸‍♂️ Captain America Costume Contest 🦸‍♀️\nDress up as your favorite Marvel hero and show off your best Captain America costume for a chance to win awesome prizes! All costume wearers will receive a FREE glow stick to light up the rink! 🌟 \n🎶 Marvel Movie Soundtrack Music\nJam out to your favorite superhero soundtracks while you skate! 🎶✨ \n📅 Event Details\n🗓 Saturday\, January 25th\, 2025\n⏰ 3:30 PM – 6:00 PM\n📍 Skateland Chandler\n1101 W Ray Rd\, Chandler\, AZ 85224\n📞 480-914-9777\n🌐 SkatelandChandler.com \n🍕 Family Special Deal 🍕\nJust $48* for: \n\nLarge 1-Topping Pizza\n10 Wings\nPitcher of Soda\n\n🎟 Admission \n\n$10* for skating\n$5* for skate rental\nNon-skating spectators: $4.00*\n\n✨ Costume Contest + Marvel Vibes = An Epic Day of Fun! ✨\nDon’t miss out on this super-powered skating event! 🦸‍♀️🦸‍♂️ \n*Price does not include tax. \nSee you there\, heroes! 💪🦸‍♂️🦸‍♀️🛼
URL:https://www.unitedskates.com/skateland-chandler/event/%f0%9f%9a%a8-calling-all-marvel-fans-and-superheroes-%f0%9f%9a%a8/
LOCATION:Skateland Chandler\, 1101 W. Ray Rd.\, Chandler\, AZ\, 85224\, United States
CATEGORIES:Family Events,Public Skates,Special Events
ATTACH;FMTTYPE=image/png:https://unitedskates-assets.sfo3.digitaloceanspaces.com/wp-content/uploads/sites/19/2024/11/Screenshot-2024-11-29-172528.png
END:VEVENT
END:VCALENDAR