BEGIN:VCALENDAR
VERSION:2.0
PRODID:-//Rink 52 - Skateland Chandler - ECPv6.15.20//NONSGML v1.0//EN
CALSCALE:GREGORIAN
METHOD:PUBLISH
X-WR-CALNAME:Rink 52 - Skateland Chandler
X-ORIGINAL-URL:https://www.unitedskates.com/skateland-chandler
X-WR-CALDESC:Events for Rink 52 - Skateland Chandler
REFRESH-INTERVAL;VALUE=DURATION:PT1H
X-Robots-Tag:noindex
X-PUBLISHED-TTL:PT1H
BEGIN:VTIMEZONE
TZID:America/Phoenix
BEGIN:STANDARD
TZOFFSETFROM:-0700
TZOFFSETTO:-0700
TZNAME:MST
DTSTART:20230101T000000
END:STANDARD
END:VTIMEZONE
BEGIN:VEVENT
DTSTART;TZID=America/Phoenix:20241220T120000
DTEND;TZID=America/Phoenix:20250105T233000
DTSTAMP:20260425T211138
CREATED:20241125T182338Z
LAST-MODIFIED:20241201T175841Z
UID:11830-1734696000-1736119800@www.unitedskates.com
SUMMARY:🎄🛼 WINTER BREAK FUN STARTS HERE! ❄️✨
DESCRIPTION:Looking for the ultimate way to spend your winter break? Skateland Chandler has an amazing lineup of roller skating events\, themed sessions\, and festive fun for all ages! Whether you’re bringing the kids\, your friends\, or just looking for a great time\, we’ve got something for everyone! \n🌟 Winter Break Highlights: \n\n🎅 Friday\, Dec 20: Kick off the break with our Winter Break Carnival featuring skating\, face painting\, ornament decorating\, and more!\n🏰 Saturday\, Dec 21: Enjoy Disney Hits Skate\, Skate with The Grinch\, and our Glow Skate!\n🍕 Tuesday\, Dec 24: Have breakfast with Santa or enjoy the magical Polar Express Skate!\n🎄 Wednesday\, Dec 25: Celebrate Christmas Day with our Merry Christmas Day Skate – fun for the whole family!\n🐾 Thursday\, Dec 26: Meet Stitch during our Merry Stitch Skate or enjoy Buddy the Elf’s Indoor Snowball Fight!\n🎉 Tuesday\, Dec 31: Ring in the New Year with our Mario New Year’s Eve Skate and Family NYE Pizza Party!\n🎶 Saturday\, Jan 4: Dance through the decades with Pop Divas Skate Party and 80’s Skate!\n\n✨ Why Visit Us? \n\nMeet beloved characters like Santa\, Stitch\, The Grinch\, and more!\nThemed skating events for kids\, teens\, and adults (18+).\nAffordable family fun – admission starts at just $10!\nExciting activities like face painting\, snowball fights\, character appearances\, and glow skating!\n\n📍 Where to Find Us:\nSkateland Chandler\n1101 W. Ray Rd.\, Chandler\, AZ 85224\n📞 Contact: 480-917-9444 \n💻 Plan Your Visit: Check out our full schedule and event details at www.SkatelandChandler.com. \n🛼 Don’t Miss Out! Whether you’re here for the characters\, the games\, or the skating fun\, Skateland Chandler is your destination for winter break excitement. Bring your family and friends to create unforgettable memories on the rink! \n🎉 We can’t wait to see you rolling into the holidays with us!
URL:https://www.unitedskates.com/skateland-chandler/event/%f0%9f%8e%84%f0%9f%9b%bc-winter-break-fun-starts-here-%e2%9d%84%ef%b8%8f%e2%9c%a8/
LOCATION:Skateland Chandler\, 1101 W. Ray Rd.\, Chandler\, AZ\, 85224\, United States
CATEGORIES:Adult Events,Family Events,Public Skates,Special Events
ATTACH;FMTTYPE=image/jpeg:https://unitedskates-assets.sfo3.digitaloceanspaces.com/wp-content/uploads/sites/19/2024/12/Winter-Break-Calendar-front-2024-52-1.jpg
END:VEVENT
BEGIN:VEVENT
DTSTART;TZID=America/Phoenix:20241224T120000
DTEND;TZID=America/Phoenix:20241224T143000
DTSTAMP:20260425T211138
CREATED:20241101T201034Z
LAST-MODIFIED:20241129T235346Z
UID:10991-1735041600-1735050600@www.unitedskates.com
SUMMARY:🎄 Waffle with Santa! 🎄
DESCRIPTION:🎄 Waffle with Santa! 🎄\n\n\n\n\n\n\n\n\n\nJoin us on Tuesday\, December 24 from 12:00 PM – 2:30 PM for a festive skating experience at Skateland Chandler! \n💲 Admission: $15.00 plus tax (includes skate rental & access to the waffles station!)\n👥 All guests must pay admission; no passes accepted. \n🎉 Mix & Mingle with your favorite characters\, take pictures\, enjoy sing-alongs\, and participate in our dance contest! \n📞 Call to Book Your Group NOW! Group rates available—contact Diane at 480.917.9444. \n📍 Location: 1101 W Ray Rd\, Chandler\, AZ 85224\n🌐 Visit: www.skatelandchandler.com \nDon’t miss this chance to take a selfie with Santa and friends! We can’t wait to celebrate the season with you! 🛼🎉✨ \n\n\n\n\n\n\n\n 
URL:https://www.unitedskates.com/skateland-chandler/event/%f0%9f%8e%84-waffle-with-santa-%f0%9f%8e%84/
LOCATION:Skateland Chandler\, 1101 W. Ray Rd.\, Chandler\, AZ\, 85224\, United States
CATEGORIES:Family Events,Public Skates,Special Events
ATTACH;FMTTYPE=image/png:https://unitedskates-assets.sfo3.digitaloceanspaces.com/wp-content/uploads/sites/19/2024/11/Screenshot-2024-11-01-130749.png
END:VEVENT
BEGIN:VEVENT
DTSTART;TZID=America/Phoenix:20241224T150000
DTEND;TZID=America/Phoenix:20241224T170000
DTSTAMP:20260425T211138
CREATED:20241101T201401Z
LAST-MODIFIED:20241101T201401Z
UID:10995-1735052400-1735059600@www.unitedskates.com
SUMMARY:🚂 Polar Express Skate! 🎄
DESCRIPTION:🚂 Polar Express Skate! 🎄 \nJoin us on Tuesday\, December 24 from 3:00 PM – 5:00 PM for a magical skating adventure at Skateland Chandler! \n💲 Admission: $12 (includes access to our Hot Chocolate Bar!)\n🛼 Skate Rental: $5.00\n👥 Spectator Fee: $4.00*\n(*All prices do not include tax) \n✨ Enjoy music from the Polar Express soundtrack and test your knowledge with fun trivia! \n🎉 Wear Your Pajamas for extra holiday cheer! \n📍 Location: 1101 W Ray Road\, Chandler\, AZ 85224\n📞 Call us: 480.917.9444\n🌐 Visit: www.skatelandchandler.com \nDon’t miss out on this festive experience—let’s make it a holiday to remember! 🛼☕✨
URL:https://www.unitedskates.com/skateland-chandler/event/%f0%9f%9a%82-polar-express-skate-%f0%9f%8e%84/
LOCATION:Skateland Chandler\, 1101 W. Ray Rd.\, Chandler\, AZ\, 85224\, United States
CATEGORIES:Family Events,Public Skates,Special Events
ATTACH;FMTTYPE=image/png:https://unitedskates-assets.sfo3.digitaloceanspaces.com/wp-content/uploads/sites/19/2024/11/Screenshot-2024-11-01-131105.png
END:VEVENT
END:VCALENDAR