BEGIN:VCALENDAR
VERSION:2.0
PRODID:-//Rink 52 - Skateland Chandler - ECPv6.15.20//NONSGML v1.0//EN
CALSCALE:GREGORIAN
METHOD:PUBLISH
X-ORIGINAL-URL:https://www.unitedskates.com/skateland-chandler
X-WR-CALDESC:Events for Rink 52 - Skateland Chandler
REFRESH-INTERVAL;VALUE=DURATION:PT1H
X-Robots-Tag:noindex
X-PUBLISHED-TTL:PT1H
BEGIN:VTIMEZONE
TZID:America/Phoenix
BEGIN:STANDARD
TZOFFSETFROM:-0700
TZOFFSETTO:-0700
TZNAME:MST
DTSTART:20230101T000000
END:STANDARD
END:VTIMEZONE
BEGIN:VEVENT
DTSTART;TZID=America/Phoenix:20241114T173000
DTEND;TZID=America/Phoenix:20241114T193000
DTSTAMP:20260425T211454
CREATED:20241101T225624Z
LAST-MODIFIED:20241101T232841Z
UID:11026-1731605400-1731612600@www.unitedskates.com
SUMMARY:🎉 Canned Food Drive Skate! 🥫
DESCRIPTION:🎉 Canned Food Drive Skate! 🥫 \nJoin us on November 14 from 5:30 PM – 7:30 PM for a fun evening of skating while giving back to the community! \n💲 Admission: $12.00 per person\n🛒 Bring a canned food item for $2 off admission! (Please\, no perishables.)\n🛼 Regular Skate Rental: $5.00 \n🍕 Dinner Special: Get a large 1-topping pizza and a pitcher of soda for just $25! \n📍 Location: 1101 W Ray Blvd\, Chandler\, AZ 85224\n📞 Call us: 480.917.9444\n🌐 Visit: www.skatelandchandler.com \n🌟 Group Rates Available! Contact Diane for more details. \nLet’s skate for a cause and enjoy a great evening together! 🛼❤️
URL:https://www.unitedskates.com/skateland-chandler/event/%f0%9f%8e%89-canned-food-drive-skate-%f0%9f%a5%ab/
LOCATION:Skateland Chandler\, 1101 W. Ray Rd.\, Chandler\, AZ\, 85224\, United States
CATEGORIES:Family Events,Public Skates,Special Events
ATTACH;FMTTYPE=image/png:https://unitedskates-assets.sfo3.digitaloceanspaces.com/wp-content/uploads/sites/19/2024/11/Screenshot-2024-11-01-155355.png
END:VEVENT
END:VCALENDAR