BEGIN:VCALENDAR
VERSION:2.0
PRODID:-//Rink 52 - Skateland Chandler - ECPv6.15.20//NONSGML v1.0//EN
CALSCALE:GREGORIAN
METHOD:PUBLISH
X-ORIGINAL-URL:https://www.unitedskates.com/skateland-chandler
X-WR-CALDESC:Events for Rink 52 - Skateland Chandler
REFRESH-INTERVAL;VALUE=DURATION:PT1H
X-Robots-Tag:noindex
X-PUBLISHED-TTL:PT1H
BEGIN:VTIMEZONE
TZID:America/Phoenix
BEGIN:STANDARD
TZOFFSETFROM:-0700
TZOFFSETTO:-0700
TZNAME:MST
DTSTART:20240101T000000
END:STANDARD
END:VTIMEZONE
BEGIN:VEVENT
DTSTART;TZID=America/Phoenix:20250602T180000
DTEND;TZID=America/Phoenix:20250602T203000
DTSTAMP:20260421T115511
CREATED:20250126T143917Z
LAST-MODIFIED:20250520T235603Z
UID:14198-1748887200-1748896200@www.unitedskates.com
SUMMARY:Monday Affordable Family Fun Public Skating
DESCRIPTION:Join us for an unforgettable evening at Skateland Chandler for Affordable Family Fun Public Skating!🥳 \nEvent Details: \n💲 Admission: $7\n🛼 Skate Rental: $5\n👨‍👩‍👧‍👦 Non-Skating Parents: $4 \n✨ Take a break from the ordinary and come skate to your favorite R&B & Top 40 hits! Whether you’re roller skating or just here to enjoy the vibes\, we’ve got something for everyone! 🎶 \nImportant Info: \nAll children ages 3-17 must pay admission and for skate rental (or bring their own skates).\nAll Guests must sign a liability waiver the day of skating at skatelandchandler.com \n✨ We can’t wait to roll with you! ✨
URL:https://www.unitedskates.com/skateland-chandler/event/monday-affordable-family-fun-public-skating-2025-06-02-2025-06-02/2025-06-02/
LOCATION:Skateland Chandler\, 1101 W. Ray Rd.\, Chandler\, AZ\, 85224\, United States
CATEGORIES:Family Events,Public Skates
ATTACH;FMTTYPE=image/jpeg:https://unitedskates-assets.sfo3.digitaloceanspaces.com/wp-content/uploads/sites/19/2023/11/AFF-FAMILY-FUN-SKATE-1200x900-1.jpg
END:VEVENT
BEGIN:VEVENT
DTSTART;TZID=America/Phoenix:20250615T123000
DTEND;TZID=America/Phoenix:20250615T150000
DTSTAMP:20260421T115511
CREATED:20250521T191411Z
LAST-MODIFIED:20250521T191411Z
UID:14852-1749990600-1749999600@www.unitedskates.com
SUMMARY:🎉 Celebrate Dad on Wheels! 🛼 Father’s Day Skates at Skateland Chandler!
DESCRIPTION:🎉 Celebrate Dad on Wheels! 🛼Father’s Day Skates at Skateland Chandler📅 Sunday\, June 15th | ⏰ Two Sessions: 12:30–3:00 PM & 3:30–6:00 PM \nBring the whole family for a rolling good time and show Dad he’s the real MVP this Father’s Day!👨‍👧‍👦 Dads Skate FREE with a paid child’s admission – because he deserves it! \n💥 Special Family Deal:Only $80 for 4 admissions\, 4 skate rentals\, 1 large\, 1 topping pizza\, and a pitcher of soda!Perfect for a fun-filled\, budget-friendly celebration. \n🎟️ Admission Prices:• $11 Online | $12 at the Door• $5 Skate Rentals• $4 Non-Skating Adults• $6 Skate MatesAll pricing does not include taxes and fees. \n📍 1101 W Ray Rd\, Chandler\, AZ 85224📞 480-917-9444 | 🌐 www.SkatelandChandler.com \n\n🔒 Important Guest Information:• All guests\, skating or non-skating\, must sign a liability waiver.• All guests are required to follow posted safety and facility guidelines. \nRoll in\, rock out\, and make unforgettable memories this Father’s Day at Skateland Chandler! 🛼🎶🍕
URL:https://www.unitedskates.com/skateland-chandler/event/%f0%9f%8e%89-celebrate-dad-on-wheels-%f0%9f%9b%bc-fathers-day-skates-at-skateland-chandler/
LOCATION:Skateland Chandler\, 1101 W. Ray Rd.\, Chandler\, AZ\, 85224\, United States
CATEGORIES:Family Events,Public Skates,Special Events
ATTACH;FMTTYPE=image/png:https://unitedskates-assets.sfo3.digitaloceanspaces.com/wp-content/uploads/sites/19/2025/05/Screenshot-2025-05-21-121032.png
END:VEVENT
BEGIN:VEVENT
DTSTART;TZID=America/Phoenix:20250618T180000
DTEND;TZID=America/Phoenix:20250618T203000
DTSTAMP:20260421T115511
CREATED:20250521T201542Z
LAST-MODIFIED:20250521T201542Z
UID:14865-1750269600-1750278600@www.unitedskates.com
SUMMARY:🛼Pride Roller Skate Night at USA Skateland Chandler! 🌈🎉
DESCRIPTION:Get ready to roll with PRIDE at the LGBTQ+ Pride Roller Skate Night at USA Skateland Chandler! 🌈🎉 \n🛼 Celebrate Pride Month in StyleBring your friends and family for a night full of fun\, music\, and rainbow vibes! Glide to the beat with a live DJ spinning your favorite hits from the 2000s\, 2010s\, and today. \n📅 Date: Wednesday\, June 18🕕 Time: 6:00 PM – 8:30 PM🎟️ Admission: Only $12 (Skate rental extra) \n\n\nSkate Rental: $5.00 \n\n\nSkate Mate: $6.00 \n\n\nNon-skating Adults: $4.00 \n\n\n🍕 Have Dinner at the Rink!Grab the $30 Pizza Meal Deal\, which includes: \n\n\n1 Large One-Topping Pizza \n\n\n1 Pitcher of Soda \n\n\n20 Game CreditsPerfect for sharing and keeping your energy up between laps! \n\n\n📍 Location: 1101 W Ray Rd\, Chandler\, AZ 85224📞 Phone: 480-917-9444🔗 More Info: www.SkatelandChandler.com \n⚠️ Important Info: \n\n\nAll prices exclude taxes and fees. \n\n\nAll guests\, whether skating or not\, must sign a liability waiver before entering. \n\n\nWrist guards are required for all skaters for your safety. \n\n\nDon’t miss this high-energy\, family-friendly celebration of love\, pride\, and community. Let’s roll into Pride Month with color\, joy\, and unity! 🌈✨
URL:https://www.unitedskates.com/skateland-chandler/event/%f0%9f%9b%bcpride-roller-skate-night-at-usa-skateland-chandler-%f0%9f%8c%88%f0%9f%8e%89/
LOCATION:Skateland Chandler\, 1101 W. Ray Rd.\, Chandler\, AZ\, 85224\, United States
CATEGORIES:Family Events,Public Skates,Special Events
ATTACH;FMTTYPE=image/png:https://unitedskates-assets.sfo3.digitaloceanspaces.com/wp-content/uploads/sites/19/2025/05/Screenshot-2025-05-21-131028.png
END:VEVENT
BEGIN:VEVENT
DTSTART;TZID=America/Phoenix:20250619T180000
DTEND;TZID=America/Phoenix:20250619T203000
DTSTAMP:20260421T115511
CREATED:20250521T193343Z
LAST-MODIFIED:20250521T193343Z
UID:14856-1750356000-1750365000@www.unitedskates.com
SUMMARY:🖤❤️💚 Roll into Freedom! Juneteenth Celebration Skate at Skateland Chandler!
DESCRIPTION:🖤❤️💚 Roll into Freedom!Juneteenth Celebration Skate at Skateland Chandler📅 Thursday\, June 19th | 📍 1101 W Ray Rd\, Chandler\, AZ 85224 \nJoin us as we honor Juneteenth—a day marking the emancipation and enduring resilience of African American communities. Let’s celebrate with joy\, unity\, and movement! \n🎉 Bring your family and friends for a meaningful and fun-filled event recognizing history\, culture\, and community strength. \n🛼 What to Expect:• Admission: $12.00• Skate Rentals: $5.00• Non-Skating Parents: $4.00• Café Specials\, History Trivia\, Cool Merch & More!• 🎶 Grooving to the best of the 80s\, 90s\, and 2000s! \n\nAll pricing does not include taxes and fees. \n\n🌟 Whether you’re rolling or relaxing\, this is a time to reflect\, connect\, and uplift—together on the rink. \n\n🔒 Important Guest Info:• All guests\, skating or non-skating\, must sign a liability waiver• All guests are required to follow posted safety and facility rules \n📞 480-917-9444 | 🌐 www.SkatelandChandler.com \n\nLet the rhythm of freedom guide your wheels—Celebrate Juneteenth at Skateland Chandler! 🛼✨
URL:https://www.unitedskates.com/skateland-chandler/event/%f0%9f%96%a4%e2%9d%a4%ef%b8%8f%f0%9f%92%9a-roll-into-freedom-juneteenth-celebration-skate-at-skateland-chandler/
LOCATION:Skateland Chandler\, 1101 W. Ray Rd.\, Chandler\, AZ\, 85224\, United States
CATEGORIES:Family Events,Public Skates,Special Events
ATTACH;FMTTYPE=image/png:https://unitedskates-assets.sfo3.digitaloceanspaces.com/wp-content/uploads/sites/19/2025/05/Screenshot-2025-05-21-123307.png
END:VEVENT
BEGIN:VEVENT
DTSTART;TZID=America/Phoenix:20250626T180000
DTEND;TZID=America/Phoenix:20250626T203000
DTSTAMP:20260421T115511
CREATED:20250521T194751Z
LAST-MODIFIED:20250521T195227Z
UID:14859-1750960800-1750969800@www.unitedskates.com
SUMMARY:🌟 Moonwalk into the Magic! 🌟 🎤 Michael Jackson Tribute Skate 🕺
DESCRIPTION:🌟 Moonwalk into the Magic! 🌟🎤 Michael Jackson Tribute Skate 🕺📅 Thursday\, June 26 | ⏰ 6:00 PM – 8:30 PM📍 1101 W Ray Rd\, Chandler\, AZ 85224 \nGet ready to celebrate the life\, legacy\, and legendary moves of the one and only King of Pop! Join us at Skateland Chandler for an unforgettable night filled with MJ’s greatest hits and classic pop tracks that will keep you skating all night long. \n✨ What’s Happening:• 🎶 The BEST of Michael Jackson & Pop Classics• 🛼 High-energy skating\, themed fun\, and throwback vibes• 🧤 Dress like MJ\, moonwalk contests & more surprises! \n🎟️ Pricing:• Admission: $12• Skate Rental: $5• Non-Skating Adults: $4All pricing does not include taxes and fees. \n\n🔒 Important Guest Information:• All guests\, skating or non-skating\, must sign a liability waiver• All guests are required to follow posted safety and facility rules \n📞 480-917-9444 | 🌐 www.SkatelandChandler.com \n\n🎵 Don’t stop ’til you get enough—honor MJ in style and roll the night away at Skateland Chandler’s Michael Jackson Tribute Skate! 🕺✨
URL:https://www.unitedskates.com/skateland-chandler/event/%f0%9f%8c%9f-moonwalk-into-the-magic-%f0%9f%8c%9f-%f0%9f%8e%a4-michael-jackson-tribute-skate-%f0%9f%95%ba/
LOCATION:Skateland Chandler\, 1101 W. Ray Rd.\, Chandler\, AZ\, 85224\, United States
CATEGORIES:Family Events,Public Skates,Special Events
ATTACH;FMTTYPE=image/png:https://unitedskates-assets.sfo3.digitaloceanspaces.com/wp-content/uploads/sites/19/2025/05/Screenshot-2025-05-21-125153.png
END:VEVENT
END:VCALENDAR