BEGIN:VCALENDAR
VERSION:2.0
PRODID:-//Rink 52 - Skateland Chandler - ECPv6.15.20//NONSGML v1.0//EN
CALSCALE:GREGORIAN
METHOD:PUBLISH
X-ORIGINAL-URL:https://www.unitedskates.com/skateland-chandler
X-WR-CALDESC:Events for Rink 52 - Skateland Chandler
REFRESH-INTERVAL;VALUE=DURATION:PT1H
X-Robots-Tag:noindex
X-PUBLISHED-TTL:PT1H
BEGIN:VTIMEZONE
TZID:America/Phoenix
BEGIN:STANDARD
TZOFFSETFROM:-0700
TZOFFSETTO:-0700
TZNAME:MST
DTSTART:20250101T000000
END:STANDARD
END:VTIMEZONE
BEGIN:VEVENT
DTSTART;TZID=America/Phoenix:20260401T163000
DTEND;TZID=America/Phoenix:20260401T173000
DTSTAMP:20260425T155714
CREATED:20251124T234000Z
LAST-MODIFIED:20260406T183805Z
UID:15696-1775061000-1775064600@www.unitedskates.com
SUMMARY:🛼Learn to Skate Every Wednesday!🌟
DESCRIPTION:Skateland Chandler Presents… Learn to Skate Every Wednesday! \n⏰ When: Every Wednesday🕟 Time: 4:30pm–5:30pm📍 Where: Skateland Chandler | 1101 W Ray Rd\, Chandler\, AZ 85224 \nReady to roll? 🛼 Whether you’re a beginner or looking to sharpen your skills\, our Wednesday skate classes are perfect for all ages! Kids (4 & up) and adults are welcome to join us for a fun and interactive lesson. Our skate family is here to support you every step of the way! \nOnly $20 per person!Includes:🏆 Skate Lesson🎟️ Admission🛹 Skate Rental🧸 Fisher Price Skates available for little ones💪 FREE Wrist Guards for extra safety \n✨ BONUS: After class\, guests are welcome to stay and skate for the 5:30pm–8:00pm public session!Hungry? Add a slice of pizza and a drink for just $5 with your admission! \nStop by our lobby for more details or to gear up for your class! \nCome skate with us this Wednesday — we can’t wait to meet you! \n📞 Call 480-917-9444 or visit SkatelandChandler.com for more info.
URL:https://www.unitedskates.com/skateland-chandler/event/%f0%9f%9b%bclearn-to-skate-every-wednesday%f0%9f%8c%9f/2026-04-01/
LOCATION:Skateland Chandler\, 1101 W. Ray Rd.\, Chandler\, AZ\, 85224\, United States
CATEGORIES:Lessons
ATTACH;FMTTYPE=image/jpeg:https://unitedskates-assets.sfo3.digitaloceanspaces.com/wp-content/uploads/sites/19/2023/12/AZ21-004-Skate-School-Facebook-Images-2.jpg
END:VEVENT
END:VCALENDAR