BEGIN:VCALENDAR
VERSION:2.0
PRODID:-//Rink 52 - Skateland Chandler - ECPv6.15.20//NONSGML v1.0//EN
CALSCALE:GREGORIAN
METHOD:PUBLISH
X-ORIGINAL-URL:https://www.unitedskates.com/skateland-chandler
X-WR-CALDESC:Events for Rink 52 - Skateland Chandler
REFRESH-INTERVAL;VALUE=DURATION:PT1H
X-Robots-Tag:noindex
X-PUBLISHED-TTL:PT1H
BEGIN:VTIMEZONE
TZID:America/Phoenix
BEGIN:STANDARD
TZOFFSETFROM:-0700
TZOFFSETTO:-0700
TZNAME:MST
DTSTART:20250101T000000
END:STANDARD
END:VTIMEZONE
BEGIN:VEVENT
DTSTART;TZID=America/Phoenix:20260204T163000
DTEND;TZID=America/Phoenix:20260204T173000
DTSTAMP:20260425T203533
CREATED:20251124T234000Z
LAST-MODIFIED:20260406T183804Z
UID:15688-1770222600-1770226200@www.unitedskates.com
SUMMARY:🛼Learn to Skate Every Wednesday!🌟
DESCRIPTION:Skateland Chandler Presents… Learn to Skate Every Wednesday! \n⏰ When: Every Wednesday🕟 Time: 4:30pm–5:30pm📍 Where: Skateland Chandler | 1101 W Ray Rd\, Chandler\, AZ 85224 \nReady to roll? 🛼 Whether you’re a beginner or looking to sharpen your skills\, our Wednesday skate classes are perfect for all ages! Kids (4 & up) and adults are welcome to join us for a fun and interactive lesson. Our skate family is here to support you every step of the way! \nOnly $20 per person!Includes:🏆 Skate Lesson🎟️ Admission🛹 Skate Rental🧸 Fisher Price Skates available for little ones💪 FREE Wrist Guards for extra safety \n✨ BONUS: After class\, guests are welcome to stay and skate for the 5:30pm–8:00pm public session!Hungry? Add a slice of pizza and a drink for just $5 with your admission! \nStop by our lobby for more details or to gear up for your class! \nCome skate with us this Wednesday — we can’t wait to meet you! \n📞 Call 480-917-9444 or visit SkatelandChandler.com for more info.
URL:https://www.unitedskates.com/skateland-chandler/event/%f0%9f%9b%bclearn-to-skate-every-wednesday%f0%9f%8c%9f/2026-02-04/
LOCATION:Skateland Chandler\, 1101 W. Ray Rd.\, Chandler\, AZ\, 85224\, United States
CATEGORIES:Lessons
ATTACH;FMTTYPE=image/jpeg:https://unitedskates-assets.sfo3.digitaloceanspaces.com/wp-content/uploads/sites/19/2023/12/AZ21-004-Skate-School-Facebook-Images-2.jpg
END:VEVENT
BEGIN:VEVENT
DTSTART;TZID=America/Phoenix:20260207T090000
DTEND;TZID=America/Phoenix:20260207T100000
DTSTAMP:20260425T203533
CREATED:20241108T165354Z
LAST-MODIFIED:20241108T165354Z
UID:16042-1770454800-1770458400@www.unitedskates.com
SUMMARY:Learn to Skate Every Saturday Morning!
DESCRIPTION:Skateland Chandler Presents… Learn to Skate Every Saturday Morning!\n\n\n\n\n\n\n\n\n\n\n⏰ When: Every Saturday\n🕘 Time: 9:00am-10:00am (Doors open at 8:45am\, and will close at 9:00am sharp!)\n📍 Where: Skateland Chandler | 1101 W Ray Rd\, Chandler\, AZ 85224 \nReady to roll? 🛼 Whether you’re a beginner or just looking to brush up on your skills\, our Saturday morning skate classes are perfect for all ages! Kids (4 & up) and adults of all ages are welcome to join us for a fun and interactive lesson. Our family of skaters is here to support you every step of the way! \nOnly $20 per person!\nIncludes: \n\nSkate Lesson 🏆\nAdmission 🎟️\nSkate Rental 🛹\nFisher Price Skates Available for the little ones!\nFREE Wrist Guards for extra safety 💪\n\nStop by our lobby for more details or to gear up for your class! \nCome skate with us this Saturday — we can’t wait to meet you! \n📞 Call 480-917-9444 or visit SkatelandChandler.com for more info.
URL:https://www.unitedskates.com/skateland-chandler/event/learn-to-skate-every-saturday-morning-2025-05-24/2026-02-07/
LOCATION:Skateland Chandler\, 1101 W. Ray Rd.\, Chandler\, AZ\, 85224\, United States
CATEGORIES:Adult Events,Family Events,Lessons,Public Skates
ATTACH;FMTTYPE=image/png:https://unitedskates-assets.sfo3.digitaloceanspaces.com/wp-content/uploads/sites/19/2024/11/Screenshot-2024-11-08-094601.png
END:VEVENT
BEGIN:VEVENT
DTSTART;TZID=America/Phoenix:20260211T163000
DTEND;TZID=America/Phoenix:20260211T173000
DTSTAMP:20260425T203533
CREATED:20251124T234000Z
LAST-MODIFIED:20260406T183804Z
UID:15689-1770827400-1770831000@www.unitedskates.com
SUMMARY:🛼Learn to Skate Every Wednesday!🌟
DESCRIPTION:Skateland Chandler Presents… Learn to Skate Every Wednesday! \n⏰ When: Every Wednesday🕟 Time: 4:30pm–5:30pm📍 Where: Skateland Chandler | 1101 W Ray Rd\, Chandler\, AZ 85224 \nReady to roll? 🛼 Whether you’re a beginner or looking to sharpen your skills\, our Wednesday skate classes are perfect for all ages! Kids (4 & up) and adults are welcome to join us for a fun and interactive lesson. Our skate family is here to support you every step of the way! \nOnly $20 per person!Includes:🏆 Skate Lesson🎟️ Admission🛹 Skate Rental🧸 Fisher Price Skates available for little ones💪 FREE Wrist Guards for extra safety \n✨ BONUS: After class\, guests are welcome to stay and skate for the 5:30pm–8:00pm public session!Hungry? Add a slice of pizza and a drink for just $5 with your admission! \nStop by our lobby for more details or to gear up for your class! \nCome skate with us this Wednesday — we can’t wait to meet you! \n📞 Call 480-917-9444 or visit SkatelandChandler.com for more info.
URL:https://www.unitedskates.com/skateland-chandler/event/%f0%9f%9b%bclearn-to-skate-every-wednesday%f0%9f%8c%9f/2026-02-11/
LOCATION:Skateland Chandler\, 1101 W. Ray Rd.\, Chandler\, AZ\, 85224\, United States
CATEGORIES:Lessons
ATTACH;FMTTYPE=image/jpeg:https://unitedskates-assets.sfo3.digitaloceanspaces.com/wp-content/uploads/sites/19/2023/12/AZ21-004-Skate-School-Facebook-Images-2.jpg
END:VEVENT
BEGIN:VEVENT
DTSTART;TZID=America/Phoenix:20260214T090000
DTEND;TZID=America/Phoenix:20260214T100000
DTSTAMP:20260425T203533
CREATED:20241108T165354Z
LAST-MODIFIED:20241108T165354Z
UID:16043-1771059600-1771063200@www.unitedskates.com
SUMMARY:Learn to Skate Every Saturday Morning!
DESCRIPTION:Skateland Chandler Presents… Learn to Skate Every Saturday Morning!\n\n\n\n\n\n\n\n\n\n\n⏰ When: Every Saturday\n🕘 Time: 9:00am-10:00am (Doors open at 8:45am\, and will close at 9:00am sharp!)\n📍 Where: Skateland Chandler | 1101 W Ray Rd\, Chandler\, AZ 85224 \nReady to roll? 🛼 Whether you’re a beginner or just looking to brush up on your skills\, our Saturday morning skate classes are perfect for all ages! Kids (4 & up) and adults of all ages are welcome to join us for a fun and interactive lesson. Our family of skaters is here to support you every step of the way! \nOnly $20 per person!\nIncludes: \n\nSkate Lesson 🏆\nAdmission 🎟️\nSkate Rental 🛹\nFisher Price Skates Available for the little ones!\nFREE Wrist Guards for extra safety 💪\n\nStop by our lobby for more details or to gear up for your class! \nCome skate with us this Saturday — we can’t wait to meet you! \n📞 Call 480-917-9444 or visit SkatelandChandler.com for more info.
URL:https://www.unitedskates.com/skateland-chandler/event/learn-to-skate-every-saturday-morning-2025-05-24/2026-02-14/
LOCATION:Skateland Chandler\, 1101 W. Ray Rd.\, Chandler\, AZ\, 85224\, United States
CATEGORIES:Adult Events,Family Events,Lessons,Public Skates
ATTACH;FMTTYPE=image/png:https://unitedskates-assets.sfo3.digitaloceanspaces.com/wp-content/uploads/sites/19/2024/11/Screenshot-2024-11-08-094601.png
END:VEVENT
BEGIN:VEVENT
DTSTART;TZID=America/Phoenix:20260218T163000
DTEND;TZID=America/Phoenix:20260218T173000
DTSTAMP:20260425T203533
CREATED:20251124T234000Z
LAST-MODIFIED:20260406T183804Z
UID:15690-1771432200-1771435800@www.unitedskates.com
SUMMARY:🛼Learn to Skate Every Wednesday!🌟
DESCRIPTION:Skateland Chandler Presents… Learn to Skate Every Wednesday! \n⏰ When: Every Wednesday🕟 Time: 4:30pm–5:30pm📍 Where: Skateland Chandler | 1101 W Ray Rd\, Chandler\, AZ 85224 \nReady to roll? 🛼 Whether you’re a beginner or looking to sharpen your skills\, our Wednesday skate classes are perfect for all ages! Kids (4 & up) and adults are welcome to join us for a fun and interactive lesson. Our skate family is here to support you every step of the way! \nOnly $20 per person!Includes:🏆 Skate Lesson🎟️ Admission🛹 Skate Rental🧸 Fisher Price Skates available for little ones💪 FREE Wrist Guards for extra safety \n✨ BONUS: After class\, guests are welcome to stay and skate for the 5:30pm–8:00pm public session!Hungry? Add a slice of pizza and a drink for just $5 with your admission! \nStop by our lobby for more details or to gear up for your class! \nCome skate with us this Wednesday — we can’t wait to meet you! \n📞 Call 480-917-9444 or visit SkatelandChandler.com for more info.
URL:https://www.unitedskates.com/skateland-chandler/event/%f0%9f%9b%bclearn-to-skate-every-wednesday%f0%9f%8c%9f/2026-02-18/
LOCATION:Skateland Chandler\, 1101 W. Ray Rd.\, Chandler\, AZ\, 85224\, United States
CATEGORIES:Lessons
ATTACH;FMTTYPE=image/jpeg:https://unitedskates-assets.sfo3.digitaloceanspaces.com/wp-content/uploads/sites/19/2023/12/AZ21-004-Skate-School-Facebook-Images-2.jpg
END:VEVENT
BEGIN:VEVENT
DTSTART;TZID=America/Phoenix:20260221T090000
DTEND;TZID=America/Phoenix:20260221T100000
DTSTAMP:20260425T203533
CREATED:20241108T165354Z
LAST-MODIFIED:20241108T165354Z
UID:16044-1771664400-1771668000@www.unitedskates.com
SUMMARY:Learn to Skate Every Saturday Morning!
DESCRIPTION:Skateland Chandler Presents… Learn to Skate Every Saturday Morning!\n\n\n\n\n\n\n\n\n\n\n⏰ When: Every Saturday\n🕘 Time: 9:00am-10:00am (Doors open at 8:45am\, and will close at 9:00am sharp!)\n📍 Where: Skateland Chandler | 1101 W Ray Rd\, Chandler\, AZ 85224 \nReady to roll? 🛼 Whether you’re a beginner or just looking to brush up on your skills\, our Saturday morning skate classes are perfect for all ages! Kids (4 & up) and adults of all ages are welcome to join us for a fun and interactive lesson. Our family of skaters is here to support you every step of the way! \nOnly $20 per person!\nIncludes: \n\nSkate Lesson 🏆\nAdmission 🎟️\nSkate Rental 🛹\nFisher Price Skates Available for the little ones!\nFREE Wrist Guards for extra safety 💪\n\nStop by our lobby for more details or to gear up for your class! \nCome skate with us this Saturday — we can’t wait to meet you! \n📞 Call 480-917-9444 or visit SkatelandChandler.com for more info.
URL:https://www.unitedskates.com/skateland-chandler/event/learn-to-skate-every-saturday-morning-2025-05-24/2026-02-21/
LOCATION:Skateland Chandler\, 1101 W. Ray Rd.\, Chandler\, AZ\, 85224\, United States
CATEGORIES:Adult Events,Family Events,Lessons,Public Skates
ATTACH;FMTTYPE=image/png:https://unitedskates-assets.sfo3.digitaloceanspaces.com/wp-content/uploads/sites/19/2024/11/Screenshot-2024-11-08-094601.png
END:VEVENT
BEGIN:VEVENT
DTSTART;TZID=America/Phoenix:20260225T163000
DTEND;TZID=America/Phoenix:20260225T173000
DTSTAMP:20260425T203533
CREATED:20251124T234000Z
LAST-MODIFIED:20260406T183805Z
UID:15691-1772037000-1772040600@www.unitedskates.com
SUMMARY:🛼Learn to Skate Every Wednesday!🌟
DESCRIPTION:Skateland Chandler Presents… Learn to Skate Every Wednesday! \n⏰ When: Every Wednesday🕟 Time: 4:30pm–5:30pm📍 Where: Skateland Chandler | 1101 W Ray Rd\, Chandler\, AZ 85224 \nReady to roll? 🛼 Whether you’re a beginner or looking to sharpen your skills\, our Wednesday skate classes are perfect for all ages! Kids (4 & up) and adults are welcome to join us for a fun and interactive lesson. Our skate family is here to support you every step of the way! \nOnly $20 per person!Includes:🏆 Skate Lesson🎟️ Admission🛹 Skate Rental🧸 Fisher Price Skates available for little ones💪 FREE Wrist Guards for extra safety \n✨ BONUS: After class\, guests are welcome to stay and skate for the 5:30pm–8:00pm public session!Hungry? Add a slice of pizza and a drink for just $5 with your admission! \nStop by our lobby for more details or to gear up for your class! \nCome skate with us this Wednesday — we can’t wait to meet you! \n📞 Call 480-917-9444 or visit SkatelandChandler.com for more info.
URL:https://www.unitedskates.com/skateland-chandler/event/%f0%9f%9b%bclearn-to-skate-every-wednesday%f0%9f%8c%9f/2026-02-25/
LOCATION:Skateland Chandler\, 1101 W. Ray Rd.\, Chandler\, AZ\, 85224\, United States
CATEGORIES:Lessons
ATTACH;FMTTYPE=image/jpeg:https://unitedskates-assets.sfo3.digitaloceanspaces.com/wp-content/uploads/sites/19/2023/12/AZ21-004-Skate-School-Facebook-Images-2.jpg
END:VEVENT
BEGIN:VEVENT
DTSTART;TZID=America/Phoenix:20260228T090000
DTEND;TZID=America/Phoenix:20260228T100000
DTSTAMP:20260425T203533
CREATED:20241108T165354Z
LAST-MODIFIED:20241108T165354Z
UID:16045-1772269200-1772272800@www.unitedskates.com
SUMMARY:Learn to Skate Every Saturday Morning!
DESCRIPTION:Skateland Chandler Presents… Learn to Skate Every Saturday Morning!\n\n\n\n\n\n\n\n\n\n\n⏰ When: Every Saturday\n🕘 Time: 9:00am-10:00am (Doors open at 8:45am\, and will close at 9:00am sharp!)\n📍 Where: Skateland Chandler | 1101 W Ray Rd\, Chandler\, AZ 85224 \nReady to roll? 🛼 Whether you’re a beginner or just looking to brush up on your skills\, our Saturday morning skate classes are perfect for all ages! Kids (4 & up) and adults of all ages are welcome to join us for a fun and interactive lesson. Our family of skaters is here to support you every step of the way! \nOnly $20 per person!\nIncludes: \n\nSkate Lesson 🏆\nAdmission 🎟️\nSkate Rental 🛹\nFisher Price Skates Available for the little ones!\nFREE Wrist Guards for extra safety 💪\n\nStop by our lobby for more details or to gear up for your class! \nCome skate with us this Saturday — we can’t wait to meet you! \n📞 Call 480-917-9444 or visit SkatelandChandler.com for more info.
URL:https://www.unitedskates.com/skateland-chandler/event/learn-to-skate-every-saturday-morning-2025-05-24/2026-02-28/
LOCATION:Skateland Chandler\, 1101 W. Ray Rd.\, Chandler\, AZ\, 85224\, United States
CATEGORIES:Adult Events,Family Events,Lessons,Public Skates
ATTACH;FMTTYPE=image/png:https://unitedskates-assets.sfo3.digitaloceanspaces.com/wp-content/uploads/sites/19/2024/11/Screenshot-2024-11-08-094601.png
END:VEVENT
END:VCALENDAR