BEGIN:VCALENDAR
VERSION:2.0
PRODID:-//Rink 2 - Skate Zone 71 - ECPv6.15.20//NONSGML v1.0//EN
CALSCALE:GREGORIAN
METHOD:PUBLISH
X-ORIGINAL-URL:https://www.unitedskates.com/skate-zone-71
X-WR-CALDESC:Events for Rink 2 - Skate Zone 71
REFRESH-INTERVAL;VALUE=DURATION:PT1H
X-Robots-Tag:noindex
X-PUBLISHED-TTL:PT1H
BEGIN:VTIMEZONE
TZID:America/New_York
BEGIN:DAYLIGHT
TZOFFSETFROM:-0500
TZOFFSETTO:-0400
TZNAME:EDT
DTSTART:20250309T070000
END:DAYLIGHT
BEGIN:STANDARD
TZOFFSETFROM:-0400
TZOFFSETTO:-0500
TZNAME:EST
DTSTART:20251102T060000
END:STANDARD
BEGIN:DAYLIGHT
TZOFFSETFROM:-0500
TZOFFSETTO:-0400
TZNAME:EDT
DTSTART:20260308T070000
END:DAYLIGHT
BEGIN:STANDARD
TZOFFSETFROM:-0400
TZOFFSETTO:-0500
TZNAME:EST
DTSTART:20261101T060000
END:STANDARD
BEGIN:DAYLIGHT
TZOFFSETFROM:-0500
TZOFFSETTO:-0400
TZNAME:EDT
DTSTART:20270314T070000
END:DAYLIGHT
BEGIN:STANDARD
TZOFFSETFROM:-0400
TZOFFSETTO:-0500
TZNAME:EST
DTSTART:20271107T060000
END:STANDARD
END:VTIMEZONE
BEGIN:VEVENT
DTSTART;TZID=America/New_York:20260317T180000
DTEND;TZID=America/New_York:20260317T203000
DTSTAMP:20260419T084724
CREATED:20260131T193555Z
LAST-MODIFIED:20260131T193555Z
UID:40199-1773770400-1773779400@www.unitedskates.com
SUMMARY:St. Patrick's Day Glow Skate
DESCRIPTION:St. Patrick’s Day Glow Skate\nTuesday March 17th | 6:00 PM – 8:30 PM \nCelebrate St. Patrick’s Day with a high energy glow roller skate session packed with lights\, music and lucky vibes! Enjoy Green Cotton Candy Bags and Lucky Cafe Specials! \n🎟️ Admission: 2 for $12.00 Admission or 1 for $7.00 (includes Glow Stick)🛼 Skate Rental: $6.00 \nTICKETS CAN BE RESERVED AHEAD OF TIME AND SKATE ZONE WILL TAKE PAYMENT AT ADMISSIONS AT THE TIME OF THE EVENT\, TICKETS CAN ALSO BE PURCHASED DIRECTLY AT ADMISSIONS \nImportant Info: \n\nAll guests ages 3-17 must pay admission & skate rental (or bring their own skates).\nNon-skating adults may enter at no charge.\nOnline waiver required for all Skating Individuals (Adults & Parents of Children Skating) Must Fill Out The Skating Waiver. Signed Waivers Must Be Shown At Admissions Before Entry\, Download the Confirmation And Have It Ready To Keep The Check In Process Smooth! Effective 10/11/2024\n\n⏰ Session Times: Begin and end at the posted start & end time—no stayovers allowed. \n💥 Group Rates available for Parties of 15 or More – CLICK HERE for Reservations\n🎉 Birthday Parties available – CLICK HERE
URL:https://www.unitedskates.com/skate-zone-71/event/st-patricks-day-glow-skate/
LOCATION:Skate Zone 71\, 4900 Evanswood Ddr.\, Columbus\, OH\, 43229\, United States
CATEGORIES:Public Skates,Special Events
ATTACH;FMTTYPE=image/png:https://unitedskates-assets.sfo3.digitaloceanspaces.com/wp-content/uploads/sites/7/2026/01/3.17-St-Patricks-Glow-Skate.png
END:VEVENT
END:VCALENDAR