BEGIN:VCALENDAR
VERSION:2.0
PRODID:-//Rink 2 - Skate Zone 71 - ECPv6.15.20//NONSGML v1.0//EN
CALSCALE:GREGORIAN
METHOD:PUBLISH
X-WR-CALNAME:Rink 2 - Skate Zone 71
X-ORIGINAL-URL:https://www.unitedskates.com/skate-zone-71
X-WR-CALDESC:Events for Rink 2 - Skate Zone 71
REFRESH-INTERVAL;VALUE=DURATION:PT1H
X-Robots-Tag:noindex
X-PUBLISHED-TTL:PT1H
BEGIN:VTIMEZONE
TZID:America/New_York
BEGIN:DAYLIGHT
TZOFFSETFROM:-0500
TZOFFSETTO:-0400
TZNAME:EDT
DTSTART:20250309T070000
END:DAYLIGHT
BEGIN:STANDARD
TZOFFSETFROM:-0400
TZOFFSETTO:-0500
TZNAME:EST
DTSTART:20251102T060000
END:STANDARD
BEGIN:DAYLIGHT
TZOFFSETFROM:-0500
TZOFFSETTO:-0400
TZNAME:EDT
DTSTART:20260308T070000
END:DAYLIGHT
BEGIN:STANDARD
TZOFFSETFROM:-0400
TZOFFSETTO:-0500
TZNAME:EST
DTSTART:20261101T060000
END:STANDARD
BEGIN:DAYLIGHT
TZOFFSETFROM:-0500
TZOFFSETTO:-0400
TZNAME:EDT
DTSTART:20270314T070000
END:DAYLIGHT
BEGIN:STANDARD
TZOFFSETFROM:-0400
TZOFFSETTO:-0500
TZNAME:EST
DTSTART:20271107T060000
END:STANDARD
END:VTIMEZONE
BEGIN:VEVENT
DTSTART;TZID=America/New_York:20260127T140000
DTEND;TZID=America/New_York:20260127T163000
DTSTAMP:20260421T093128
CREATED:20260127T162208Z
LAST-MODIFIED:20260127T164044Z
UID:40130-1769522400-1769531400@www.unitedskates.com
SUMMARY:School Is Out - Come Skating!!
DESCRIPTION:School’s Out Skate\nTuesday January 27th | 2:00 PM – 4:30 PM \nWednesday January 28th | 12:00 PM – 2:30 PM \nNo School – Come Skate With Us!! We’ve got a daytime session for everyone that needs something fun to do while school is out! \n🎟️ Admission: $10.00 includes Skate Rental \nImportant Info: \n\nAll guests ages 3-17 must pay admission & skate rental (or bring their own skates).\nNon-skating adults may enter at no charge.\nOnline waiver required for all Skating Individuals (Adults & Parents of Children Skating) Must Fill Out The Skating Waiver. Signed Waivers Must Be Shown At Admissions Before Entry\, Download the Confirmation And Have It Ready To Keep The Check In Process Smooth!
URL:https://www.unitedskates.com/skate-zone-71/event/school-is-out-come-skating/2026-01-27/
LOCATION:Skate Zone 71\, 4900 Evanswood Ddr.\, Columbus\, OH\, 43229\, United States
CATEGORIES:Public Skates,Special Events
ATTACH;FMTTYPE=image/png:https://unitedskates-assets.sfo3.digitaloceanspaces.com/wp-content/uploads/sites/7/2026/01/School-Is-Out-Flyer-2-Days-scaled.png
END:VEVENT
BEGIN:VEVENT
DTSTART;TZID=America/New_York:20260127T210000
DTEND;TZID=America/New_York:20260128T000000
DTSTAMP:20260421T093128
CREATED:20260125T145644Z
LAST-MODIFIED:20260127T204750Z
UID:40113-1769547600-1769558400@www.unitedskates.com
SUMMARY:Adult Night Make Up
DESCRIPTION:Sunday January 25th Make Up Adult Skate | 9:00pm-12:00am\n\nAdmission: $13.00\nSkate Rental: $6.00\nNon-Skating Admission: $19.00\nAdult Skates 18+ ONLY with Valid Photo ID\n\n⏰ Session Times: Begin and end at the posted start & end time. \n🚨 Important Info: \n\nOnline waiver required for all entering the building. Click here to fill it out. Please have your signed waiver ready to show at check-in to make the process quick and easy. Effective 10/11/2024
URL:https://www.unitedskates.com/skate-zone-71/event/adult-night-make-up/
LOCATION:OH
CATEGORIES:Adult Events,Public Skates,Special Events
ATTACH;FMTTYPE=image/jpeg:https://unitedskates-assets.sfo3.digitaloceanspaces.com/wp-content/uploads/sites/7/2024/11/Adult-Skate-2024-1200x1200-1.jpg
END:VEVENT
END:VCALENDAR