BEGIN:VCALENDAR
VERSION:2.0
PRODID:-//Rink 2 - Skate Zone 71 - ECPv6.15.20//NONSGML v1.0//EN
CALSCALE:GREGORIAN
METHOD:PUBLISH
X-WR-CALNAME:Rink 2 - Skate Zone 71
X-ORIGINAL-URL:https://www.unitedskates.com/skate-zone-71
X-WR-CALDESC:Events for Rink 2 - Skate Zone 71
REFRESH-INTERVAL;VALUE=DURATION:PT1H
X-Robots-Tag:noindex
X-PUBLISHED-TTL:PT1H
BEGIN:VTIMEZONE
TZID:America/New_York
BEGIN:DAYLIGHT
TZOFFSETFROM:-0500
TZOFFSETTO:-0400
TZNAME:EDT
DTSTART:20250309T070000
END:DAYLIGHT
BEGIN:STANDARD
TZOFFSETFROM:-0400
TZOFFSETTO:-0500
TZNAME:EST
DTSTART:20251102T060000
END:STANDARD
BEGIN:DAYLIGHT
TZOFFSETFROM:-0500
TZOFFSETTO:-0400
TZNAME:EDT
DTSTART:20260308T070000
END:DAYLIGHT
BEGIN:STANDARD
TZOFFSETFROM:-0400
TZOFFSETTO:-0500
TZNAME:EST
DTSTART:20261101T060000
END:STANDARD
BEGIN:DAYLIGHT
TZOFFSETFROM:-0500
TZOFFSETTO:-0400
TZNAME:EDT
DTSTART:20270314T070000
END:DAYLIGHT
BEGIN:STANDARD
TZOFFSETFROM:-0400
TZOFFSETTO:-0500
TZNAME:EST
DTSTART:20271107T060000
END:STANDARD
END:VTIMEZONE
BEGIN:VEVENT
DTSTART;TZID=America/New_York:20260121T133000
DTEND;TZID=America/New_York:20260121T160000
DTSTAMP:20260421T075658
CREATED:20251215T181159Z
LAST-MODIFIED:20251215T181159Z
UID:39831-1769002200-1769011200@www.unitedskates.com
SUMMARY:School's Out Skate
DESCRIPTION:School’s Out Skate\nWednesday January 21st | 1:30 PM – 4:00 PM \nNo School – Come Skate With Us!! We’ve got a daytime session for everyone that needs something fun to do while school is out! \n🎟️ Admission: $10.00 includes Skate Rental \nPURCHASE TICKETS HERE! \nBIRTHDAY PARTIES AVAILABLE! \nImportant Info: \n\nAll guests ages 3-17 must pay admission & skate rental (or bring their own skates).\nNon-skating adults may enter at no charge.\nOnline waiver required for all Skating Individuals (Adults & Parents of Children Skating) Must Fill Out The Skating Waiver. Signed Waivers Must Be Shown At Admissions Before Entry\, Download the Confirmation And Have It Ready To Keep The Check In Process Smooth!
URL:https://www.unitedskates.com/skate-zone-71/event/schools-out-skate-9/
LOCATION:Skate Zone 71\, 4900 Evanswood Ddr.\, Columbus\, OH\, 43229\, United States
CATEGORIES:Public Skates,Special Events
ATTACH;FMTTYPE=image/png:https://unitedskates-assets.sfo3.digitaloceanspaces.com/wp-content/uploads/sites/7/2025/12/1.20-21-School-Is-Out-Flyer-2-Days.png
END:VEVENT
BEGIN:VEVENT
DTSTART;TZID=America/New_York:20260121T180000
DTEND;TZID=America/New_York:20260121T200000
DTSTAMP:20260421T075658
CREATED:20251223T170950Z
LAST-MODIFIED:20251223T170950Z
UID:39860-1769018400-1769025600@www.unitedskates.com
SUMMARY:Minion Indoor Snowball Fight Skate
DESCRIPTION:Minion Indoor Snowball Fight Skate\nWednesday January 21st \n6:00 PM – 8:00 PM \nWe’ll have the Minion out for DJ Games & an Indoor Snowball Fight at the end of session!! \nAdmission: $13.00Skate Rental: $6.00 \nPURCHASE TICKETS HERE! \nBIRTHDAY PARTIES AVAILABLE! \n⏰ Session Times: Begin and end at the posted start & end time—no stayovers allowed. \n🚨 Important Info: \n\nAll guests ages 3-17 must pay admission & skate rental (or bring their own skates).\nNon-skating adults may enter at no charge.\nOnline waiver required for all adults and children entering the building. Click here to fill it out. Please have your signed waiver ready to show at check-in to make the process quick and easy.
URL:https://www.unitedskates.com/skate-zone-71/event/minion-indoor-snowball-fight-skate/
LOCATION:Skate Zone 71\, 4900 Evanswood Ddr.\, Columbus\, OH\, 43229\, United States
CATEGORIES:Public Skates,Special Events
ATTACH;FMTTYPE=image/png:https://unitedskates-assets.sfo3.digitaloceanspaces.com/wp-content/uploads/sites/7/2025/12/1.21-Minion-Indoor-Snowball-Fight.png
END:VEVENT
BEGIN:VEVENT
DTSTART;TZID=America/New_York:20260121T203000
DTEND;TZID=America/New_York:20260121T230000
DTSTAMP:20260421T075659
CREATED:20250508T164932Z
LAST-MODIFIED:20260131T195201Z
UID:37182-1769027400-1769036400@www.unitedskates.com
SUMMARY:Wednesday Newbie Adult Skate
DESCRIPTION:Wednesday Adult Newbie Skates | 8:30 PM – 11:00 PM\n\n\n\nAdmission: $13.00\nSkate Rental: $6.00\nNon-Skating Admission: $19.00\nAdult Skates 18+ ONLY with Valid Photo ID\n\n\n\nPURCHASE TICKETS HERE!\n⏰ Session Times: Begin and end at the posted start & end time—no stayovers allowed. \n Important Info: \n\nAdult Skates are for Guests Ages 18+ Only with Valid Photo ID Check\nOnline waiver required for all Skating Individuals Must Fill Out The Skating Waiver. Signed Waivers Must Be Shown At Admissions Before Entry\, Download The Confirmation And Have It Ready To Keep The Check In Process Smooth! Click HERE to fill it out. Effective 10/11/2024
URL:https://www.unitedskates.com/skate-zone-71/event/wednesday-newbie-adult-skate/2026-01-21/
LOCATION:Skate Zone 71\, 4900 Evanswood Ddr.\, Columbus\, OH\, 43229\, United States
CATEGORIES:Adult Events,Special Events
ATTACH;FMTTYPE=image/png:https://unitedskates-assets.sfo3.digitaloceanspaces.com/wp-content/uploads/sites/7/2024/11/Newbie-Night-2025.png
END:VEVENT
END:VCALENDAR