BEGIN:VCALENDAR
VERSION:2.0
PRODID:-//Rink 2 - Skate Zone 71 - ECPv6.15.20//NONSGML v1.0//EN
CALSCALE:GREGORIAN
METHOD:PUBLISH
X-ORIGINAL-URL:https://www.unitedskates.com/skate-zone-71
X-WR-CALDESC:Events for Rink 2 - Skate Zone 71
REFRESH-INTERVAL;VALUE=DURATION:PT1H
X-Robots-Tag:noindex
X-PUBLISHED-TTL:PT1H
BEGIN:VTIMEZONE
TZID:America/New_York
BEGIN:DAYLIGHT
TZOFFSETFROM:-0500
TZOFFSETTO:-0400
TZNAME:EDT
DTSTART:20250309T070000
END:DAYLIGHT
BEGIN:STANDARD
TZOFFSETFROM:-0400
TZOFFSETTO:-0500
TZNAME:EST
DTSTART:20251102T060000
END:STANDARD
BEGIN:DAYLIGHT
TZOFFSETFROM:-0500
TZOFFSETTO:-0400
TZNAME:EDT
DTSTART:20260308T070000
END:DAYLIGHT
BEGIN:STANDARD
TZOFFSETFROM:-0400
TZOFFSETTO:-0500
TZNAME:EST
DTSTART:20261101T060000
END:STANDARD
BEGIN:DAYLIGHT
TZOFFSETFROM:-0500
TZOFFSETTO:-0400
TZNAME:EDT
DTSTART:20270314T070000
END:DAYLIGHT
BEGIN:STANDARD
TZOFFSETFROM:-0400
TZOFFSETTO:-0500
TZNAME:EST
DTSTART:20271107T060000
END:STANDARD
END:VTIMEZONE
BEGIN:VEVENT
DTSTART;VALUE=DATE:20260116
DTEND;VALUE=DATE:20260121
DTSTAMP:20260421T154544
CREATED:20251201T175228Z
LAST-MODIFIED:20251201T175228Z
UID:39756-1768539600-1768885199@www.unitedskates.com
SUMMARY:Dr. MLK Jr. Weekend Skating
DESCRIPTION:🛼❄️Dr. MLK Jr. Weekend Skating❄️🛼\nSchool’s out — time to roll into winter fun! Bring your friends and family to our Dr. MLK Jr. Weekend Skating Sessions for cool tunes\, hot games\, and nonstop fun on wheels! \nCHECK THE SCHEDULE FOR TIMES & THEMES! \nPURCHASE TICKETS HERE! \nBIRTHDAY PARTIES AVAILABLE! \n⏰ Session Times: Begin and end at the posted start & end time—no stayovers allowed. \n🚨 Important Info: \n\nAll guests ages 3-17 must pay admission & skate rental (or bring their own skates).\nNon-skating adults may enter at no charge.\nOnline waiver required for all adults and children entering the building. Click here to fill it out. Please have your signed waiver ready to show at check-in to make the process quick and easy.
URL:https://www.unitedskates.com/skate-zone-71/event/dr-mlk-jr-weekend-skating-2/
LOCATION:Skate Zone 71\, 4900 Evanswood Ddr.\, Columbus\, OH\, 43229\, United States
CATEGORIES:Public Skates,Special Events
ATTACH;FMTTYPE=image/png:https://unitedskates-assets.sfo3.digitaloceanspaces.com/wp-content/uploads/sites/7/2025/12/Dr.-MLK-Jr.-Roller-Skate-Weekend.png
END:VEVENT
BEGIN:VEVENT
DTSTART;TZID=America/New_York:20260116T170000
DTEND;TZID=America/New_York:20260116T183000
DTSTAMP:20260421T154544
CREATED:20251119T194708Z
LAST-MODIFIED:20251119T194708Z
UID:39735-1768582800-1768588200@www.unitedskates.com
SUMMARY:Girl Scout SK80's Party
DESCRIPTION:Girl Scout SK80’s Party\nFriday January 16th | 5:00 PM – 6:30 PM \nDress in your best 80’s style—leg warmers\, bright colors\, and big hair are totally encouraged!Come skate\, laugh\, and make memories your troop will never forget! The first hour & half is exclusive for Girl Scouts with ticket reservations. All attendees will enjoy Free Stayover into the 80’s Public Skating Event beginning at 6:30pm! \n🎟️ Admission: $15.00 includes Skate Rental\, Glow Stick & Fun Patch🛼 Swag Bag: $5.00 includes Headband\, Scrunchie & Shades \nPURCHASE TICKETS HERE! \n🚨 Important Info: \n\nAll Guests ages 3-17 must pay admission (even if bringing own skates)\nTag-A-Longs & Skating Adults skate at same admission rate\nNon-skating adults may enter at no charge.\nOnline waiver required for all Skating Individuals (Adults & Parents of Children Skating) Must Fill Out The Skating Waiver. Signed Waivers Must Be Shown At Admissions Before Entry\, Download the Confirmation And Have It Ready To Keep The Check In Process Smooth!\nAll Sales Final.\n\n🎉 Birthday Parties Available (Skate with your fellow scouts for the First Hour & Half before your guests begin arriving for your 6:30pm – 9pm party!)
URL:https://www.unitedskates.com/skate-zone-71/event/girl-scout-sk80s-party-2/
LOCATION:Skate Zone 71\, 4900 Evanswood Ddr.\, Columbus\, OH\, 43229\, United States
CATEGORIES:Girl Scout Event,Special Events
ATTACH;FMTTYPE=image/png:https://unitedskates-assets.sfo3.digitaloceanspaces.com/wp-content/uploads/sites/7/2025/11/1.16-Sk80s-Girl-Scouts.png
END:VEVENT
BEGIN:VEVENT
DTSTART;TZID=America/New_York:20260116T183000
DTEND;TZID=America/New_York:20260116T210000
DTSTAMP:20260421T154544
CREATED:20251201T180320Z
LAST-MODIFIED:20251212T153753Z
UID:39788-1768588200-1768597200@www.unitedskates.com
SUMMARY:Friday Night 80's Skate
DESCRIPTION:Friday Night 80’s Skate\nFriday January 16th \n6:30 PM – 9:00 PM  \nCrank up the synths and let the neon heartbeat begin. The rink is flipping the switch to electric\, and you’re invited to glide straight into the decade that believed in big hair\, bold colors\, and legendary dance breaks. \nAdmission: $13.00Skate Rental: $6.00 \nPURCHASE TICKETS HERE! \nBIRTHDAY PARTIES AVAILABLE! \n⏰ Session Times: Begin and end at the posted start & end time—no stayovers allowed. \n🚨 Important Info: \n\nAll guests ages 3-17 must pay admission & skate rental (or bring their own skates).\nNon-skating adults may enter at no charge.\nOnline waiver required for all adults and children entering the building. Click here to fill it out. Please have your signed waiver ready to show at check-in to make the process quick and easy.
URL:https://www.unitedskates.com/skate-zone-71/event/friday-night-80s-skate/
LOCATION:Skate Zone 71\, 4900 Evanswood Ddr.\, Columbus\, OH\, 43229\, United States
CATEGORIES:Public Skates,Special Events
ATTACH;FMTTYPE=image/png:https://unitedskates-assets.sfo3.digitaloceanspaces.com/wp-content/uploads/sites/7/2025/12/1.16-80s-Skate-Night.png
END:VEVENT
END:VCALENDAR