BEGIN:VCALENDAR
VERSION:2.0
PRODID:-//Rink 2 - Skate Zone 71 - ECPv6.15.20//NONSGML v1.0//EN
CALSCALE:GREGORIAN
METHOD:PUBLISH
X-ORIGINAL-URL:https://www.unitedskates.com/skate-zone-71
X-WR-CALDESC:Events for Rink 2 - Skate Zone 71
REFRESH-INTERVAL;VALUE=DURATION:PT1H
X-Robots-Tag:noindex
X-PUBLISHED-TTL:PT1H
BEGIN:VTIMEZONE
TZID:America/New_York
BEGIN:DAYLIGHT
TZOFFSETFROM:-0500
TZOFFSETTO:-0400
TZNAME:EDT
DTSTART:20240310T070000
END:DAYLIGHT
BEGIN:STANDARD
TZOFFSETFROM:-0400
TZOFFSETTO:-0500
TZNAME:EST
DTSTART:20241103T060000
END:STANDARD
BEGIN:DAYLIGHT
TZOFFSETFROM:-0500
TZOFFSETTO:-0400
TZNAME:EDT
DTSTART:20250309T070000
END:DAYLIGHT
BEGIN:STANDARD
TZOFFSETFROM:-0400
TZOFFSETTO:-0500
TZNAME:EST
DTSTART:20251102T060000
END:STANDARD
BEGIN:DAYLIGHT
TZOFFSETFROM:-0500
TZOFFSETTO:-0400
TZNAME:EDT
DTSTART:20260308T070000
END:DAYLIGHT
BEGIN:STANDARD
TZOFFSETFROM:-0400
TZOFFSETTO:-0500
TZNAME:EST
DTSTART:20261101T060000
END:STANDARD
BEGIN:DAYLIGHT
TZOFFSETFROM:-0500
TZOFFSETTO:-0400
TZNAME:EDT
DTSTART:20270314T070000
END:DAYLIGHT
BEGIN:STANDARD
TZOFFSETFROM:-0400
TZOFFSETTO:-0500
TZNAME:EST
DTSTART:20271107T060000
END:STANDARD
END:VTIMEZONE
BEGIN:VEVENT
DTSTART;VALUE=DATE:20251219
DTEND;VALUE=DATE:20260106
DTSTAMP:20260421T093221
CREATED:20251027T173955Z
LAST-MODIFIED:20251202T022601Z
UID:39502-1766120400-1767589199@www.unitedskates.com
SUMMARY:Winter Break Skate Schedule — School’s Out\, Time to Roll!
DESCRIPTION:🛼❄️🎄Winter Break Skating🎄❄️🛼\nSchool’s out — time to roll into winter fun! Bring your friends and family to our Winter Break Public Roller Skating Sessions for cool tunes\, hot games\, and nonstop fun on wheels! \nDaily Skating Sessions December 19th – Jan 4th \nCHECK THE SCHEDULE FOR TIMES! \nPURCHASE TICKETS HERE! \nBIRTHDAY PARTIES AVAILABLE! (Excludes Christmas Day & New Years Eve) \n⏰ Session Times: Begin and end at the posted start & end time—no stayovers allowed. \n🚨 Important Info: \n\nAll guests ages 3-17 must pay admission & skate rental (or bring their own skates).\nNon-skating adults may enter at no charge.\nOnline waiver required for all adults and children entering the building. Click here to fill it out. Please have your signed waiver ready to show at check-in to make the process quick and easy.
URL:https://www.unitedskates.com/skate-zone-71/event/winter-break-go-skating/
LOCATION:Skate Zone 71\, 4900 Evanswood Ddr.\, Columbus\, OH\, 43229\, United States
CATEGORIES:Family Events,Public Skates,Special Events
ATTACH;FMTTYPE=image/jpeg:https://unitedskates-assets.sfo3.digitaloceanspaces.com/wp-content/uploads/sites/7/2025/12/Rink-2-Winter-Break-2025-1.jpg
END:VEVENT
BEGIN:VEVENT
DTSTART;TZID=America/New_York:20251229T120000
DTEND;TZID=America/New_York:20251229T150000
DTSTAMP:20260421T093221
CREATED:20251105T194333Z
LAST-MODIFIED:20251110T193425Z
UID:39662-1767009600-1767020400@www.unitedskates.com
SUMMARY:Merry Minion Skate
DESCRIPTION:Merry Minion Skate\nMonday December 29th  \n12:00 PM – 3:00 PM | 3:30 PM – 5:30 PM  \nPick from two great skating sessions! We’ll have the Minion out for DJ Games & an Indoor Snowball Fight at the end of session!! Meet our Merry Minion and get a fun Holiday Picture for the socials!! \nAdmission: $13.00Skate Rental: $6.00 \nPURCHASE TICKETS HERE! \nBIRTHDAY PARTIES AVAILABLE! \n⏰ Session Times: Begin and end at the posted start & end time—no stayovers allowed. \n🚨 Important Info: \n\nAll guests ages 3-17 must pay admission & skate rental (or bring their own skates).\nNon-skating adults may enter at no charge.\nOnline waiver required for all adults and children entering the building. Click here to fill it out. Please have your signed waiver ready to show at check-in to make the process quick and easy.
URL:https://www.unitedskates.com/skate-zone-71/event/merry-minion-skate/
LOCATION:Skate Zone 71\, 4900 Evanswood Ddr.\, Columbus\, OH\, 43229\, United States
CATEGORIES:Public Skates,Special Events
ATTACH;FMTTYPE=image/png:https://unitedskates-assets.sfo3.digitaloceanspaces.com/wp-content/uploads/sites/7/2025/11/12.29-Merry-Minion-Skate.png
END:VEVENT
BEGIN:VEVENT
DTSTART;TZID=America/New_York:20251229T153000
DTEND;TZID=America/New_York:20251229T173000
DTSTAMP:20260421T093221
CREATED:20251105T194333Z
LAST-MODIFIED:20251110T193425Z
UID:39665-1767022200-1767029400@www.unitedskates.com
SUMMARY:Merry Minion Skate
DESCRIPTION:Merry Minion Skate\nMonday December 29th  \n12:00 PM – 3:00 PM | 3:30 PM – 5:30 PM  \nPick from two great skating sessions! We’ll have the Minion out for DJ Games & an Indoor Snowball Fight at the end of session!! Meet our Merry Minion and get a fun Holiday Picture for the socials!! \nAdmission: $13.00Skate Rental: $6.00 \nPURCHASE TICKETS HERE! \nBIRTHDAY PARTIES AVAILABLE! \n⏰ Session Times: Begin and end at the posted start & end time—no stayovers allowed. \n🚨 Important Info: \n\nAll guests ages 3-17 must pay admission & skate rental (or bring their own skates).\nNon-skating adults may enter at no charge.\nOnline waiver required for all adults and children entering the building. Click here to fill it out. Please have your signed waiver ready to show at check-in to make the process quick and easy.
URL:https://www.unitedskates.com/skate-zone-71/event/merry-minion-skate/2025-12-29/2/
LOCATION:Skate Zone 71\, 4900 Evanswood Ddr.\, Columbus\, OH\, 43229\, United States
CATEGORIES:Public Skates,Special Events
ATTACH;FMTTYPE=image/png:https://unitedskates-assets.sfo3.digitaloceanspaces.com/wp-content/uploads/sites/7/2025/11/12.29-Merry-Minion-Skate.png
END:VEVENT
BEGIN:VEVENT
DTSTART;TZID=America/New_York:20251229T180000
DTEND;TZID=America/New_York:20251229T203000
DTSTAMP:20260421T093221
CREATED:20251103T162602Z
LAST-MODIFIED:20251103T162602Z
UID:39585-1767031200-1767040200@www.unitedskates.com
SUMMARY:Winter Break Public Skating
DESCRIPTION:Winter Break Public Skating\nSchool’s out — time to roll into winter fun! Bring your friends and family to our Winter Break Public Roller Skating Sessions for cool tunes\, hot games\, and nonstop fun on wheels! \nMONDAY DEC 22nd & DEC 29th | 6:00 PM – 8:30 PM \n🎟️ Admission: $13.00🛼 Skate Rental: $6.00 \nPURCHASE TICKETS HERE! \nBIRTHDAY PARTIES AVAILABLE! \n⏰ Session Times: Begin and end at the posted start & end time—no stayovers allowed. \n🚨 Important Info: \n\nAll guests ages 3-17 must pay admission & skate rental (or bring their own skates).\nNon-skating adults may enter at no charge.\nOnline waiver required for all adults and children entering the building. Click here to fill it out. Please have your signed waiver ready to show at check-in to make the process quick and easy.
URL:https://www.unitedskates.com/skate-zone-71/event/winter-break-public-skating-3/2025-12-29/
LOCATION:Skate Zone 71\, 4900 Evanswood Ddr.\, Columbus\, OH\, 43229\, United States
CATEGORIES:Public Skates,Special Events
ATTACH;FMTTYPE=image/png:https://unitedskates-assets.sfo3.digitaloceanspaces.com/wp-content/uploads/sites/7/2025/10/Winter-Holiday-Skate.png
END:VEVENT
END:VCALENDAR