BEGIN:VCALENDAR
VERSION:2.0
PRODID:-//Rink 2 - Skate Zone 71 - ECPv6.15.20//NONSGML v1.0//EN
CALSCALE:GREGORIAN
METHOD:PUBLISH
X-ORIGINAL-URL:https://www.unitedskates.com/skate-zone-71
X-WR-CALDESC:Events for Rink 2 - Skate Zone 71
REFRESH-INTERVAL;VALUE=DURATION:PT1H
X-Robots-Tag:noindex
X-PUBLISHED-TTL:PT1H
BEGIN:VTIMEZONE
TZID:America/New_York
BEGIN:DAYLIGHT
TZOFFSETFROM:-0500
TZOFFSETTO:-0400
TZNAME:EDT
DTSTART:20240310T070000
END:DAYLIGHT
BEGIN:STANDARD
TZOFFSETFROM:-0400
TZOFFSETTO:-0500
TZNAME:EST
DTSTART:20241103T060000
END:STANDARD
BEGIN:DAYLIGHT
TZOFFSETFROM:-0500
TZOFFSETTO:-0400
TZNAME:EDT
DTSTART:20250309T070000
END:DAYLIGHT
BEGIN:STANDARD
TZOFFSETFROM:-0400
TZOFFSETTO:-0500
TZNAME:EST
DTSTART:20251102T060000
END:STANDARD
BEGIN:DAYLIGHT
TZOFFSETFROM:-0500
TZOFFSETTO:-0400
TZNAME:EDT
DTSTART:20260308T070000
END:DAYLIGHT
BEGIN:STANDARD
TZOFFSETFROM:-0400
TZOFFSETTO:-0500
TZNAME:EST
DTSTART:20261101T060000
END:STANDARD
BEGIN:DAYLIGHT
TZOFFSETFROM:-0500
TZOFFSETTO:-0400
TZNAME:EDT
DTSTART:20270314T070000
END:DAYLIGHT
BEGIN:STANDARD
TZOFFSETFROM:-0400
TZOFFSETTO:-0500
TZNAME:EST
DTSTART:20271107T060000
END:STANDARD
END:VTIMEZONE
BEGIN:VEVENT
DTSTART;VALUE=DATE:20251219
DTEND;VALUE=DATE:20260106
DTSTAMP:20260421T135154
CREATED:20251027T173955Z
LAST-MODIFIED:20251202T022601Z
UID:39502-1766120400-1767589199@www.unitedskates.com
SUMMARY:Winter Break Skate Schedule — School’s Out\, Time to Roll!
DESCRIPTION:🛼❄️🎄Winter Break Skating🎄❄️🛼\nSchool’s out — time to roll into winter fun! Bring your friends and family to our Winter Break Public Roller Skating Sessions for cool tunes\, hot games\, and nonstop fun on wheels! \nDaily Skating Sessions December 19th – Jan 4th \nCHECK THE SCHEDULE FOR TIMES! \nPURCHASE TICKETS HERE! \nBIRTHDAY PARTIES AVAILABLE! (Excludes Christmas Day & New Years Eve) \n⏰ Session Times: Begin and end at the posted start & end time—no stayovers allowed. \n🚨 Important Info: \n\nAll guests ages 3-17 must pay admission & skate rental (or bring their own skates).\nNon-skating adults may enter at no charge.\nOnline waiver required for all adults and children entering the building. Click here to fill it out. Please have your signed waiver ready to show at check-in to make the process quick and easy.
URL:https://www.unitedskates.com/skate-zone-71/event/winter-break-go-skating/
LOCATION:Skate Zone 71\, 4900 Evanswood Ddr.\, Columbus\, OH\, 43229\, United States
CATEGORIES:Family Events,Public Skates,Special Events
ATTACH;FMTTYPE=image/jpeg:https://unitedskates-assets.sfo3.digitaloceanspaces.com/wp-content/uploads/sites/7/2025/12/Rink-2-Winter-Break-2025-1.jpg
END:VEVENT
BEGIN:VEVENT
DTSTART;TZID=America/New_York:20251222T120000
DTEND;TZID=America/New_York:20251222T150000
DTSTAMP:20260421T135154
CREATED:20251103T162906Z
LAST-MODIFIED:20251105T185130Z
UID:39588-1766404800-1766415600@www.unitedskates.com
SUMMARY:Grinch Ugly Sweater Skate
DESCRIPTION:Grinch Ugly Sweater Skate\nMonday December 22nd | 12:00 PM – 3:00 PM  \nHe’s back to steal the spotlight — and maybe your presents! Join us for a session of mischief & memories with a Grinchy fun visit\, complete with a holiday Ugly Sweater Contest! Enter the contest and have your chance to win FREE Future Admission Passes!! \nAdmission: $13.00Skate Rental: $6.00 \nPURCHASE TICKETS HERE! \nBIRTHDAY PARTIES AVAILABLE! \n⏰ Session Times: Begin and end at the posted start & end time—no stayovers allowed. \n🚨 Important Info: \n\nAll guests ages 3-17 must pay admission & skate rental (or bring their own skates).\nNon-skating adults may enter at no charge.\nOnline waiver required for all adults and children entering the building. Click here to fill it out. Please have your signed waiver ready to show at check-in to make the process quick and easy.
URL:https://www.unitedskates.com/skate-zone-71/event/grinch-ugly-sweater-skate-3/
LOCATION:Skate Zone 71\, 4900 Evanswood Ddr.\, Columbus\, OH\, 43229\, United States
CATEGORIES:Public Skates,Special Events
ATTACH;FMTTYPE=image/png:https://unitedskates-assets.sfo3.digitaloceanspaces.com/wp-content/uploads/sites/7/2025/11/12.22-Grinch-Ugly-Sweater-Skate-1.png
END:VEVENT
BEGIN:VEVENT
DTSTART;TZID=America/New_York:20251222T153000
DTEND;TZID=America/New_York:20251222T173000
DTSTAMP:20260421T135154
CREATED:20251028T192335Z
LAST-MODIFIED:20251103T154603Z
UID:39554-1766417400-1766424600@www.unitedskates.com
SUMMARY:Winter Break Public Skating
DESCRIPTION:Winter Break Public Skating\nSchool’s out — time to roll into winter fun! Bring your friends and family to our Winter Break Public Roller Skating Sessions for cool tunes\, hot games\, and nonstop fun on wheels! \nDaily Skating Sessions December 19th – Jan 2nd \nCHECK THE SCHEDULE FOR TIMES! \nPURCHASE TICKETS HERE! \nBIRTHDAY PARTIES AVAILABLE! \n⏰ Session Times: Begin and end at the posted start & end time—no stayovers allowed. \n🚨 Important Info: \n\nAll guests ages 3-17 must pay admission & skate rental (or bring their own skates).\nNon-skating adults may enter at no charge.\nOnline waiver required for all adults and children entering the building. Click here to fill it out. Please have your signed waiver ready to show at check-in to make the process quick and easy.
URL:https://www.unitedskates.com/skate-zone-71/event/winter-break-public-skating/
LOCATION:Skate Zone 71\, 4900 Evanswood Ddr.\, Columbus\, OH\, 43229\, United States
CATEGORIES:Public Skates,Special Events
ATTACH;FMTTYPE=image/png:https://unitedskates-assets.sfo3.digitaloceanspaces.com/wp-content/uploads/sites/7/2025/10/Winter-Holiday-Skate.png
END:VEVENT
BEGIN:VEVENT
DTSTART;TZID=America/New_York:20251222T180000
DTEND;TZID=America/New_York:20251222T203000
DTSTAMP:20260421T135154
CREATED:20251103T162602Z
LAST-MODIFIED:20251103T162602Z
UID:39583-1766426400-1766435400@www.unitedskates.com
SUMMARY:Winter Break Public Skating
DESCRIPTION:Winter Break Public Skating\nSchool’s out — time to roll into winter fun! Bring your friends and family to our Winter Break Public Roller Skating Sessions for cool tunes\, hot games\, and nonstop fun on wheels! \nMONDAY DEC 22nd & DEC 29th | 6:00 PM – 8:30 PM \n🎟️ Admission: $13.00🛼 Skate Rental: $6.00 \nPURCHASE TICKETS HERE! \nBIRTHDAY PARTIES AVAILABLE! \n⏰ Session Times: Begin and end at the posted start & end time—no stayovers allowed. \n🚨 Important Info: \n\nAll guests ages 3-17 must pay admission & skate rental (or bring their own skates).\nNon-skating adults may enter at no charge.\nOnline waiver required for all adults and children entering the building. Click here to fill it out. Please have your signed waiver ready to show at check-in to make the process quick and easy.
URL:https://www.unitedskates.com/skate-zone-71/event/winter-break-public-skating-3/2025-12-22/
LOCATION:Skate Zone 71\, 4900 Evanswood Ddr.\, Columbus\, OH\, 43229\, United States
CATEGORIES:Public Skates,Special Events
ATTACH;FMTTYPE=image/png:https://unitedskates-assets.sfo3.digitaloceanspaces.com/wp-content/uploads/sites/7/2025/10/Winter-Holiday-Skate.png
END:VEVENT
END:VCALENDAR