BEGIN:VCALENDAR
VERSION:2.0
PRODID:-//Rink 2 - Skate Zone 71 - ECPv6.15.20//NONSGML v1.0//EN
CALSCALE:GREGORIAN
METHOD:PUBLISH
X-WR-CALNAME:Rink 2 - Skate Zone 71
X-ORIGINAL-URL:https://www.unitedskates.com/skate-zone-71
X-WR-CALDESC:Events for Rink 2 - Skate Zone 71
REFRESH-INTERVAL;VALUE=DURATION:PT1H
X-Robots-Tag:noindex
X-PUBLISHED-TTL:PT1H
BEGIN:VTIMEZONE
TZID:America/New_York
BEGIN:DAYLIGHT
TZOFFSETFROM:-0500
TZOFFSETTO:-0400
TZNAME:EDT
DTSTART:20240310T070000
END:DAYLIGHT
BEGIN:STANDARD
TZOFFSETFROM:-0400
TZOFFSETTO:-0500
TZNAME:EST
DTSTART:20241103T060000
END:STANDARD
BEGIN:DAYLIGHT
TZOFFSETFROM:-0500
TZOFFSETTO:-0400
TZNAME:EDT
DTSTART:20250309T070000
END:DAYLIGHT
BEGIN:STANDARD
TZOFFSETFROM:-0400
TZOFFSETTO:-0500
TZNAME:EST
DTSTART:20251102T060000
END:STANDARD
BEGIN:DAYLIGHT
TZOFFSETFROM:-0500
TZOFFSETTO:-0400
TZNAME:EDT
DTSTART:20260308T070000
END:DAYLIGHT
BEGIN:STANDARD
TZOFFSETFROM:-0400
TZOFFSETTO:-0500
TZNAME:EST
DTSTART:20261101T060000
END:STANDARD
END:VTIMEZONE
BEGIN:VEVENT
DTSTART;VALUE=DATE:20251124
DTEND;VALUE=DATE:20251130
DTSTAMP:20260421T215013
CREATED:20251010T154650Z
LAST-MODIFIED:20251015T141206Z
UID:39239-1763960400-1764392399@www.unitedskates.com
SUMMARY:Thanksgiving Break Skating!
DESCRIPTION:School is Out – Thanksgiving Break Skating!\nSchool’s out\, the rink is in! Grab your friends and glide into the holiday break with great music\, games\, and nonstop skating fun. We’ve got lots of fun filled skating all week!! \nMonday\, November 24th\, 2025 | Friday\, November 28th\, 2025 \nSEE CALENDAR & PURCHASE TICKETS HERE! \nImportant Info: \n\nAll guests ages 3-17 must pay admission & skate rental (or bring their own skates).\nNon-skating adults may enter at no charge.\nOnline waiver required for all Skating Individuals (Adults & Parents of Children Skating) Must Fill Out The Skating Waiver. Signed Waivers Must Be Shown At Admissions Before Entry\, Download the Confirmation And Have It Ready To Keep The Check In Process Smooth! Click HERE!
URL:https://www.unitedskates.com/skate-zone-71/event/thanksgiving-break-skating/
LOCATION:Skate Zone 71\, 4900 Evanswood Ddr.\, Columbus\, OH\, 43229\, United States
CATEGORIES:Public Skates,Special Events
ATTACH;FMTTYPE=image/jpeg:https://unitedskates-assets.sfo3.digitaloceanspaces.com/wp-content/uploads/sites/7/2025/10/2-Thanksgiving-Break-Roller-Skate-2025-8.5-x-11-in.jpg
END:VEVENT
BEGIN:VEVENT
DTSTART;TZID=America/New_York:20251128T093000
DTEND;TZID=America/New_York:20251128T113000
DTSTAMP:20260421T215013
CREATED:20251010T192523Z
LAST-MODIFIED:20251014T172618Z
UID:39301-1764322200-1764329400@www.unitedskates.com
SUMMARY:Olaf & Friends Skate
DESCRIPTION:Olaf & Friends Skate\nKick off the season with a little snow and sass! Skate with Olaf\, outsmart the Grinch and hit the sweets with Gingy! \nFriday\, November 28th\, 2025 \n9:30AM – 11:30AM \n\nAdmission: $13.00\nSkate Rental: $6.00\n\nPURCHASE TICKETS HERE! \n⏰ Session Times: Begin and end at the posted start & end time—no stayovers allowed. \n🚨 Important Info: \n\nAll guests ages 3-17 must pay admission & skate rental (or bring their own skates).\nNon-skating adults may enter at no charge.\nOnline waiver required for all adults and children entering the building. Click here to fill it out. Please have your signed waiver ready to show at check-in to make the process quick and easy.
URL:https://www.unitedskates.com/skate-zone-71/event/olaf-friends-skate-2/
LOCATION:Skate Zone 71\, 4900 Evanswood Ddr.\, Columbus\, OH\, 43229\, United States
CATEGORIES:Public Skates,Special Events
ATTACH;FMTTYPE=image/png:https://unitedskates-assets.sfo3.digitaloceanspaces.com/wp-content/uploads/sites/7/2025/10/11.28-Olafs-and-Friends-Skate.png
END:VEVENT
BEGIN:VEVENT
DTSTART;TZID=America/New_York:20251128T120000
DTEND;TZID=America/New_York:20251128T150000
DTSTAMP:20260421T215013
CREATED:20251010T194111Z
LAST-MODIFIED:20251014T172952Z
UID:39304-1764331200-1764342000@www.unitedskates.com
SUMMARY:Black Friday Skate
DESCRIPTION:Black Friday Skate\nFriday November 28th  \n12:00 PM – 3:00 PM | 3:30PM – 5:30PM \n🎟️ Admission: $13.00 includes 10 Credit Game Card🛼 Skate Rental: $6.00 \nPURCHASE TICKETS HERE!\nImportant Info: \n\nAll guests ages 3-17 must pay admission & skate rental (or bring their own skates).\nNon-skating adults may enter at no charge.\nOnline waiver required for all Skating Individuals (Adults & Parents of Children Skating) Must Fill Out The Skating Waiver. Signed Waivers Must Be Shown At Admissions Before Entry\, Download the Confirmation And Have It Ready To Keep The Check In Process Smooth! Effective 10/11/2024\n\n⏰ Session Times: Begin and end at the posted start & end time—no stayovers allowed. \n🎉 Birthday Parties available – CLICK HERE
URL:https://www.unitedskates.com/skate-zone-71/event/black-friday-skate/
LOCATION:Skate Zone 71\, 4900 Evanswood Ddr.\, Columbus\, OH\, 43229\, United States
CATEGORIES:Public Skates,Special Events
ATTACH;FMTTYPE=image/png:https://unitedskates-assets.sfo3.digitaloceanspaces.com/wp-content/uploads/sites/7/2025/10/11.28-Black-Friday-GameSkates-2025.png
END:VEVENT
BEGIN:VEVENT
DTSTART;TZID=America/New_York:20251128T153000
DTEND;TZID=America/New_York:20251128T173000
DTSTAMP:20260421T215013
CREATED:20251010T194111Z
LAST-MODIFIED:20251014T172952Z
UID:39307-1764343800-1764351000@www.unitedskates.com
SUMMARY:Black Friday Skate
DESCRIPTION:Black Friday Skate\nFriday November 28th  \n12:00 PM – 3:00 PM | 3:30PM – 5:30PM \n🎟️ Admission: $13.00 includes 10 Credit Game Card🛼 Skate Rental: $6.00 \nPURCHASE TICKETS HERE!\nImportant Info: \n\nAll guests ages 3-17 must pay admission & skate rental (or bring their own skates).\nNon-skating adults may enter at no charge.\nOnline waiver required for all Skating Individuals (Adults & Parents of Children Skating) Must Fill Out The Skating Waiver. Signed Waivers Must Be Shown At Admissions Before Entry\, Download the Confirmation And Have It Ready To Keep The Check In Process Smooth! Effective 10/11/2024\n\n⏰ Session Times: Begin and end at the posted start & end time—no stayovers allowed. \n🎉 Birthday Parties available – CLICK HERE
URL:https://www.unitedskates.com/skate-zone-71/event/black-friday-skate/2025-11-28/2/
LOCATION:Skate Zone 71\, 4900 Evanswood Ddr.\, Columbus\, OH\, 43229\, United States
CATEGORIES:Public Skates,Special Events
ATTACH;FMTTYPE=image/png:https://unitedskates-assets.sfo3.digitaloceanspaces.com/wp-content/uploads/sites/7/2025/10/11.28-Black-Friday-GameSkates-2025.png
END:VEVENT
BEGIN:VEVENT
DTSTART;TZID=America/New_York:20251128T183000
DTEND;TZID=America/New_York:20251128T210000
DTSTAMP:20260421T215013
CREATED:20251010T200821Z
LAST-MODIFIED:20251013T184112Z
UID:39311-1764354600-1764363600@www.unitedskates.com
SUMMARY:Friday Glow & Game Skate
DESCRIPTION:Friday Glow & Game Skate\nFriday November 28th | 6:30 PM – 9:00 PM \n🎟️ Admission: $13.00 includes 20 Credit Game Card OR One Game Laser Tag🛼 Skate Rental: $6.00 \nPURCHASE TICKETS HERE!\nImportant Info: \n\nAll guests ages 3-17 must pay admission & skate rental (or bring their own skates).\nNon-skating adults may enter at no charge.\nOnline waiver required for all Skating Individuals (Adults & Parents of Children Skating) Must Fill Out The Skating Waiver. Signed Waivers Must Be Shown At Admissions Before Entry\, Download the Confirmation And Have It Ready To Keep The Check In Process Smooth! Effective 10/11/2024\n\n⏰ Session Times: Begin and end at the posted start & end time—no stayovers allowed. \n💥 Group Rates available for Parties of 15 or More – CLICK HERE for Reservations\n🎉 Birthday Parties available – CLICK HERE\n💡 Fundraising available – CLICK HERE for More Info
URL:https://www.unitedskates.com/skate-zone-71/event/friday-game-glow-skate/
LOCATION:Skate Zone 71\, 4900 Evanswood Ddr.\, Columbus\, OH\, 43229\, United States
CATEGORIES:Public Skates,Special Events
ATTACH;FMTTYPE=image/png:https://unitedskates-assets.sfo3.digitaloceanspaces.com/wp-content/uploads/sites/7/2025/10/11.28-Friday-Glow-Game-1.png
END:VEVENT
END:VCALENDAR