BEGIN:VCALENDAR
VERSION:2.0
PRODID:-//Rink 2 - Skate Zone 71 - ECPv6.15.20//NONSGML v1.0//EN
CALSCALE:GREGORIAN
METHOD:PUBLISH
X-WR-CALNAME:Rink 2 - Skate Zone 71
X-ORIGINAL-URL:https://www.unitedskates.com/skate-zone-71
X-WR-CALDESC:Events for Rink 2 - Skate Zone 71
REFRESH-INTERVAL;VALUE=DURATION:PT1H
X-Robots-Tag:noindex
X-PUBLISHED-TTL:PT1H
BEGIN:VTIMEZONE
TZID:America/New_York
BEGIN:DAYLIGHT
TZOFFSETFROM:-0500
TZOFFSETTO:-0400
TZNAME:EDT
DTSTART:20240310T070000
END:DAYLIGHT
BEGIN:STANDARD
TZOFFSETFROM:-0400
TZOFFSETTO:-0500
TZNAME:EST
DTSTART:20241103T060000
END:STANDARD
BEGIN:DAYLIGHT
TZOFFSETFROM:-0500
TZOFFSETTO:-0400
TZNAME:EDT
DTSTART:20250309T070000
END:DAYLIGHT
BEGIN:STANDARD
TZOFFSETFROM:-0400
TZOFFSETTO:-0500
TZNAME:EST
DTSTART:20251102T060000
END:STANDARD
BEGIN:DAYLIGHT
TZOFFSETFROM:-0500
TZOFFSETTO:-0400
TZNAME:EDT
DTSTART:20260308T070000
END:DAYLIGHT
BEGIN:STANDARD
TZOFFSETFROM:-0400
TZOFFSETTO:-0500
TZNAME:EST
DTSTART:20261101T060000
END:STANDARD
END:VTIMEZONE
BEGIN:VEVENT
DTSTART;TZID=America/New_York:20251104T120000
DTEND;TZID=America/New_York:20251104T150000
DTSTAMP:20260421T215051
CREATED:20251003T184753Z
LAST-MODIFIED:20251014T153813Z
UID:39201-1762257600-1762268400@www.unitedskates.com
SUMMARY:Election Day Skate
DESCRIPTION:Election Day Skate\nTuesday November 4th | 12:00 PM – 3:00 PM \nNo School – Come Skate With Us!! We’ve got a daytime session for everyone that needs something fun to do while school is out! \n🎟️ Admission: $10.00 includes Skate Rental \nPURCHASE TICKETS HERE!\nImportant Info: \n\nAll guests ages 3-17 must pay admission & skate rental (or bring their own skates).\nNon-skating adults may enter at no charge.\nOnline waiver required for all Skating Individuals (Adults & Parents of Children Skating) Must Fill Out The Skating Waiver. Signed Waivers Must Be Shown At Admissions Before Entry\, Download the Confirmation And Have It Ready To Keep The Check In Process Smooth! Effective 10/11/2024\n\n⏰ Session Times: Begin and end at the posted start & end time—no stayovers allowed. \n🎉 Birthday Parties available – CLICK HERE
URL:https://www.unitedskates.com/skate-zone-71/event/election-day-skate-3/
LOCATION:Skate Zone 71\, 4900 Evanswood Ddr.\, Columbus\, OH\, 43229\, United States
CATEGORIES:Public Skates,Special Events
ATTACH;FMTTYPE=image/png:https://unitedskates-assets.sfo3.digitaloceanspaces.com/wp-content/uploads/sites/7/2025/10/11.4-election-day-skate-1.png
END:VEVENT
BEGIN:VEVENT
DTSTART;TZID=America/New_York:20251104T180000
DTEND;TZID=America/New_York:20251104T203000
DTSTAMP:20260421T215051
CREATED:20251022T140252Z
LAST-MODIFIED:20251022T140252Z
UID:39444-1762279200-1762288200@www.unitedskates.com
SUMMARY:KPOP 2 for $12 Tuesday
DESCRIPTION:KPOP TAKES OVER THIS 2 for $12 TUESDAY SESSION!!\nKPOP TOP JAMS/TOP 40 POP\n6:00PM – 8:30PM\n\nAdmission: 2 for $12 Admissions/1 for $7 Admission\nSkate Rental: $6.00\n\n🎉 Birthday Parties available—CLICK HERE \n⏰ Session Times: Begin and end at the posted start & end time—no stayovers allowed. \n🚨 Important Info: \n\nAll guests ages 3-17 must pay admission & skate rental (or bring their own skates).\nNon-skating adults may enter at no charge.\nOnline waiver required for all adults and children entering the building. Click here to fill it out. Please have your signed waiver ready to show at check-in to make the process quick and easy. Effective 10/11/2024
URL:https://www.unitedskates.com/skate-zone-71/event/kpop-2-for-12-tuesday/
LOCATION:Skate Zone 71\, 4900 Evanswood Ddr.\, Columbus\, OH\, 43229\, United States
CATEGORIES:Public Skates,Special Events
ATTACH;FMTTYPE=image/png:https://unitedskates-assets.sfo3.digitaloceanspaces.com/wp-content/uploads/sites/7/2025/10/v2-K-Pop-Demon-Hunters-2025.png
END:VEVENT
END:VCALENDAR