BEGIN:VCALENDAR
VERSION:2.0
PRODID:-//Rink 2 - Skate Zone 71 - ECPv6.15.20//NONSGML v1.0//EN
CALSCALE:GREGORIAN
METHOD:PUBLISH
X-WR-CALNAME:Rink 2 - Skate Zone 71
X-ORIGINAL-URL:https://www.unitedskates.com/skate-zone-71
X-WR-CALDESC:Events for Rink 2 - Skate Zone 71
REFRESH-INTERVAL;VALUE=DURATION:PT1H
X-Robots-Tag:noindex
X-PUBLISHED-TTL:PT1H
BEGIN:VTIMEZONE
TZID:America/New_York
BEGIN:DAYLIGHT
TZOFFSETFROM:-0500
TZOFFSETTO:-0400
TZNAME:EDT
DTSTART:20240310T070000
END:DAYLIGHT
BEGIN:STANDARD
TZOFFSETFROM:-0400
TZOFFSETTO:-0500
TZNAME:EST
DTSTART:20241103T060000
END:STANDARD
BEGIN:DAYLIGHT
TZOFFSETFROM:-0500
TZOFFSETTO:-0400
TZNAME:EDT
DTSTART:20250309T070000
END:DAYLIGHT
BEGIN:STANDARD
TZOFFSETFROM:-0400
TZOFFSETTO:-0500
TZNAME:EST
DTSTART:20251102T060000
END:STANDARD
BEGIN:DAYLIGHT
TZOFFSETFROM:-0500
TZOFFSETTO:-0400
TZNAME:EDT
DTSTART:20260308T070000
END:DAYLIGHT
BEGIN:STANDARD
TZOFFSETFROM:-0400
TZOFFSETTO:-0500
TZNAME:EST
DTSTART:20261101T060000
END:STANDARD
END:VTIMEZONE
BEGIN:VEVENT
DTSTART;TZID=America/New_York:20251024T183000
DTEND;TZID=America/New_York:20251024T210000
DTSTAMP:20260421T215027
CREATED:20250912T152731Z
LAST-MODIFIED:20250917T170901Z
UID:39085-1761330600-1761339600@www.unitedskates.com
SUMMARY:Haunted Laser Tag Skate
DESCRIPTION:Haunted Laser Tag Skate\nFriday October 24th | 6:30 PM – 9:00 PM \nEnter if you dare… 💀 Our arena has been transformed into a haunted battleground where shadows move\, fog creeps\, and screams echo through the dark. Grab your squad\, load your phasers\, and see if you can survive the haunt… or will you become part of it? \n🎟️ Admission: $13.00🎟️ Skate & Play: $20.00 (includes Admission\, One Laser Tag Game & 20 Game Credits)🛼 Skate Rental: $6.00 \nPURCHASE SESSION TICKETS HERE! \nImportant Info: \n\nAll guests ages 3-17 must pay admission & skate rental (or bring their own skates).\nNon-skating adults may enter at no charge.\nOnline waiver required for all adults and children entering the building. Click here to fill it out. Please have your signed waiver ready to show at check-in to make the process quick and easy. Effective 10/11/2024
URL:https://www.unitedskates.com/skate-zone-71/event/haunted-laser-tag-skate/
LOCATION:Skate Zone 71\, 4900 Evanswood Ddr.\, Columbus\, OH\, 43229\, United States
CATEGORIES:Public Skates,Special Events
ATTACH;FMTTYPE=image/png:https://unitedskates-assets.sfo3.digitaloceanspaces.com/wp-content/uploads/sites/7/2025/09/10.24-Haunted-Laser-Tag-Skate-Flyer.png
END:VEVENT
END:VCALENDAR