BEGIN:VCALENDAR
VERSION:2.0
PRODID:-//Rink 2 - Skate Zone 71 - ECPv6.15.20//NONSGML v1.0//EN
CALSCALE:GREGORIAN
METHOD:PUBLISH
X-WR-CALNAME:Rink 2 - Skate Zone 71
X-ORIGINAL-URL:https://www.unitedskates.com/skate-zone-71
X-WR-CALDESC:Events for Rink 2 - Skate Zone 71
REFRESH-INTERVAL;VALUE=DURATION:PT1H
X-Robots-Tag:noindex
X-PUBLISHED-TTL:PT1H
BEGIN:VTIMEZONE
TZID:America/New_York
BEGIN:DAYLIGHT
TZOFFSETFROM:-0500
TZOFFSETTO:-0400
TZNAME:EDT
DTSTART:20240310T070000
END:DAYLIGHT
BEGIN:STANDARD
TZOFFSETFROM:-0400
TZOFFSETTO:-0500
TZNAME:EST
DTSTART:20241103T060000
END:STANDARD
BEGIN:DAYLIGHT
TZOFFSETFROM:-0500
TZOFFSETTO:-0400
TZNAME:EDT
DTSTART:20250309T070000
END:DAYLIGHT
BEGIN:STANDARD
TZOFFSETFROM:-0400
TZOFFSETTO:-0500
TZNAME:EST
DTSTART:20251102T060000
END:STANDARD
BEGIN:DAYLIGHT
TZOFFSETFROM:-0500
TZOFFSETTO:-0400
TZNAME:EDT
DTSTART:20260308T070000
END:DAYLIGHT
BEGIN:STANDARD
TZOFFSETFROM:-0400
TZOFFSETTO:-0500
TZNAME:EST
DTSTART:20261101T060000
END:STANDARD
END:VTIMEZONE
BEGIN:VEVENT
DTSTART;VALUE=DATE:20250818
DTEND;VALUE=DATE:20250822
DTSTAMP:20260422T204810
CREATED:20250710T165739Z
LAST-MODIFIED:20250710T165739Z
UID:37969-1755493200-1755752399@www.unitedskates.com
SUMMARY:CLOSED: Rink Floor Re-Finishing
DESCRIPTION:We apologize in advance for any inconvenience but we will be closed Monday August 18th thru Wednesday August 20th for Maintenance & Rink Re-Finishing\, opening back up for Thursday Adult Night on August 21st at 9:00PM! \nThank you for your understanding!
URL:https://www.unitedskates.com/skate-zone-71/event/closed-rink-floor-re-finishing/
LOCATION:Skate Zone 71\, 4900 Evanswood Ddr.\, Columbus\, OH\, 43229\, United States
CATEGORIES:Special Events
ATTACH;FMTTYPE=image/jpeg:https://unitedskates-assets.sfo3.digitaloceanspaces.com/wp-content/uploads/sites/7/2024/04/Closed-Rink-Tile.jpg
END:VEVENT
END:VCALENDAR