BEGIN:VCALENDAR
VERSION:2.0
PRODID:-//Rink 2 - Skate Zone 71 - ECPv6.15.20//NONSGML v1.0//EN
CALSCALE:GREGORIAN
METHOD:PUBLISH
X-WR-CALNAME:Rink 2 - Skate Zone 71
X-ORIGINAL-URL:https://www.unitedskates.com/skate-zone-71
X-WR-CALDESC:Events for Rink 2 - Skate Zone 71
REFRESH-INTERVAL;VALUE=DURATION:PT1H
X-Robots-Tag:noindex
X-PUBLISHED-TTL:PT1H
BEGIN:VTIMEZONE
TZID:America/New_York
BEGIN:DAYLIGHT
TZOFFSETFROM:-0500
TZOFFSETTO:-0400
TZNAME:EDT
DTSTART:20240310T070000
END:DAYLIGHT
BEGIN:STANDARD
TZOFFSETFROM:-0400
TZOFFSETTO:-0500
TZNAME:EST
DTSTART:20241103T060000
END:STANDARD
BEGIN:DAYLIGHT
TZOFFSETFROM:-0500
TZOFFSETTO:-0400
TZNAME:EDT
DTSTART:20250309T070000
END:DAYLIGHT
BEGIN:STANDARD
TZOFFSETFROM:-0400
TZOFFSETTO:-0500
TZNAME:EST
DTSTART:20251102T060000
END:STANDARD
BEGIN:DAYLIGHT
TZOFFSETFROM:-0500
TZOFFSETTO:-0400
TZNAME:EDT
DTSTART:20260308T070000
END:DAYLIGHT
BEGIN:STANDARD
TZOFFSETFROM:-0400
TZOFFSETTO:-0500
TZNAME:EST
DTSTART:20261101T060000
END:STANDARD
END:VTIMEZONE
BEGIN:VEVENT
DTSTART;VALUE=DATE:20250815
DTEND;VALUE=DATE:20250819
DTSTAMP:20260423T021142
CREATED:20250804T150942Z
LAST-MODIFIED:20250804T150942Z
UID:38209-1755234000-1755493199@www.unitedskates.com
SUMMARY:🍎✏️Back to School Weekend!!🍎✏️
DESCRIPTION:Back to School Weekend Skates\nFriday August 15th to Sunday August 17th \nJoin us for all kinds of Back to School skating FUN!! \n🎟️ Admission: Varied By Session🛼 Skate Rental: $6.00 \nPURCHASE TICKETS HERE! \n⏰ Session Times: Begin and end at the posted start & end time—no stayovers allowed. \n🚨 Important Info: \n\nAll guests ages 3-17 must pay admission & skate rental (or bring their own skates).\nNon-skating adults may enter at no charge.\nOnline waiver required for all adults and children entering the building. Click here to fill it out. Please have your signed waiver ready to show at check-in to make the process quick and easy. Effective 10/11/2024\n\n💥 Group Rates available for parties of 15+—Click here for reservations\n🎉 Birthday Parties available—CLICK HERE\n💡 Looking for a fun group event to earn money?—Click here for more info
URL:https://www.unitedskates.com/skate-zone-71/event/%f0%9f%8d%8e%e2%9c%8f%ef%b8%8fback-to-school-weekend%f0%9f%8d%8e%e2%9c%8f%ef%b8%8f/
LOCATION:Skate Zone 71\, 4900 Evanswood Ddr.\, Columbus\, OH\, 43229\, United States
CATEGORIES:Public Skates,Special Events
ATTACH;FMTTYPE=image/png:https://unitedskates-assets.sfo3.digitaloceanspaces.com/wp-content/uploads/sites/7/2025/08/8.16-17-Back-to-School-Weekend-editable.png
END:VEVENT
BEGIN:VEVENT
DTSTART;TZID=America/New_York:20250817T130000
DTEND;TZID=America/New_York:20250817T153000
DTSTAMP:20260423T021142
CREATED:20250715T175926Z
LAST-MODIFIED:20250715T175926Z
UID:38091-1755435600-1755444600@www.unitedskates.com
SUMMARY:Ice Cream Social Skates
DESCRIPTION:Ice Cream Social Skates\nSunday August 17th | 1:00 PM – 3:30 PM | 4:00 PM – 7:00 PM \nJoin us for the COOLEST sessions this season! Every Paid Admission receives a FREE Ice Cream Sandwich \n🎟️ Admission: $13.00🛼 Skate Rental: $6.00 \nPURCHASE TICKETS HERE! \n⏰ Session Times: Begin and end at the posted start & end time—no stayovers allowed. \n🚨 Important Info: \n\nAll guests ages 3-17 must pay admission & skate rental (or bring their own skates).\nNon-skating adults may enter at no charge.\nOnline waiver required for all adults and children entering the building. Click here to fill it out. Please have your signed waiver ready to show at check-in to make the process quick and easy. Effective 10/11/2024\n\n💥 Group Rates available for parties of 15+—Click here for reservations\n🎉 Birthday Parties available—CLICK HERE\n💡 Looking for a fun group event to earn money?—Click here for more info
URL:https://www.unitedskates.com/skate-zone-71/event/ice-cream-social-skates/2025-08-17/
LOCATION:OH
CATEGORIES:Public Skates,Special Events
ATTACH;FMTTYPE=image/png:https://unitedskates-assets.sfo3.digitaloceanspaces.com/wp-content/uploads/sites/7/2025/07/8.17-ice-cream-social-skate.png
END:VEVENT
BEGIN:VEVENT
DTSTART;TZID=America/New_York:20250817T160000
DTEND;TZID=America/New_York:20250817T190000
DTSTAMP:20260423T021142
CREATED:20250715T175926Z
LAST-MODIFIED:20250715T175926Z
UID:38094-1755446400-1755457200@www.unitedskates.com
SUMMARY:Ice Cream Social Skates
DESCRIPTION:Ice Cream Social Skates\nSunday August 17th | 1:00 PM – 3:30 PM | 4:00 PM – 7:00 PM \nJoin us for the COOLEST sessions this season! Every Paid Admission receives a FREE Ice Cream Sandwich \n🎟️ Admission: $13.00🛼 Skate Rental: $6.00 \nPURCHASE TICKETS HERE! \n⏰ Session Times: Begin and end at the posted start & end time—no stayovers allowed. \n🚨 Important Info: \n\nAll guests ages 3-17 must pay admission & skate rental (or bring their own skates).\nNon-skating adults may enter at no charge.\nOnline waiver required for all adults and children entering the building. Click here to fill it out. Please have your signed waiver ready to show at check-in to make the process quick and easy. Effective 10/11/2024\n\n💥 Group Rates available for parties of 15+—Click here for reservations\n🎉 Birthday Parties available—CLICK HERE\n💡 Looking for a fun group event to earn money?—Click here for more info
URL:https://www.unitedskates.com/skate-zone-71/event/ice-cream-social-skates/2025-08-17/2/
LOCATION:OH
CATEGORIES:Public Skates,Special Events
ATTACH;FMTTYPE=image/png:https://unitedskates-assets.sfo3.digitaloceanspaces.com/wp-content/uploads/sites/7/2025/07/8.17-ice-cream-social-skate.png
END:VEVENT
END:VCALENDAR