BEGIN:VCALENDAR
VERSION:2.0
PRODID:-//Rink 2 - Skate Zone 71 - ECPv6.15.20//NONSGML v1.0//EN
CALSCALE:GREGORIAN
METHOD:PUBLISH
X-ORIGINAL-URL:https://www.unitedskates.com/skate-zone-71
X-WR-CALDESC:Events for Rink 2 - Skate Zone 71
REFRESH-INTERVAL;VALUE=DURATION:PT1H
X-Robots-Tag:noindex
X-PUBLISHED-TTL:PT1H
BEGIN:VTIMEZONE
TZID:America/New_York
BEGIN:DAYLIGHT
TZOFFSETFROM:-0500
TZOFFSETTO:-0400
TZNAME:EDT
DTSTART:20240310T070000
END:DAYLIGHT
BEGIN:STANDARD
TZOFFSETFROM:-0400
TZOFFSETTO:-0500
TZNAME:EST
DTSTART:20241103T060000
END:STANDARD
BEGIN:DAYLIGHT
TZOFFSETFROM:-0500
TZOFFSETTO:-0400
TZNAME:EDT
DTSTART:20250309T070000
END:DAYLIGHT
BEGIN:STANDARD
TZOFFSETFROM:-0400
TZOFFSETTO:-0500
TZNAME:EST
DTSTART:20251102T060000
END:STANDARD
BEGIN:DAYLIGHT
TZOFFSETFROM:-0500
TZOFFSETTO:-0400
TZNAME:EDT
DTSTART:20260308T070000
END:DAYLIGHT
BEGIN:STANDARD
TZOFFSETFROM:-0400
TZOFFSETTO:-0500
TZNAME:EST
DTSTART:20261101T060000
END:STANDARD
END:VTIMEZONE
BEGIN:VEVENT
DTSTART;VALUE=DATE:20250815
DTEND;VALUE=DATE:20250819
DTSTAMP:20260423T023238
CREATED:20250804T150942Z
LAST-MODIFIED:20250804T150942Z
UID:38209-1755234000-1755493199@www.unitedskates.com
SUMMARY:🍎✏️Back to School Weekend!!🍎✏️
DESCRIPTION:Back to School Weekend Skates\nFriday August 15th to Sunday August 17th \nJoin us for all kinds of Back to School skating FUN!! \n🎟️ Admission: Varied By Session🛼 Skate Rental: $6.00 \nPURCHASE TICKETS HERE! \n⏰ Session Times: Begin and end at the posted start & end time—no stayovers allowed. \n🚨 Important Info: \n\nAll guests ages 3-17 must pay admission & skate rental (or bring their own skates).\nNon-skating adults may enter at no charge.\nOnline waiver required for all adults and children entering the building. Click here to fill it out. Please have your signed waiver ready to show at check-in to make the process quick and easy. Effective 10/11/2024\n\n💥 Group Rates available for parties of 15+—Click here for reservations\n🎉 Birthday Parties available—CLICK HERE\n💡 Looking for a fun group event to earn money?—Click here for more info
URL:https://www.unitedskates.com/skate-zone-71/event/%f0%9f%8d%8e%e2%9c%8f%ef%b8%8fback-to-school-weekend%f0%9f%8d%8e%e2%9c%8f%ef%b8%8f/
LOCATION:Skate Zone 71\, 4900 Evanswood Ddr.\, Columbus\, OH\, 43229\, United States
CATEGORIES:Public Skates,Special Events
ATTACH;FMTTYPE=image/png:https://unitedskates-assets.sfo3.digitaloceanspaces.com/wp-content/uploads/sites/7/2025/08/8.16-17-Back-to-School-Weekend-editable.png
END:VEVENT
BEGIN:VEVENT
DTSTART;TZID=America/New_York:20250815T093000
DTEND;TZID=America/New_York:20250815T113000
DTSTAMP:20260423T023238
CREATED:20250514T160610Z
LAST-MODIFIED:20250514T160610Z
UID:37332-1755250200-1755257400@www.unitedskates.com
SUMMARY:Daytime Private Parties
DESCRIPTION:🎉 Summer Daytime Private Events at Skate Zone 71! 🎉 \n✨ Reserve the entire rink for your group! ✨ \n🛼 Perfect for:✅ Daycares/Summer Camps✅ Sports Teams✅ Birthday Celebrations✅ And MORE! \nChoose from 2 Great Packages:🏢 Private Party — $400 includes first 35 guests with skate rental & two hours of fun skating. Additional guests just $10 each!👥 STEM Private Party — $540 includes first 35 guests with skate rental and a STEM Lesson in the first half hour with 1.5 hours of fun skating after! Additional guests just $14 each! \n📅 Check availability & book your event now: CLICK HERE! \n💛Let’s roll into an unforgettable summer at Skate Zone 71!💛
URL:https://www.unitedskates.com/skate-zone-71/event/daytime-private-parties/2025-08-15/
LOCATION:Skate Zone 71\, 4900 Evanswood Ddr.\, Columbus\, OH\, 43229\, United States
CATEGORIES:Private Party Events,Special Events
ATTACH;FMTTYPE=image/png:https://unitedskates-assets.sfo3.digitaloceanspaces.com/wp-content/uploads/sites/7/2025/05/Daytime-Private-Parties-2025.png
END:VEVENT
BEGIN:VEVENT
DTSTART;TZID=America/New_York:20250815T120000
DTEND;TZID=America/New_York:20250815T143000
DTSTAMP:20260423T023238
CREATED:20250320T175540Z
LAST-MODIFIED:20250710T173426Z
UID:36261-1755259200-1755268200@www.unitedskates.com
SUMMARY:END OF SUMMER SKATING
DESCRIPTION:END OF SUMMER SKATING!\nMake a Reservation of 10+ Participants and Receive Free Admissions for your Group! Participants included in reservations still responsible for Skate Rental.\nCall 614-846-5626 to Reserve Today\, Reservations Required for Free Admissions\n12:00PM – 2:30PM\n\nAdmission: $5.00\nSkate Rental: $6.00\n\n⏰ Session Times: Begin and end at the posted start & end time—no stayovers allowed. \n🎉 Birthday Parties Available – CLICK HERE \n🚨 Important Info: \n\nAll guests ages 3-17 must pay admission & skate rental (or bring their own skates).\nNon-skating adults may enter at no charge.\nOnline waiver required for all adults and children entering the building. Click HERE to fill it out. Please have your signed waiver ready to show at check-in to make the process quick and easy. Effective 10/11/2024
URL:https://www.unitedskates.com/skate-zone-71/event/summer-fun-daytime-skating-5-2025-08-15/
LOCATION:Skate Zone 71\, 4900 Evanswood Ddr.\, Columbus\, OH\, 43229\, United States
CATEGORIES:Public Skates,Special Events
ATTACH;FMTTYPE=image/png:https://unitedskates-assets.sfo3.digitaloceanspaces.com/wp-content/uploads/sites/7/2025/03/End-of-Summer-2.png
END:VEVENT
BEGIN:VEVENT
DTSTART;TZID=America/New_York:20250815T183000
DTEND;TZID=America/New_York:20250815T210000
DTSTAMP:20260423T023238
CREATED:20250711T171430Z
LAST-MODIFIED:20250716T155027Z
UID:37991-1755282600-1755291600@www.unitedskates.com
SUMMARY:Back to School Skate Party - Supply Drive
DESCRIPTION:🛼🍎✏️Back to School Skate Party✏️🍎🛼\nFriday August 15th head to Skate Zone for a FUN Skating Session\, Arcade Games\, Laser Tag & MORE!\nBring in a new School Supply Donation for a 10 Credit Game Card to our Arcade!!\n6:30PM – 9:00PM\n\n\n\nAdmission: $5.00\nSkate Rental: $6.00\n\n\n\nPURCHASE TICKETS HERE! \n⏰ Session Times: Begin and end at the posted start & end time—no stayovers allowed. \n🚨 Important Info: \n\nAll guests ages 3-17 must pay admission & skate rental (or bring their own skates).\nNon-skating adults may enter at no charge.\nOnline waiver required for all adults and children entering the building. Click here to fill it out. Please have your signed waiver ready to show at check-in to make the process quick and easy. Effective 10/11/2024\n\n💥 Group Rates available for parties of 15+—Click here for reservations\n🎉 Birthday Parties available—CLICK HERE\n💡 Looking for a fun group event to earn money?—Click here for more info
URL:https://www.unitedskates.com/skate-zone-71/event/back-to-school-skate-party-supply-drive/
LOCATION:Skate Zone 71\, 4900 Evanswood Ddr.\, Columbus\, OH\, 43229\, United States
CATEGORIES:Public Skates,Special Events
ATTACH;FMTTYPE=image/png:https://unitedskates-assets.sfo3.digitaloceanspaces.com/wp-content/uploads/sites/7/2025/07/8.15-back-to-school-SKATE-flyer-1.png
END:VEVENT
END:VCALENDAR