BEGIN:VCALENDAR
VERSION:2.0
PRODID:-//Rink 2 - Skate Zone 71 - ECPv6.15.20//NONSGML v1.0//EN
CALSCALE:GREGORIAN
METHOD:PUBLISH
X-ORIGINAL-URL:https://www.unitedskates.com/skate-zone-71
X-WR-CALDESC:Events for Rink 2 - Skate Zone 71
REFRESH-INTERVAL;VALUE=DURATION:PT1H
X-Robots-Tag:noindex
X-PUBLISHED-TTL:PT1H
BEGIN:VTIMEZONE
TZID:America/New_York
BEGIN:DAYLIGHT
TZOFFSETFROM:-0500
TZOFFSETTO:-0400
TZNAME:EDT
DTSTART:20240310T070000
END:DAYLIGHT
BEGIN:STANDARD
TZOFFSETFROM:-0400
TZOFFSETTO:-0500
TZNAME:EST
DTSTART:20241103T060000
END:STANDARD
BEGIN:DAYLIGHT
TZOFFSETFROM:-0500
TZOFFSETTO:-0400
TZNAME:EDT
DTSTART:20250309T070000
END:DAYLIGHT
BEGIN:STANDARD
TZOFFSETFROM:-0400
TZOFFSETTO:-0500
TZNAME:EST
DTSTART:20251102T060000
END:STANDARD
BEGIN:DAYLIGHT
TZOFFSETFROM:-0500
TZOFFSETTO:-0400
TZNAME:EDT
DTSTART:20260308T070000
END:DAYLIGHT
BEGIN:STANDARD
TZOFFSETFROM:-0400
TZOFFSETTO:-0500
TZNAME:EST
DTSTART:20261101T060000
END:STANDARD
END:VTIMEZONE
BEGIN:VEVENT
DTSTART;TZID=America/New_York:20250807T093000
DTEND;TZID=America/New_York:20250807T113000
DTSTAMP:20260423T011347
CREATED:20250514T160610Z
LAST-MODIFIED:20250514T160610Z
UID:37326-1754559000-1754566200@www.unitedskates.com
SUMMARY:Daytime Private Parties
DESCRIPTION:🎉 Summer Daytime Private Events at Skate Zone 71! 🎉 \n✨ Reserve the entire rink for your group! ✨ \n🛼 Perfect for:✅ Daycares/Summer Camps✅ Sports Teams✅ Birthday Celebrations✅ And MORE! \nChoose from 2 Great Packages:🏢 Private Party — $400 includes first 35 guests with skate rental & two hours of fun skating. Additional guests just $10 each!👥 STEM Private Party — $540 includes first 35 guests with skate rental and a STEM Lesson in the first half hour with 1.5 hours of fun skating after! Additional guests just $14 each! \n📅 Check availability & book your event now: CLICK HERE! \n💛Let’s roll into an unforgettable summer at Skate Zone 71!💛
URL:https://www.unitedskates.com/skate-zone-71/event/daytime-private-parties/2025-08-07/
LOCATION:Skate Zone 71\, 4900 Evanswood Ddr.\, Columbus\, OH\, 43229\, United States
CATEGORIES:Private Party Events,Special Events
ATTACH;FMTTYPE=image/png:https://unitedskates-assets.sfo3.digitaloceanspaces.com/wp-content/uploads/sites/7/2025/05/Daytime-Private-Parties-2025.png
END:VEVENT
BEGIN:VEVENT
DTSTART;TZID=America/New_York:20250807T120000
DTEND;TZID=America/New_York:20250807T143000
DTSTAMP:20260423T011347
CREATED:20250421T163625Z
LAST-MODIFIED:20250421T163625Z
UID:36851-1754568000-1754577000@www.unitedskates.com
SUMMARY:Brain Freeze Skate
DESCRIPTION:🍧Brain Freeze Skate🍧\nEach Child Admission receives Free Snow Cone from our Roller Cafe! Be sure to stop by and cool down with this Summer Session!\n12:00PM – 2:30PM\n\nAdmission: $13.00\nSkate Rental: $6.00\nPURCHASE TICKETS HERE SOON!\n\n⏰ Session Times: Begin and end at the posted start & end time—no stayovers allowed. \n🎉 Birthday Parties Available – CLICK HERE \n💡 Looking for a fun group event? With 10+ Participants book one of the Daytime Group Rates – CLICK HERE \n🚨 Important Info: \n\nAll guests ages 3-17 must pay admission & skate rental (or bring their own skates).\nNon-skating adults may enter at no charge.\nOnline waiver required for all adults and children entering the building. Click HERE to fill it out. Please have your signed waiver ready to show at check-in to make the process quick and easy. Effective 10/11/2024
URL:https://www.unitedskates.com/skate-zone-71/event/brain-freeze-skate-2/
LOCATION:Skate Zone 71\, 4900 Evanswood Ddr.\, Columbus\, OH\, 43229\, United States
CATEGORIES:Public Skates,Special Events
ATTACH;FMTTYPE=image/jpeg:https://unitedskates-assets.sfo3.digitaloceanspaces.com/wp-content/uploads/sites/7/2024/05/600px-brain-freeze-skate-2022-1200x1200-v2.jpg
END:VEVENT
BEGIN:VEVENT
DTSTART;TZID=America/New_York:20250807T180000
DTEND;TZID=America/New_York:20250807T203000
DTSTAMP:20260423T011347
CREATED:20250320T165045Z
LAST-MODIFIED:20250710T164225Z
UID:36177-1754589600-1754598600@www.unitedskates.com
SUMMARY:Unlimited Game Play Nights
DESCRIPTION:Skate Zone 71 has the gamers covered with this Unlimited Game Play Skate!! Each admission includes an activated Game Card and from 6:00pm – 7:30pm select arcade games will be unlimited play!\n6PM – 8:30PM\n\nAdmission: $13.00\nSkate Rental: $6.00\nPURCHASE TICKETS HERE SOON!\n\n⏰ Session Times: Begin and end at the posted start & end time—no stayovers allowed. \n🚨 Important Info: \n\nAll guests ages 3-17 must pay admission & skate rental (or bring their own skates).\nNon-skating adults may enter at no charge.\nOnline waiver required for all adults and children entering the building. Click here to fill it out. Please have your signed waiver ready to show at check-in to make the process quick and easy. Effective 10/11/2024\n\n🎉 Birthday Parties available—CLICK HERE\n💡 Looking for a fun group event to earn money?—Click here for more info
URL:https://www.unitedskates.com/skate-zone-71/event/unlimited-game-play-nights-2025-08-07/
LOCATION:OH
CATEGORIES:Public Skates,Special Events
END:VEVENT
BEGIN:VEVENT
DTSTART;TZID=America/New_York:20250807T180000
DTEND;TZID=America/New_York:20250807T203000
DTSTAMP:20260423T011347
CREATED:20250707T151650Z
LAST-MODIFIED:20250707T151650Z
UID:37802-1754589600-1754598600@www.unitedskates.com
SUMMARY:Unlimited Game Play Skates
DESCRIPTION:🛼Thursday Night Unlimited Game Play Skating🛼\nNo Game Card Fee – Select Games Unlimited Play between 6pm – 7:30pm\n6:00PM – 8:30PM\n\nAdmission: $13\nSkate Rental: $6\n\nPURCHASE TICKETS HERE!\n⏰ Session Times: Begin and end at the posted start & end time—no stayovers allowed. \n🚨 Important Info: \n\nAll guests ages 3-17 must pay admission & skate rental (or bring their own skates).\nNon-skating adults may enter at no charge.\nOnline waiver required for all adults and children entering the building. Click here to fill it out. Please have your signed waiver ready to show at check-in to make the process quick and easy. Effective 10/11/2024\n\n💥 Group Rates available for parties of 15+—Click here for reservations\n🎉 Birthday Parties available—CLICK HERE\n💡 Looking for a fun group event to earn money?—Click here for more info
URL:https://www.unitedskates.com/skate-zone-71/event/unlimited-game-play-skates/2025-08-07/
LOCATION:Skate Zone 71\, 4900 Evanswood Ddr.\, Columbus\, OH\, 43229\, United States
CATEGORIES:Public Skates,Special Events
ATTACH;FMTTYPE=image/png:https://unitedskates-assets.sfo3.digitaloceanspaces.com/wp-content/uploads/sites/7/2025/03/SUMMER-Unlim-game-day-skate.png
END:VEVENT
END:VCALENDAR