BEGIN:VCALENDAR
VERSION:2.0
PRODID:-//Rink 2 - Skate Zone 71 - ECPv6.15.20//NONSGML v1.0//EN
CALSCALE:GREGORIAN
METHOD:PUBLISH
X-WR-CALNAME:Rink 2 - Skate Zone 71
X-ORIGINAL-URL:https://www.unitedskates.com/skate-zone-71
X-WR-CALDESC:Events for Rink 2 - Skate Zone 71
REFRESH-INTERVAL;VALUE=DURATION:PT1H
X-Robots-Tag:noindex
X-PUBLISHED-TTL:PT1H
BEGIN:VTIMEZONE
TZID:America/New_York
BEGIN:DAYLIGHT
TZOFFSETFROM:-0500
TZOFFSETTO:-0400
TZNAME:EDT
DTSTART:20240310T070000
END:DAYLIGHT
BEGIN:STANDARD
TZOFFSETFROM:-0400
TZOFFSETTO:-0500
TZNAME:EST
DTSTART:20241103T060000
END:STANDARD
BEGIN:DAYLIGHT
TZOFFSETFROM:-0500
TZOFFSETTO:-0400
TZNAME:EDT
DTSTART:20250309T070000
END:DAYLIGHT
BEGIN:STANDARD
TZOFFSETFROM:-0400
TZOFFSETTO:-0500
TZNAME:EST
DTSTART:20251102T060000
END:STANDARD
BEGIN:DAYLIGHT
TZOFFSETFROM:-0500
TZOFFSETTO:-0400
TZNAME:EDT
DTSTART:20260308T070000
END:DAYLIGHT
BEGIN:STANDARD
TZOFFSETFROM:-0400
TZOFFSETTO:-0500
TZNAME:EST
DTSTART:20261101T060000
END:STANDARD
END:VTIMEZONE
BEGIN:VEVENT
DTSTART;TZID=America/New_York:20250801T093000
DTEND;TZID=America/New_York:20250801T113000
DTSTAMP:20260423T021121
CREATED:20250514T160610Z
LAST-MODIFIED:20250514T160610Z
UID:37324-1754040600-1754047800@www.unitedskates.com
SUMMARY:Daytime Private Parties
DESCRIPTION:🎉 Summer Daytime Private Events at Skate Zone 71! 🎉 \n✨ Reserve the entire rink for your group! ✨ \n🛼 Perfect for:✅ Daycares/Summer Camps✅ Sports Teams✅ Birthday Celebrations✅ And MORE! \nChoose from 2 Great Packages:🏢 Private Party — $400 includes first 35 guests with skate rental & two hours of fun skating. Additional guests just $10 each!👥 STEM Private Party — $540 includes first 35 guests with skate rental and a STEM Lesson in the first half hour with 1.5 hours of fun skating after! Additional guests just $14 each! \n📅 Check availability & book your event now: CLICK HERE! \n💛Let’s roll into an unforgettable summer at Skate Zone 71!💛
URL:https://www.unitedskates.com/skate-zone-71/event/daytime-private-parties/2025-08-01/
LOCATION:Skate Zone 71\, 4900 Evanswood Ddr.\, Columbus\, OH\, 43229\, United States
CATEGORIES:Private Party Events,Special Events
ATTACH;FMTTYPE=image/png:https://unitedskates-assets.sfo3.digitaloceanspaces.com/wp-content/uploads/sites/7/2025/05/Daytime-Private-Parties-2025.png
END:VEVENT
BEGIN:VEVENT
DTSTART;TZID=America/New_York:20250801T120000
DTEND;TZID=America/New_York:20250801T143000
DTSTAMP:20260423T021121
CREATED:20250625T172457Z
LAST-MODIFIED:20250626T180339Z
UID:37708-1754049600-1754058600@www.unitedskates.com
SUMMARY:$5 Friday - Hello Kitty Skate
DESCRIPTION:🛼🌟Hello Kitty Skate 🌟🛼\nIt’s a special $5 Friday session\, perfect for little skaters and Hello Kitty fans of all ages! It’s going to be purr-fectly adorable so stop on in!\n12PM – 2:30PM\n\nAdmission: $5.00\nSkate Rental: $6.00\nPURCHASE TICKETS HERE!\n\n⏰ Session Times: Begin and end at the posted start & end time—no stayovers allowed. \n🚨 Important Info: \n\nAll guests ages 3-17 must pay admission & skate rental (or bring their own skates).\nNon-skating adults may enter at no charge.\nOnline waiver required for all adults and children entering the building. Click here to fill it out. Please have your signed waiver ready to show at check-in to make the process quick and easy. Effective 10/11/2024\n\n💥 Group Rates available for parties of 15+—Click here for reservations\n🎉 Birthday Parties available—CLICK HERE\n💡 Looking for a fun group event to earn money?—Click here for more info
URL:https://www.unitedskates.com/skate-zone-71/event/5-friday-skates-2025-08-01/
LOCATION:Skate Zone 71\, 4900 Evanswood Ddr.\, Columbus\, OH\, 43229\, United States
CATEGORIES:Public Skates,Special Events
ATTACH;FMTTYPE=image/png:https://unitedskates-assets.sfo3.digitaloceanspaces.com/wp-content/uploads/sites/7/2025/06/8.1-Hello-Kitty-skate-2025.png
END:VEVENT
BEGIN:VEVENT
DTSTART;TZID=America/New_York:20250801T183000
DTEND;TZID=America/New_York:20250801T210000
DTSTAMP:20260423T021121
CREATED:20250625T172738Z
LAST-MODIFIED:20250625T172738Z
UID:37716-1754073000-1754082000@www.unitedskates.com
SUMMARY:$5 Friday Skates
DESCRIPTION:🛼🌟$5 Friday Skates 🌟🛼\nEvery Friday head to Skate Zone for FUN Skating Sessions\, Arcade Games\, Laser Tag & MORE!\n6:30PM – 9:00PM\n\nAdmission: $5.00\nSkate Rental: $6.00\nPURCHASE TICKETS HERE!\n\n⏰$5 Admission NOT Available on July Fourth⏰\n🚨 Important Info: \n\nAll guests ages 3-17 must pay admission & skate rental (or bring their own skates).\nNon-skating adults may enter at no charge.\nOnline waiver required for all adults and children entering the building. Click here to fill it out. Please have your signed waiver ready to show at check-in to make the process quick and easy. Effective 10/11/2024\n\n💥 Group Rates available for parties of 15+—Click here for reservations\n🎉 Birthday Parties available—CLICK HERE\n💡 Looking for a fun group event to earn money?—Click here for more info
URL:https://www.unitedskates.com/skate-zone-71/event/5-friday-skates-2/2025-08-01/
LOCATION:OH
CATEGORIES:Public Skates,Special Events
ATTACH;FMTTYPE=image/png:https://unitedskates-assets.sfo3.digitaloceanspaces.com/wp-content/uploads/sites/7/2025/06/5-Dollar-Friday-2025-1.png
END:VEVENT
END:VCALENDAR