BEGIN:VCALENDAR
VERSION:2.0
PRODID:-//Rink 2 - Skate Zone 71 - ECPv6.15.20//NONSGML v1.0//EN
CALSCALE:GREGORIAN
METHOD:PUBLISH
X-ORIGINAL-URL:https://www.unitedskates.com/skate-zone-71
X-WR-CALDESC:Events for Rink 2 - Skate Zone 71
REFRESH-INTERVAL;VALUE=DURATION:PT1H
X-Robots-Tag:noindex
X-PUBLISHED-TTL:PT1H
BEGIN:VTIMEZONE
TZID:America/New_York
BEGIN:DAYLIGHT
TZOFFSETFROM:-0500
TZOFFSETTO:-0400
TZNAME:EDT
DTSTART:20240310T070000
END:DAYLIGHT
BEGIN:STANDARD
TZOFFSETFROM:-0400
TZOFFSETTO:-0500
TZNAME:EST
DTSTART:20241103T060000
END:STANDARD
BEGIN:DAYLIGHT
TZOFFSETFROM:-0500
TZOFFSETTO:-0400
TZNAME:EDT
DTSTART:20250309T070000
END:DAYLIGHT
BEGIN:STANDARD
TZOFFSETFROM:-0400
TZOFFSETTO:-0500
TZNAME:EST
DTSTART:20251102T060000
END:STANDARD
BEGIN:DAYLIGHT
TZOFFSETFROM:-0500
TZOFFSETTO:-0400
TZNAME:EDT
DTSTART:20260308T070000
END:DAYLIGHT
BEGIN:STANDARD
TZOFFSETFROM:-0400
TZOFFSETTO:-0500
TZNAME:EST
DTSTART:20261101T060000
END:STANDARD
END:VTIMEZONE
BEGIN:VEVENT
DTSTART;VALUE=DATE:20250719
DTEND;VALUE=DATE:20250722
DTSTAMP:20260423T184429
CREATED:20250717T155544Z
LAST-MODIFIED:20250717T155544Z
UID:38107-1752901200-1753073999@www.unitedskates.com
SUMMARY:✨CUSTOMER APPRECIATION WEEKEND✨✨
DESCRIPTION:✨CUSTOMER APPRECIATION WEEKEND✨\nWe’re rolling out the red carpet just for YOU! \nJoin us this weekend for skating fun\, arcade games\, laser tag & MORE! As a bonus we say THANK YOU to our amazing customers with HALF OFF SKATE ADMISSION! \nDiscount Available Saturday & Sunday Sessions \nSaturday 11am – 1pm\, 1:30pm – 4pm\, 5pm – 7:30pm \nSunday 1:00pm – 3:30pm & 4:00pm – 7:00pm \nSkate Rental $6 Additional
URL:https://www.unitedskates.com/skate-zone-71/event/%e2%9c%a8customer-appreciation-weekend%e2%9c%a8%e2%9c%a8/
LOCATION:Skate Zone 71\, 4900 Evanswood Ddr.\, Columbus\, OH\, 43229\, United States
CATEGORIES:Public Skates,Special Events
ATTACH;FMTTYPE=image/png:https://unitedskates-assets.sfo3.digitaloceanspaces.com/wp-content/uploads/sites/7/2025/07/Copy-of-Customer-Appreciation-Skate-Weekend.png
END:VEVENT
BEGIN:VEVENT
DTSTART;TZID=America/New_York:20250719T200000
DTEND;TZID=America/New_York:20250719T223000
DTSTAMP:20260423T184429
CREATED:20250606T155014Z
LAST-MODIFIED:20250609T181709Z
UID:37476-1752955200-1752964200@www.unitedskates.com
SUMMARY:KPOP Skate Party
DESCRIPTION:🎶🎵 KPOP Skate Party 🎵🎶📅 Saturday\, July 19th\, 2025🕗 8:00 PM – 10:30 PM \nGet ready to SKATE. DANCE. SLAY. 💃🛼Join us for an unforgettable night of KPOP music\, live performances\, and dance tutorials hosted by Dance Culture Center of Columbus!✨ This party will be EPIC — don’t miss your chance to roll and vibe to your favorite KPOP hits! \n🎟 Admission: $13.00🛼 Skate Rental: $6.00🎫 PURCHASE TICKETS HERE! \n⏰ Session begins and ends at posted times. No stayovers allowed. \n\n🚨 Important Info:👧 All guests ages 3–17 must pay admission + skate rental (unless bringing their own skates).👥 Chaperone Policy in effect: Guests under 17 without their own skates must be accompanied by a chaperone age 25+.🧑‍🦱 Non-skating adults enter FREE📝 Online waiver required for all guests. Click here to fill out and have it ready at check-in.Effective 10/11/2024 \n\n🎉 Add More Fun:💥 Group Rates (15+ guests) – Reserve here🎂 Birthday Parties Available – Book Now💰 Want to fundraise with us? – Click here for info \n\n💫 Bring your light sticks\, your squad\, and your best moves — and let’s roll the KPOP way!#KPOPSkateParty #SkateZone71 #ColumbusEvents #KPOPColumbus
URL:https://www.unitedskates.com/skate-zone-71/event/public-skating-and-birthdays-kpop-skate-party/
LOCATION:Skate Zone 71\, 4900 Evanswood Ddr.\, Columbus\, OH\, 43229\, United States
CATEGORIES:Family Events,Public Skates,Special Events
ATTACH;FMTTYPE=image/png:https://unitedskates-assets.sfo3.digitaloceanspaces.com/wp-content/uploads/sites/7/2025/06/7.19-DCC-K-Pop-Skate-July-2025.png
END:VEVENT
END:VCALENDAR