BEGIN:VCALENDAR
VERSION:2.0
PRODID:-//Rink 2 - Skate Zone 71 - ECPv6.15.20//NONSGML v1.0//EN
CALSCALE:GREGORIAN
METHOD:PUBLISH
X-ORIGINAL-URL:https://www.unitedskates.com/skate-zone-71
X-WR-CALDESC:Events for Rink 2 - Skate Zone 71
REFRESH-INTERVAL;VALUE=DURATION:PT1H
X-Robots-Tag:noindex
X-PUBLISHED-TTL:PT1H
BEGIN:VTIMEZONE
TZID:America/New_York
BEGIN:DAYLIGHT
TZOFFSETFROM:-0500
TZOFFSETTO:-0400
TZNAME:EDT
DTSTART:20240310T070000
END:DAYLIGHT
BEGIN:STANDARD
TZOFFSETFROM:-0400
TZOFFSETTO:-0500
TZNAME:EST
DTSTART:20241103T060000
END:STANDARD
BEGIN:DAYLIGHT
TZOFFSETFROM:-0500
TZOFFSETTO:-0400
TZNAME:EDT
DTSTART:20250309T070000
END:DAYLIGHT
BEGIN:STANDARD
TZOFFSETFROM:-0400
TZOFFSETTO:-0500
TZNAME:EST
DTSTART:20251102T060000
END:STANDARD
BEGIN:DAYLIGHT
TZOFFSETFROM:-0500
TZOFFSETTO:-0400
TZNAME:EDT
DTSTART:20260308T070000
END:DAYLIGHT
BEGIN:STANDARD
TZOFFSETFROM:-0400
TZOFFSETTO:-0500
TZNAME:EST
DTSTART:20261101T060000
END:STANDARD
END:VTIMEZONE
BEGIN:VEVENT
DTSTART;TZID=America/New_York:20250704T120000
DTEND;TZID=America/New_York:20250704T160000
DTSTAMP:20260423T165058
CREATED:20250320T175540Z
LAST-MODIFIED:20250421T172421Z
UID:36255-1751630400-1751644800@www.unitedskates.com
SUMMARY:💙🤍❤️Red\, White & Blue July Fourth Skating❤️🤍💙
DESCRIPTION:💙🤍❤️Red\, White & Blue July Fourth Skating❤️🤍💙\nEnjoy Half Price Admission if you arrive before 1pm\, with Select Arcade Games Half Priced All Session!!\n12:00PM – 4:00PM\n\nAdmission: $13.00 ($6.50 Before 1PM)\nSkate Rental: $6.00\n\n⏰ Session Times: Begin and end at the posted start & end time—no stayovers allowed. \n🎉 Birthday Parties Available – CLICK HERE \n💡 Looking for a fun group event? With 10+ Participants book one of the Daytime Group Rates – CLICK HERE \n🚨 Important Info: \n\nAll guests ages 3-17 must pay admission & skate rental (or bring their own skates).\nNon-skating adults may enter at no charge.\nOnline waiver required for all adults and children entering the building. Click HERE to fill it out. Please have your signed waiver ready to show at check-in to make the process quick and easy. Effective 10/11/2024
URL:https://www.unitedskates.com/skate-zone-71/event/summer-fun-daytime-skating-5-2025-07-04/
LOCATION:Skate Zone 71\, 4900 Evanswood Ddr.\, Columbus\, OH\, 43229\, United States
CATEGORIES:Public Skates,Special Events
ATTACH;FMTTYPE=image/jpeg:https://unitedskates-assets.sfo3.digitaloceanspaces.com/wp-content/uploads/sites/7/2025/03/4thofJuly-1200x1200-2.jpg
END:VEVENT
BEGIN:VEVENT
DTSTART;TZID=America/New_York:20250704T220000
DTEND;TZID=America/New_York:20250705T010000
DTSTAMP:20260423T165058
CREATED:20250529T175206Z
LAST-MODIFIED:20250609T160828Z
UID:37433-1751666400-1751677200@www.unitedskates.com
SUMMARY:Fourth of July Adult Sip & Skate 21+
DESCRIPTION:🎆Fourth of July Adult Sip & Skate 21+🎆\nFriday July 4th\, 2025🕤 10 PM – 1 AM\nGet ready for a fun-filled night at our Sip & Skate Session – celebrating that red\, white\, and blue with an After-Fireworks Skate! \nJoin us while we mix the best  music from todays greatest hits! \n👉 Grab Your Tickets HERE! \n🎟️ Admission Details:• $13.00 – Admission• $6.00 – Skate Rental (required if you don’t bring your own) \n🚫 Adults 21+ Only with Valid Photo ID Check \nLet’s roll into the holiday weekend with skating\, great tunes & friends! \n Important Info: \n\nAdult Sip & Skates are for Guests Ages 21+ Only with Valid Photo ID Check\nOnline waiver required all Skating Individuals Must Fill Out The Skating Waiver. Signed Waivers Must Be Shown At Admissions Before Entry\, Download The Confirmation And Have It Ready To Keep The Check In Process Smooth! Effective 10/11/2024
URL:https://www.unitedskates.com/skate-zone-71/event/fourth-of-july-adult-sip-skate/
LOCATION:Skate Zone 71\, 4900 Evanswood Ddr.\, Columbus\, OH\, 43229\, United States
CATEGORIES:Adult Events,Special Events
ATTACH;FMTTYPE=image/png:https://unitedskates-assets.sfo3.digitaloceanspaces.com/wp-content/uploads/sites/7/2025/05/7.4-Adult-Sip-Skate-Poster.png
END:VEVENT
END:VCALENDAR