BEGIN:VCALENDAR
VERSION:2.0
PRODID:-//Rink 2 - Skate Zone 71 - ECPv6.15.20//NONSGML v1.0//EN
CALSCALE:GREGORIAN
METHOD:PUBLISH
X-WR-CALNAME:Rink 2 - Skate Zone 71
X-ORIGINAL-URL:https://www.unitedskates.com/skate-zone-71
X-WR-CALDESC:Events for Rink 2 - Skate Zone 71
REFRESH-INTERVAL;VALUE=DURATION:PT1H
X-Robots-Tag:noindex
X-PUBLISHED-TTL:PT1H
BEGIN:VTIMEZONE
TZID:America/New_York
BEGIN:DAYLIGHT
TZOFFSETFROM:-0500
TZOFFSETTO:-0400
TZNAME:EDT
DTSTART:20240310T070000
END:DAYLIGHT
BEGIN:STANDARD
TZOFFSETFROM:-0400
TZOFFSETTO:-0500
TZNAME:EST
DTSTART:20241103T060000
END:STANDARD
BEGIN:DAYLIGHT
TZOFFSETFROM:-0500
TZOFFSETTO:-0400
TZNAME:EDT
DTSTART:20250309T070000
END:DAYLIGHT
BEGIN:STANDARD
TZOFFSETFROM:-0400
TZOFFSETTO:-0500
TZNAME:EST
DTSTART:20251102T060000
END:STANDARD
BEGIN:DAYLIGHT
TZOFFSETFROM:-0500
TZOFFSETTO:-0400
TZNAME:EDT
DTSTART:20260308T070000
END:DAYLIGHT
BEGIN:STANDARD
TZOFFSETFROM:-0400
TZOFFSETTO:-0500
TZNAME:EST
DTSTART:20261101T060000
END:STANDARD
END:VTIMEZONE
BEGIN:VEVENT
DTSTART;VALUE=DATE:20250619
DTEND;VALUE=DATE:20250624
DTSTAMP:20260423T180548
CREATED:20250502T185414Z
LAST-MODIFIED:20250502T185415Z
UID:37034-1750309200-1750654799@www.unitedskates.com
SUMMARY:Juneteenth Weekend!
DESCRIPTION:
URL:https://www.unitedskates.com/skate-zone-71/event/juneteenth-weekend/
LOCATION:Skate Zone 71\, 4900 Evanswood Ddr.\, Columbus\, OH\, 43229\, United States
CATEGORIES:Public Skates,Special Events
ATTACH;FMTTYPE=image/png:https://unitedskates-assets.sfo3.digitaloceanspaces.com/wp-content/uploads/sites/7/2025/03/6.19-Juneteenth-week-editable-v2.png
END:VEVENT
BEGIN:VEVENT
DTSTART;TZID=America/New_York:20250619T120000
DTEND;TZID=America/New_York:20250619T143000
DTSTAMP:20260423T180548
CREATED:20250320T175341Z
LAST-MODIFIED:20250502T184153Z
UID:36241-1750334400-1750343400@www.unitedskates.com
SUMMARY:Summer Fun Daytime Skating
DESCRIPTION:🌻 Skate Zone 71 Summer Daytime Skating🌻\n12:00PM – 2:30PM\n\nAdmission: $13.00\nSkate Rental: $6.00\nPURCHASE TICKETS HERE!\n\n⏰ Session Times: Begin and end at the posted start & end time—no stayovers allowed. \n🎉 Birthday Parties Available – CLICK HERE \n💡 Looking for a fun group event? With 10+ Participants book one of the Daytime Group Rates – CLICK HERE \n🚨 Important Info: \n\nAll guests ages 3-17 must pay admission & skate rental (or bring their own skates).\nNon-skating adults may enter at no charge.\nOnline waiver required for all adults and children entering the building. Click HERE to fill it out. Please have your signed waiver ready to show at check-in to make the process quick and easy. Effective 10/11/2024
URL:https://www.unitedskates.com/skate-zone-71/event/summer-fun-daytime-skating-4-2025-06-19/
LOCATION:Skate Zone 71\, 4900 Evanswood Ddr.\, Columbus\, OH\, 43229\, United States
CATEGORIES:Public Skates,Special Events
ATTACH;FMTTYPE=image/png:https://unitedskates-assets.sfo3.digitaloceanspaces.com/wp-content/uploads/sites/7/2025/03/6.19-Juneteenth-week-editable-v2.png
END:VEVENT
BEGIN:VEVENT
DTSTART;TZID=America/New_York:20250619T180000
DTEND;TZID=America/New_York:20250619T203000
DTSTAMP:20260423T180548
CREATED:20250320T165045Z
LAST-MODIFIED:20250502T184846Z
UID:36170-1750356000-1750365000@www.unitedskates.com
SUMMARY:Unlimited Game Play Skates
DESCRIPTION:🌻 Skate Zone 71 Summer Skating🌻\nSkate Zone 71 has the gamers covered with this Unlimited Game Play Skate!! Each admission includes an activated Game Card and from 6:00pm – 7:30pm select arcade games will be unlimited play!\n6PM – 8:30PM\n\nAdmission: $13.00\nSkate Rental: $6.00\nPURCHASE TICKETS HERE!\n\n⏰ Session Times: Begin and end at the posted start & end time—no stayovers allowed. \n🎉 Birthday Parties Available – CLICK HERE \n💡 Looking for a fun group event? With 10+ Participants book one of the Daytime Group Rates – CLICK HERE \n🚨 Important Info: \n\nAll guests ages 3-17 must pay admission & skate rental (or bring their own skates).\nNon-skating adults may enter at no charge.\nOnline waiver required for all adults and children entering the building. Click HERE to fill it out. Please have your signed waiver ready to show at check-in to make the process quick and easy. Effective 10/11/2024
URL:https://www.unitedskates.com/skate-zone-71/event/unlimited-game-play-nights-2025-06-19/
LOCATION:Skate Zone 71\, 4900 Evanswood Ddr.\, Columbus\, OH\, 43229\, United States
CATEGORIES:Public Skates,Special Events
ATTACH;FMTTYPE=image/png:https://unitedskates-assets.sfo3.digitaloceanspaces.com/wp-content/uploads/sites/7/2025/03/6.19-Juneteenth-week-editable-v2.png
END:VEVENT
BEGIN:VEVENT
DTSTART;TZID=America/New_York:20250619T210000
DTEND;TZID=America/New_York:20250620T000000
DTSTAMP:20260423T180548
CREATED:20220725T172109Z
LAST-MODIFIED:20250505T165354Z
UID:36397-1750366800-1750377600@www.unitedskates.com
SUMMARY:Juneteenth Adult Skate
DESCRIPTION:Join us for a night of rhythm and unity as we celebrate Juneteenth on wheels!\nHead in before 10pm for $2 off Admission!!\n\nAdmission: $13.00\nSkate Rental: $6.00\n18 and over ONLY with Valid Photo ID\n\nPURCHASE TICKETS HERE! \n\n\n\n⏰ Session Times: Begin and end at the posted start & end time—no stayovers allowed. \n🚨 Important Info: \n\nOnline waiver required for all adult skaters. Click here to fill it out. Please have your signed waiver ready to show at check-in to make the process quick and easy. Effective 10/11/2024
URL:https://www.unitedskates.com/skate-zone-71/event/thursday-night-adult-skates-2024-01-04-2025-06-19/
LOCATION:Skate Zone 71\, 4900 Evanswood Ddr.\, Columbus\, OH\, 43229\, United States
CATEGORIES:Adult Events,Special Events
ATTACH;FMTTYPE=image/jpeg:https://unitedskates-assets.sfo3.digitaloceanspaces.com/wp-content/uploads/sites/7/2022/07/Juneteenth-Adult-1200x1200-1.jpg
END:VEVENT
END:VCALENDAR