BEGIN:VCALENDAR
VERSION:2.0
PRODID:-//Rink 2 - Skate Zone 71 - ECPv6.15.20//NONSGML v1.0//EN
CALSCALE:GREGORIAN
METHOD:PUBLISH
X-WR-CALNAME:Rink 2 - Skate Zone 71
X-ORIGINAL-URL:https://www.unitedskates.com/skate-zone-71
X-WR-CALDESC:Events for Rink 2 - Skate Zone 71
REFRESH-INTERVAL;VALUE=DURATION:PT1H
X-Robots-Tag:noindex
X-PUBLISHED-TTL:PT1H
BEGIN:VTIMEZONE
TZID:America/New_York
BEGIN:DAYLIGHT
TZOFFSETFROM:-0500
TZOFFSETTO:-0400
TZNAME:EDT
DTSTART:20240310T070000
END:DAYLIGHT
BEGIN:STANDARD
TZOFFSETFROM:-0400
TZOFFSETTO:-0500
TZNAME:EST
DTSTART:20241103T060000
END:STANDARD
BEGIN:DAYLIGHT
TZOFFSETFROM:-0500
TZOFFSETTO:-0400
TZNAME:EDT
DTSTART:20250309T070000
END:DAYLIGHT
BEGIN:STANDARD
TZOFFSETFROM:-0400
TZOFFSETTO:-0500
TZNAME:EST
DTSTART:20251102T060000
END:STANDARD
BEGIN:DAYLIGHT
TZOFFSETFROM:-0500
TZOFFSETTO:-0400
TZNAME:EDT
DTSTART:20260308T070000
END:DAYLIGHT
BEGIN:STANDARD
TZOFFSETFROM:-0400
TZOFFSETTO:-0500
TZNAME:EST
DTSTART:20261101T060000
END:STANDARD
END:VTIMEZONE
BEGIN:VEVENT
DTSTART;VALUE=DATE:20250523
DTEND;VALUE=DATE:20250528
DTSTAMP:20260423T180541
CREATED:20250507T170936Z
LAST-MODIFIED:20250507T170936Z
UID:37073-1747976400-1748321999@www.unitedskates.com
SUMMARY:❤️💙 Memorial Weekend Skating 💙❤️
DESCRIPTION:Celebrate the holiday weekend with friends & family!Join us for a red\, white & rollin’ good time at our Memorial Day Skate Sessions!\nFriday May 23\n6:30pm – 9pm\nWear your best Red\, White & Blue for Free Small Cotton Candy \nSaturday May 24\n11am – 1pm\nWear your best Red\, White & Blue for Free Small Cotton Candy\n1:30pm – 4pm\nPublic Skate\n5pm – 7:30pm\nPublic Skate\n8pm – 10:30pm *Chaperone Policy applies for this session – Guests Age 17 & Under that are renting skates\, MUST be accompanied by a Chaperone Age 25+ for the Entire Session*\nPublic Skate \nSunday May 25\n1pm – 3:30pm\nStitch Skate – Admission includes Raffle Ticket for AMC Gift Card\n4pm – 7pm\nPublic Skate\n8pm – 12am\nAdult Skate (18+) – Admission includes Raffle Ticket for BBQ Grill Giveaway \nMonday May 26\n12pm – 4pm\nMemorial Day Skating – Early Bird Special Arrive before 1pm for Half Price Admission\n6pm – 8:30pm\nMemorial Day Skating – Unlimited Game Play on Select Arcade Games between 6pm – 7pm \n🚨 Important Info: \n\nAll guests ages 3-17 must pay admission & skate rental (or bring their own skates).\nNon-skating adults may enter at no charge during Public Skates\nOnline waiver required for all adults and children entering the building. Click here to fill it out. Please have your signed waiver ready to show at check-in to make the process quick and easy. Effective 10/11/2024
URL:https://www.unitedskates.com/skate-zone-71/event/%e2%9d%a4%ef%b8%8f%f0%9f%92%99-memorial-weekend-skating-%f0%9f%92%99%e2%9d%a4%ef%b8%8f/
LOCATION:Skate Zone 71\, 4900 Evanswood Ddr.\, Columbus\, OH\, 43229\, United States
CATEGORIES:Public Skates,Special Events
ATTACH;FMTTYPE=image/png:https://unitedskates-assets.sfo3.digitaloceanspaces.com/wp-content/uploads/sites/7/2025/05/4-day-Memorial-Day-Weekend-2025.png
END:VEVENT
BEGIN:VEVENT
DTSTART;VALUE=DATE:20250523
DTEND;VALUE=DATE:20250528
DTSTAMP:20260423T180541
CREATED:20250508T182002Z
LAST-MODIFIED:20250508T182002Z
UID:37188-1747976400-1748321999@www.unitedskates.com
SUMMARY:BSA Skate Party Weekend
DESCRIPTION:🎉 BSA Troops Skate Weekend! 🛼Celebrate the end of the season with us at Skate Zone 71! \n📅 Friday\, May 23rd – Monday\, May 26thWe’re offering deeply discounted door admission just for BSA Troops to enjoy some fun on wheels! \n🎯 Reservations are required!📞 Call us or use the QR code/link to sign up today! https://www.google.com/url?q=https://forms.gle/JuJJQKfhsFcHZ7E87&sa=D&source=calendar&usd=2&usg=AOvVaw2Zlhnn6mqHkkruyL9iIZw5👉 And don’t forget to spread the word to your troop! \nLet’s roll into summer with style and fun!
URL:https://www.unitedskates.com/skate-zone-71/event/bsa-skate-party-weekend/
LOCATION:Skate Zone 71\, 4900 Evanswood Ddr.\, Columbus\, OH\, 43229\, United States
CATEGORIES:Special Events
ATTACH;FMTTYPE=image/jpeg:https://unitedskates-assets.sfo3.digitaloceanspaces.com/wp-content/uploads/sites/7/2025/05/BSA-scout-Skate-Party-weekend-2025.jpg
END:VEVENT
BEGIN:VEVENT
DTSTART;TZID=America/New_York:20250525T130000
DTEND;TZID=America/New_York:20250525T153000
DTSTAMP:20260423T180541
CREATED:20250327T172934Z
LAST-MODIFIED:20250327T172934Z
UID:36643-1748178000-1748187000@www.unitedskates.com
SUMMARY:Stitch Skate
DESCRIPTION:Stitch Skate\nStop by this session for a FUN FILLED AFTERNOON! We’ll have a special visit from STITCH\, GAMES & MORE! Each Admission will earn a Raffle Ticket for an AMC Gift Card to go see the new movie!!\n1:00PM – 3:30PM\nPick from TWO Admission Options: \n\nSkate & Play $20 – includes Admission\, 20 Game Credits & 1 Game of Laser Tag\nSkate Fun $13 – Admission \n\n$6 Skate Rental Additional \nPURCHASE TICKETS HERE! \n⏰ Session Times: Begin and end at the posted start & end time—no stayovers allowed. \n🚨 Important Info: \n\nAll guests ages 3-17 must pay admission & skate rental (or bring their own skates).\nNon-skating adults may enter at no charge.\nOnline waiver required for all skaters entering the building. Click here to fill it out. Please have your signed waiver downloaded and ready to show at check-in to make the process quick and easy. Effective 10/11/2024\n\n💥 Group Rates available for parties of 15+—Click here for reservations\n🎉 Birthday Parties available—CLICK HERE\n💡 Looking for a fun group event to earn money?—Click here for more info
URL:https://www.unitedskates.com/skate-zone-71/event/stitch-skate/
LOCATION:Skate Zone 71\, 4900 Evanswood Ddr.\, Columbus\, OH\, 43229\, United States
CATEGORIES:Public Skates,Special Events
ATTACH;FMTTYPE=image/png:https://unitedskates-assets.sfo3.digitaloceanspaces.com/wp-content/uploads/sites/7/2025/03/5.25-Stitch-Disney-Skate-2025.png
END:VEVENT
BEGIN:VEVENT
DTSTART;TZID=America/New_York:20250525T200000
DTEND;TZID=America/New_York:20250526T000000
DTSTAMP:20260423T180541
CREATED:20250327T172532Z
LAST-MODIFIED:20250327T172532Z
UID:36640-1748203200-1748217600@www.unitedskates.com
SUMMARY:BBQ Giveaway - Memorial Weekend Adult Skate
DESCRIPTION:🔥BBQ Giveaway – Memorial Weekend Adult Skate🔥\nHIP-HOP / R&B \n8:00pm-12:00am\n\nAdmission: $13.00\nSkate Rental: $6.00\nAdditional Raffle Tickets: $2/Each\n\nAdult Skates 18+ ONLY with Valid Photo ID \nPURCHASE TICKETS HERE! \n⏰ Session Times: Begin and end at the posted start & end time—no stayovers allowed. \n🚨 Important Info: \n\nOnline waiver required for all skaters entering the building. Click here to fill it out. Please have your signed waiver downloaded and ready to show at check-in to make the process quick and easy. Effective 10/11/2024
URL:https://www.unitedskates.com/skate-zone-71/event/bbq-giveaway-memorial-weekend-adult-skate/
LOCATION:Skate Zone 71\, 4900 Evanswood Ddr.\, Columbus\, OH\, 43229\, United States
CATEGORIES:Adult Events,Special Events
ATTACH;FMTTYPE=image/png:https://unitedskates-assets.sfo3.digitaloceanspaces.com/wp-content/uploads/sites/7/2025/03/5.25-memorial-day-adult-skate-2024.png
END:VEVENT
END:VCALENDAR