BEGIN:VCALENDAR
VERSION:2.0
PRODID:-//Rink 2 - Skate Zone 71 - ECPv6.15.20//NONSGML v1.0//EN
CALSCALE:GREGORIAN
METHOD:PUBLISH
X-WR-CALNAME:Rink 2 - Skate Zone 71
X-ORIGINAL-URL:https://www.unitedskates.com/skate-zone-71
X-WR-CALDESC:Events for Rink 2 - Skate Zone 71
REFRESH-INTERVAL;VALUE=DURATION:PT1H
X-Robots-Tag:noindex
X-PUBLISHED-TTL:PT1H
BEGIN:VTIMEZONE
TZID:America/New_York
BEGIN:DAYLIGHT
TZOFFSETFROM:-0500
TZOFFSETTO:-0400
TZNAME:EDT
DTSTART:20240310T070000
END:DAYLIGHT
BEGIN:STANDARD
TZOFFSETFROM:-0400
TZOFFSETTO:-0500
TZNAME:EST
DTSTART:20241103T060000
END:STANDARD
BEGIN:DAYLIGHT
TZOFFSETFROM:-0500
TZOFFSETTO:-0400
TZNAME:EDT
DTSTART:20250309T070000
END:DAYLIGHT
BEGIN:STANDARD
TZOFFSETFROM:-0400
TZOFFSETTO:-0500
TZNAME:EST
DTSTART:20251102T060000
END:STANDARD
BEGIN:DAYLIGHT
TZOFFSETFROM:-0500
TZOFFSETTO:-0400
TZNAME:EDT
DTSTART:20260308T070000
END:DAYLIGHT
BEGIN:STANDARD
TZOFFSETFROM:-0400
TZOFFSETTO:-0500
TZNAME:EST
DTSTART:20261101T060000
END:STANDARD
END:VTIMEZONE
BEGIN:VEVENT
DTSTART;TZID=America/New_York:20250512T180000
DTEND;TZID=America/New_York:20250512T200000
DTSTAMP:20260423T180541
CREATED:20250120T170215Z
LAST-MODIFIED:20250120T170216Z
UID:34540-1747072800-1747080000@www.unitedskates.com
SUMMARY:Girl Scout Bridging Party!
DESCRIPTION:Monday May 12th\, 2025\n4:00-6:00pm\n2 Hour Private Ceremony for Girl Scouts! \nCalling all Daisies\, Brownies & Junior Girl Scouts – Celebrate the next step in your Girl Scouts’ journey as they bridge to their new level of scouting! Families\, and friends are all welcome to cheer on our scouts as they embrace this milestone!\nFun activities\, laughter\, and memorable moments await\, including: \n\n🌸 Games\n🍪 Goodies\n🎶 Skating\n🎈 Bridging Ceremony on our Skate Bridge!!\n\n$14 Admission includes Skate Rental with Gift Bag for each Scout! \nReservations Required – Click Here!
URL:https://www.unitedskates.com/skate-zone-71/event/girl-scout-bridging-party/
LOCATION:Skate Zone 71\, 4900 Evanswood Ddr.\, Columbus\, OH\, 43229\, United States
CATEGORIES:Girl Scout Event,Private Party Events,Special Events
ATTACH;FMTTYPE=image/png:https://unitedskates-assets.sfo3.digitaloceanspaces.com/wp-content/uploads/sites/7/2025/01/5.12-Bridging-Ceremony-skate-2025.png
END:VEVENT
END:VCALENDAR