BEGIN:VCALENDAR
VERSION:2.0
PRODID:-//Rink 2 - Skate Zone 71 - ECPv6.15.20//NONSGML v1.0//EN
CALSCALE:GREGORIAN
METHOD:PUBLISH
X-ORIGINAL-URL:https://www.unitedskates.com/skate-zone-71
X-WR-CALDESC:Events for Rink 2 - Skate Zone 71
REFRESH-INTERVAL;VALUE=DURATION:PT1H
X-Robots-Tag:noindex
X-PUBLISHED-TTL:PT1H
BEGIN:VTIMEZONE
TZID:America/New_York
BEGIN:DAYLIGHT
TZOFFSETFROM:-0500
TZOFFSETTO:-0400
TZNAME:EDT
DTSTART:20240310T070000
END:DAYLIGHT
BEGIN:STANDARD
TZOFFSETFROM:-0400
TZOFFSETTO:-0500
TZNAME:EST
DTSTART:20241103T060000
END:STANDARD
BEGIN:DAYLIGHT
TZOFFSETFROM:-0500
TZOFFSETTO:-0400
TZNAME:EDT
DTSTART:20250309T070000
END:DAYLIGHT
BEGIN:STANDARD
TZOFFSETFROM:-0400
TZOFFSETTO:-0500
TZNAME:EST
DTSTART:20251102T060000
END:STANDARD
BEGIN:DAYLIGHT
TZOFFSETFROM:-0500
TZOFFSETTO:-0400
TZNAME:EDT
DTSTART:20260308T070000
END:DAYLIGHT
BEGIN:STANDARD
TZOFFSETFROM:-0400
TZOFFSETTO:-0500
TZNAME:EST
DTSTART:20261101T060000
END:STANDARD
END:VTIMEZONE
BEGIN:VEVENT
DTSTART;VALUE=DATE:20250418
DTEND;VALUE=DATE:20250424
DTSTAMP:20260423T221851
CREATED:20250211T164530Z
LAST-MODIFIED:20250408T171501Z
UID:35837-1744952400-1745384399@www.unitedskates.com
SUMMARY:🌷Spring Break Skating🌷
DESCRIPTION:☀️Get ready to roll into fun this Spring Break!☀️\nWhether you’re a pro or just getting started\, grab your skates and join us for epic daytime and evening sessions!!\nCHECK OUT THE FULL SCHEDULE HERE!\nBIRTHDAY PARTIES AVAILABLE – CLICK HERE\n  \nALL CHILDREN AGES 3-17 MUST PAY ADMISSION & ROLLER SKATE RENTAL (OR BRING THEIR OWN SKATES)\nNON-SKATING ADULTS MAY ENTER AT NO CHARGE\nALL SKATING INDIVIDUALS (ADULTS & PARENTS OF CHILDREN SKATING) MUST FILL OUT THE SKATING WAIVER. SIGNED WAIVERS MUST BE SHOWN AT ADMISSIONS BEFORE ENTRY\, HAVE IT READY TO KEEP THE CHECK IN PROCESS SMOOTH!   EFFECTIVE 10/11/2024
URL:https://www.unitedskates.com/skate-zone-71/event/%f0%9f%8c%b7spring-break-skating%f0%9f%8c%b7/
LOCATION:Skate Zone 71\, 4900 Evanswood Ddr.\, Columbus\, OH\, 43229\, United States
CATEGORIES:Public Skates,Special Events
ATTACH;FMTTYPE=image/jpeg:https://unitedskates-assets.sfo3.digitaloceanspaces.com/wp-content/uploads/sites/7/2025/04/Spring-2nd-Break-2025-Calendar-Front-rink-2.jpg
END:VEVENT
BEGIN:VEVENT
DTSTART;TZID=America/New_York:20250421T133000
DTEND;TZID=America/New_York:20250421T160000
DTSTAMP:20260423T221851
CREATED:20250227T154349Z
LAST-MODIFIED:20250303T155904Z
UID:35959-1745242200-1745251200@www.unitedskates.com
SUMMARY:Mario & Friends Unlimited Game Skate
DESCRIPTION:Get ready to roll into spring break with the biggest\, brightest\, and most exciting party of the season! \nWe’ll have Mario\, Luigi and Yoshi stopping by for pics\, games and fun!! Select Arcade games will have Unlimited Game Play between 2pm – 3pm!\n1:30PM – 4:00PM\n$13 Admission\n$6 Skate Rental\nPURCHASE TICKETS HERE! \nTOP 40 POP\n⏰ Session Times: Begin and end at the posted start & end time—no stayovers allowed. \n💥 Daytime Group Rates available for parties of 10+—CLICK HERE FOR RESERVATIONS\n🎉 Birthday Parties available—CLICK HERE TO BOOK \n🚨 Important Info: \n\nAll guests ages 3-17 must pay admission & skate rental (or bring their own skates).\nNon-skating Adults may enter at no charge.\nOnline waiver required for all adults and children entering the building. Click HERE to fill it out. Please have your signed waiver ready to show at check-in to make the process quick and easy. Effective 10/11/2024
URL:https://www.unitedskates.com/skate-zone-71/event/mario-friends-unlimited-game-skate-3/
LOCATION:Skate Zone 71\, 4900 Evanswood Ddr.\, Columbus\, OH\, 43229\, United States
CATEGORIES:Public Skates,Special Events
ATTACH;FMTTYPE=image/png:https://unitedskates-assets.sfo3.digitaloceanspaces.com/wp-content/uploads/sites/7/2025/02/4.21-Mario-and-Friend-Skate-2025.png
END:VEVENT
BEGIN:VEVENT
DTSTART;TZID=America/New_York:20250421T180000
DTEND;TZID=America/New_York:20250421T203000
DTSTAMP:20260423T221851
CREATED:20250228T165915Z
LAST-MODIFIED:20250228T165915Z
UID:35962-1745258400-1745267400@www.unitedskates.com
SUMMARY:Mario & Friends Unlimited Game Skate
DESCRIPTION:Get ready to roll into spring break with the biggest\, brightest\, and most exciting party of the season!\nWe’ll have Mario\, Luigi and Yoshi stopping by for pics\, games and fun!! Select Arcade games will have Unlimited Game Play between 7pm – 8pm!\n6:00PM – 8:30PM\n$13 Admission\n$6 Skate Rental\nTOP 40 POP\nPURCHASE TICKETS HERE! \nBIRTHDAY PARTIES AVAILABLE – CLICK HERE\nALL CHILDREN AGES 3-17 MUST PAY ADMISSION & ROLLER SKATE RENTAL (OR BRING THEIR OWN SKATES)\nNON-SKATING ADULTS MAY ENTER AT NO CHARGE\nALL SKATING INDIVIDUALS (ADULTS & PARENTS OF CHILDREN SKATING) MUST FILL OUT THE SKATING WAIVER. SIGNED WAIVERS MUST BE SHOWN AT ADMISSIONS BEFORE ENTRY\, HAVE IT READY TO KEEP THE CHECK IN PROCESS SMOOTH!   EFFECTIVE 10/11/2024
URL:https://www.unitedskates.com/skate-zone-71/event/mario-friends-unlimited-game-skate-4/
LOCATION:Skate Zone 71\, 4900 Evanswood Ddr.\, Columbus\, OH\, 43229\, United States
CATEGORIES:Public Skates,Special Events
ATTACH;FMTTYPE=image/png:https://unitedskates-assets.sfo3.digitaloceanspaces.com/wp-content/uploads/sites/7/2025/02/4.21-Mario-and-Friend-Skate-2024-EVENING.png
END:VEVENT
END:VCALENDAR