BEGIN:VCALENDAR
VERSION:2.0
PRODID:-//Rink 2 - Skate Zone 71 - ECPv6.15.20//NONSGML v1.0//EN
CALSCALE:GREGORIAN
METHOD:PUBLISH
X-WR-CALNAME:Rink 2 - Skate Zone 71
X-ORIGINAL-URL:https://www.unitedskates.com/skate-zone-71
X-WR-CALDESC:Events for Rink 2 - Skate Zone 71
REFRESH-INTERVAL;VALUE=DURATION:PT1H
X-Robots-Tag:noindex
X-PUBLISHED-TTL:PT1H
BEGIN:VTIMEZONE
TZID:America/New_York
BEGIN:DAYLIGHT
TZOFFSETFROM:-0500
TZOFFSETTO:-0400
TZNAME:EDT
DTSTART:20240310T070000
END:DAYLIGHT
BEGIN:STANDARD
TZOFFSETFROM:-0400
TZOFFSETTO:-0500
TZNAME:EST
DTSTART:20241103T060000
END:STANDARD
BEGIN:DAYLIGHT
TZOFFSETFROM:-0500
TZOFFSETTO:-0400
TZNAME:EDT
DTSTART:20250309T070000
END:DAYLIGHT
BEGIN:STANDARD
TZOFFSETFROM:-0400
TZOFFSETTO:-0500
TZNAME:EST
DTSTART:20251102T060000
END:STANDARD
BEGIN:DAYLIGHT
TZOFFSETFROM:-0500
TZOFFSETTO:-0400
TZNAME:EDT
DTSTART:20260308T070000
END:DAYLIGHT
BEGIN:STANDARD
TZOFFSETFROM:-0400
TZOFFSETTO:-0500
TZNAME:EST
DTSTART:20261101T060000
END:STANDARD
END:VTIMEZONE
BEGIN:VEVENT
DTSTART;VALUE=DATE:20250418
DTEND;VALUE=DATE:20250424
DTSTAMP:20260423T222026
CREATED:20250211T164530Z
LAST-MODIFIED:20250408T171501Z
UID:35837-1744952400-1745384399@www.unitedskates.com
SUMMARY:🌷Spring Break Skating🌷
DESCRIPTION:☀️Get ready to roll into fun this Spring Break!☀️\nWhether you’re a pro or just getting started\, grab your skates and join us for epic daytime and evening sessions!!\nCHECK OUT THE FULL SCHEDULE HERE!\nBIRTHDAY PARTIES AVAILABLE – CLICK HERE\n  \nALL CHILDREN AGES 3-17 MUST PAY ADMISSION & ROLLER SKATE RENTAL (OR BRING THEIR OWN SKATES)\nNON-SKATING ADULTS MAY ENTER AT NO CHARGE\nALL SKATING INDIVIDUALS (ADULTS & PARENTS OF CHILDREN SKATING) MUST FILL OUT THE SKATING WAIVER. SIGNED WAIVERS MUST BE SHOWN AT ADMISSIONS BEFORE ENTRY\, HAVE IT READY TO KEEP THE CHECK IN PROCESS SMOOTH!   EFFECTIVE 10/11/2024
URL:https://www.unitedskates.com/skate-zone-71/event/%f0%9f%8c%b7spring-break-skating%f0%9f%8c%b7/
LOCATION:Skate Zone 71\, 4900 Evanswood Ddr.\, Columbus\, OH\, 43229\, United States
CATEGORIES:Public Skates,Special Events
ATTACH;FMTTYPE=image/jpeg:https://unitedskates-assets.sfo3.digitaloceanspaces.com/wp-content/uploads/sites/7/2025/04/Spring-2nd-Break-2025-Calendar-Front-rink-2.jpg
END:VEVENT
BEGIN:VEVENT
DTSTART;TZID=America/New_York:20250419T133000
DTEND;TZID=America/New_York:20250419T160000
DTSTAMP:20260423T222026
CREATED:20250227T200253Z
LAST-MODIFIED:20250328T142104Z
UID:35977-1745069400-1745078400@www.unitedskates.com
SUMMARY:Easter Bunny Skate
DESCRIPTION:EASTER BUNNY SKATE\nJoin us Easter Sunday for a fun session with special guests\, the Easter Bunny and our favorite dynamic duo!!\n1:30PM – 4:00PM\n\nAdmission: $13.00\nSkate Rental: $6.00\nSESSION TICKETS AVAILABLE HERE!\n\nTop 40 Pop & Disney Hits\n⏰ Session Times: Begin and end at the posted start & end time—no stayovers allowed. \n🚨 Important Info: \n\nAll guests ages 3-17 must pay admission & skate rental (or bring their own skates).\nNon-skating adults may enter at no charge.\nOnline waiver required for all adults and children entering the building. Click here to fill it out. Please have your signed waiver ready to show at check-in to make the process quick and easy. Effective 10/11/2024\n\n🎉 Birthday Parties available—CLICK HERE
URL:https://www.unitedskates.com/skate-zone-71/event/easter-bunny-skate-with-mickey-minnie/
LOCATION:Skate Zone 71\, 4900 Evanswood Ddr.\, Columbus\, OH\, 43229\, United States
CATEGORIES:Public Skates,Special Events
ATTACH;FMTTYPE=image/png:https://unitedskates-assets.sfo3.digitaloceanspaces.com/wp-content/uploads/sites/7/2025/02/4.19-Easter-Bunny-Skate-with-Mickey-Minnie-1.png
END:VEVENT
BEGIN:VEVENT
DTSTART;TZID=America/New_York:20250419T200000
DTEND;TZID=America/New_York:20250419T223000
DTSTAMP:20260423T222026
CREATED:20250225T180241Z
LAST-MODIFIED:20250303T164910Z
UID:35919-1745092800-1745101800@www.unitedskates.com
SUMMARY:Usher Tribute Skate
DESCRIPTION:USHER TRIBUTE SKATE\nSkate & Groove to the everlasting sounds of USHER!\nLet it Burn on the rink & show off those smooth moves! Don’t miss this EPIC night of skating\, music\, and vibes.\n8:00pm-10:30pm\n$13 Admission\n$6 Skate Rental \nPURCHASE TICKETS HERE! \n🚨 Important Info:🚨 \n\nAll guests ages 3-17 must pay admission & skate rental (or bring their own skates).\nChaperone Policy applies for this session – All guests under age 17 without their own skates\, MUST be Accompanied by a Chaperone age 25+ for the entire session.\nNon-skating adults may enter at no charge.\nOnline waiver required for all adults and children entering the building. Click here to fill it out. Please have your signed waiver ready to show at check-in to make the process quick and easy. Effective 10/11/2024
URL:https://www.unitedskates.com/skate-zone-71/event/usher-tribute-skate-2/
LOCATION:Skate Zone 71\, 4900 Evanswood Ddr.\, Columbus\, OH\, 43229\, United States
CATEGORIES:Public Skates,Special Events
ATTACH;FMTTYPE=image/png:https://unitedskates-assets.sfo3.digitaloceanspaces.com/wp-content/uploads/sites/7/2025/02/4.19-USHER-Tribute-2025.png
END:VEVENT
END:VCALENDAR