BEGIN:VCALENDAR
VERSION:2.0
PRODID:-//Rink 2 - Skate Zone 71 - ECPv6.15.20//NONSGML v1.0//EN
CALSCALE:GREGORIAN
METHOD:PUBLISH
X-ORIGINAL-URL:https://www.unitedskates.com/skate-zone-71
X-WR-CALDESC:Events for Rink 2 - Skate Zone 71
REFRESH-INTERVAL;VALUE=DURATION:PT1H
X-Robots-Tag:noindex
X-PUBLISHED-TTL:PT1H
BEGIN:VTIMEZONE
TZID:America/New_York
BEGIN:DAYLIGHT
TZOFFSETFROM:-0500
TZOFFSETTO:-0400
TZNAME:EDT
DTSTART:20240310T070000
END:DAYLIGHT
BEGIN:STANDARD
TZOFFSETFROM:-0400
TZOFFSETTO:-0500
TZNAME:EST
DTSTART:20241103T060000
END:STANDARD
BEGIN:DAYLIGHT
TZOFFSETFROM:-0500
TZOFFSETTO:-0400
TZNAME:EDT
DTSTART:20250309T070000
END:DAYLIGHT
BEGIN:STANDARD
TZOFFSETFROM:-0400
TZOFFSETTO:-0500
TZNAME:EST
DTSTART:20251102T060000
END:STANDARD
BEGIN:DAYLIGHT
TZOFFSETFROM:-0500
TZOFFSETTO:-0400
TZNAME:EDT
DTSTART:20260308T070000
END:DAYLIGHT
BEGIN:STANDARD
TZOFFSETFROM:-0400
TZOFFSETTO:-0500
TZNAME:EST
DTSTART:20261101T060000
END:STANDARD
END:VTIMEZONE
BEGIN:VEVENT
DTSTART;VALUE=DATE:20250301
DTEND;VALUE=DATE:20250402
DTSTAMP:20260424T040114
CREATED:20250219T152456Z
LAST-MODIFIED:20250219T175427Z
UID:35890-1740805200-1743483599@www.unitedskates.com
SUMMARY:🏅SPORTS TEAM APPRECIATION MONTH🏅
DESCRIPTION:Skate Zone 71 is the perfect place to celebrate your TEAM and during what better time than March Madness!\nBring your whole group\, team\, organization\, studio and skate to the best music\, play games in the arcade\, or go crazy with games of Laser Tag available all session!\nPackage Options\n\nPackage 1: $18/Person includes Admission\, Skate Rental\, One Slice Cheese Pizza & Small Drink with 20 Game Credits\nPackage 2: $12/Person includes Admission & Skate Rental\nFundraising: $15/Person includes Admission & Skate Rental (Inc. $4 Rebate with 20+ Guests)\n\nMAKE YOUR RESERVATION HERE OR CALL 614-846-5626 FOR MORE INFO!\n🚨 Important Info:\n\nReservations must be made in advance\, pending confirmation by office staff. (Please Note: Last Minute Reservations for Saturday/Sunday MUST Be Made No Later Than Friday @2pm)\nOptions are available during Public Sessions\, seating provided to accommodate group.\nMin 20 Guests to earn Rebate with Fundraiser Rate.\nAll Guests Ages 3-17 Must Pay Admission & Skate Rental.\nNon-Skating Adults May Enter at No Charge & Do Not Count Towards Group/Fundraising Numbers.\nNo Outside Food or Beverage\nOnline waiver required for all adults and children entering the building. Click here to fill it out. Please have your signed waiver downloaded and ready to show at check-in to make the process quick and easy. Effective 10/11/2024\n\n🎉 Birthday Parties available—CLICK HERE
URL:https://www.unitedskates.com/skate-zone-71/event/%f0%9f%8f%85sports-team-appreciation-month%f0%9f%8f%85/
LOCATION:Skate Zone 71\, 4900 Evanswood Ddr.\, Columbus\, OH\, 43229\, United States
CATEGORIES:Public Skates,Special Events
ATTACH;FMTTYPE=image/jpeg:https://unitedskates-assets.sfo3.digitaloceanspaces.com/wp-content/uploads/sites/7/2025/02/March-Madness-Sports-Team-2025.jpg
END:VEVENT
BEGIN:VEVENT
DTSTART;TZID=America/New_York:20250331T180000
DTEND;TZID=America/New_York:20250331T200000
DTSTAMP:20260424T040114
CREATED:20250307T150622Z
LAST-MODIFIED:20250307T152420Z
UID:36075-1743444000-1743451200@www.unitedskates.com
SUMMARY:Tik Tok Glow Skate
DESCRIPTION:🛼 Skate into the spotlight with TikTok! 🛼\n Whether you’re pulling off smooth moves\, rocking retro vibes\, or just cruising with style—TikTok is where your skating journey takes off!\n🎵 Sync your best tricks to trending sounds\, show off your wheels\, and join the ultimate skate community!🎵\n📲 Film. This is the Perfect Session to show your moves 🎬\n👉Post. Post a Video while here and get a FREE Slice of Pizza🍕\n🔥Go viral. Best Tik Tok WINS a FREE Family Four Pack🏆\n\n6PM – 8PM\n\nAdmission: $8.00\nSkate Rental: $6.00\n\nPURCHASE TICKETS HERE!\n⏰ Session Times: Begin and end at the posted start & end time—no stayovers allowed. \n🚨 Important Info: \n\nAll guests ages 3-17 must pay admission & skate rental (or bring their own skates).\nNon-skating adults may enter at no charge.\nOnline waiver required for all adults and children entering the building. Click here to fill it out. Please have your signed waiver ready to show at check-in to make the process quick and easy. Effective 10/11/2024\n\n\n\n\nFamily 4 Pack Certificate includes:\nAdmission & Skate Rental for 4 individuals\nOne Large Cheese Pizza/Soda Pitcher Combo\n20 Free Game Credits loaded onto Game Card
URL:https://www.unitedskates.com/skate-zone-71/event/tik-tok-glow-skate/
LOCATION:Skate Zone 71\, 4900 Evanswood Ddr.\, Columbus\, OH\, 43229\, United States
CATEGORIES:Public Skates,Special Events
ATTACH;FMTTYPE=image/jpeg:https://unitedskates-assets.sfo3.digitaloceanspaces.com/wp-content/uploads/sites/7/2025/03/3.31-tik-tok-glow-skate.jpg
END:VEVENT
END:VCALENDAR