BEGIN:VCALENDAR
VERSION:2.0
PRODID:-//Rink 2 - Skate Zone 71 - ECPv6.15.20//NONSGML v1.0//EN
CALSCALE:GREGORIAN
METHOD:PUBLISH
X-WR-CALNAME:Rink 2 - Skate Zone 71
X-ORIGINAL-URL:https://www.unitedskates.com/skate-zone-71
X-WR-CALDESC:Events for Rink 2 - Skate Zone 71
REFRESH-INTERVAL;VALUE=DURATION:PT1H
X-Robots-Tag:noindex
X-PUBLISHED-TTL:PT1H
BEGIN:VTIMEZONE
TZID:America/New_York
BEGIN:DAYLIGHT
TZOFFSETFROM:-0500
TZOFFSETTO:-0400
TZNAME:EDT
DTSTART:20240310T070000
END:DAYLIGHT
BEGIN:STANDARD
TZOFFSETFROM:-0400
TZOFFSETTO:-0500
TZNAME:EST
DTSTART:20241103T060000
END:STANDARD
BEGIN:DAYLIGHT
TZOFFSETFROM:-0500
TZOFFSETTO:-0400
TZNAME:EDT
DTSTART:20250309T070000
END:DAYLIGHT
BEGIN:STANDARD
TZOFFSETFROM:-0400
TZOFFSETTO:-0500
TZNAME:EST
DTSTART:20251102T060000
END:STANDARD
BEGIN:DAYLIGHT
TZOFFSETFROM:-0500
TZOFFSETTO:-0400
TZNAME:EDT
DTSTART:20260308T070000
END:DAYLIGHT
BEGIN:STANDARD
TZOFFSETFROM:-0400
TZOFFSETTO:-0500
TZNAME:EST
DTSTART:20261101T060000
END:STANDARD
END:VTIMEZONE
BEGIN:VEVENT
DTSTART;VALUE=DATE:20250214
DTEND;VALUE=DATE:20250219
DTSTAMP:20260424T110220
CREATED:20241227T190202Z
LAST-MODIFIED:20250123T132016Z
UID:34286-1739509200-1739854799@www.unitedskates.com
SUMMARY:Presidents' Weekend Skating
DESCRIPTION:School’s Out! Let’s Skate This Presidents’ Day Weekend!\nLooking for an exciting way to spend the long weekend? Join us at Skate Zone 71 for a fun-filled Presidents’ Day Weekend! With themed skating events\, glow parties\, and activities for all ages\, there’s no better way to enjoy the holiday weekend. Bring your family and friends for an unforgettable time! \nWeekend Event Highlights: \n\nFriday\, February 14: Valentine’s Day Fun!\n\nGrinch Steals Valentine’s Skate Party: 6:30 PM – 9:00 PM ($13 Admission).\nStop Light Adult Skate (18+): 10:00 PM – 12:00 AM ($13 Admission).\n\n\nSaturday\, February 15: Learn and Roll!\n\nLearn to Roll Public Skating: 11:00 AM – 1:00 PM ($13 Admission).\nPublic Skate Sessions:\n\n1:30 PM – 4:00 PM\, 5:00 PM – 7:30 PM\, and 8:00 PM – 10:30 PM ($13 Admission per session).\n\n\n\n\nSunday\, February 16: Superhero Fun!\n\nMystery Superhero Skate Party: 1:00 PM – 3:30 PM ($13 Admission).\nPublic Skate Sessions:\n\n4:00 PM – 7:00 PM and 8:00 PM – 12:00 AM ($13 Admission per session).\n\n\n\n\nMonday\, February 17: Presidents’ Day Excitement!\n\nPresidents’ Day Public Skating: 10:00 AM – 2:30 PM ($13 Admission).\n\nHalf-priced admission before 12:00 PM!\n\n\nUnlimited Game Play Skate: 3:00 PM – 5:30 PM ($13 Admission).\n\nIncludes unlimited arcade games from 3:00 PM – 4:30 PM!\n\n\nNight Glow Carnival: 6:00 PM – 8:30 PM ($20 Fun Package Admission).\n\nIncludes skate rental\, carnival tickets\, and glow fun!\n\n\n\n\n\nAffordable Fun for Everyone: \n\nSkate Rentals: $6.00 (unless otherwise noted in admission).\nAdult skates are for ages 18+.\n\n📍 Visit us at 4900 Evanswood Dr.\, Columbus\, OH 43229.\n📞 Call 614-846-5626 or visit www.SkateZone71.com for more details. \nJoin us for an unforgettable Presidents’ Day Weekend full of skating\, games\, and family-friendly fun. See you on the rink! \n\nWe’ve got big things planned over Presidents’ Day Weekend\, stop in on your day off or for an evening away with Family & Friends!\nCHECK OUT THE FULL SCHEDULE HERE!\nBIRTHDAY PARTIES AVAILABLE – CLICK HERE\n  \nALL CHILDREN AGES 3-17 MUST PAY ADMISSION & ROLLER SKATE RENTAL (OR BRING THEIR OWN SKATES)\nNON-SKATING ADULTS MAY ENTER AT NO CHARGE\nALL SKATING INDIVIDUALS (ADULTS & PARENTS OF CHILDREN SKATING) MUST FILL OUT THE SKATING WAIVER. SIGNED WAIVERS MUST BE SHOWN AT ADMISSIONS BEFORE ENTRY\, HAVE IT READY TO KEEP THE CHECK IN PROCESS SMOOTH!   EFFECTIVE 10/11/2024
URL:https://www.unitedskates.com/skate-zone-71/event/presidents-weekend-skating-2/
LOCATION:Skate Zone 71\, 4900 Evanswood Ddr.\, Columbus\, OH\, 43229\, United States
CATEGORIES:Public Skates,Special Events
ATTACH;FMTTYPE=image/jpeg:https://unitedskates-assets.sfo3.digitaloceanspaces.com/wp-content/uploads/sites/7/2024/12/Pres-day-weekend-2025-calendar-Front-rink-2.jpg
END:VEVENT
BEGIN:VEVENT
DTSTART;TZID=America/New_York:20250214T183000
DTEND;TZID=America/New_York:20250214T210000
DTSTAMP:20260424T110220
CREATED:20241227T193919Z
LAST-MODIFIED:20241227T193919Z
UID:34294-1739557800-1739566800@www.unitedskates.com
SUMMARY:Grinch Steals Valentine's Skate
DESCRIPTION:Join Us for the Grinch Steals Valentine’s Skate Party!\nCome Meet the Grinch as he tries to steal another holiday! Skate to the Best Music & Have a Blast all Session that includes an Un-Romantic Dinner! \n6:30PM – 9:00PM\n$16 Admission includes Skate Rental\, Slice Cheese Pizza & Small Soft Drink with Green Cotton Candy Bag \nTOP 40 POP\nPURCHASE TICKETS HERE! \nBIRTHDAY PARTIES AVAILABLE – CLICK HERE\nALL CHILDREN AGES 3-17 MUST PAY ADMISSION & ROLLER SKATE RENTAL (OR BRING THEIR OWN SKATES)\nNON-SKATING ADULTS MAY ENTER AT NO CHARGE\nALL SKATING INDIVIDUALS (ADULTS & PARENTS OF CHILDREN SKATING) MUST FILL OUT THE SKATING WAIVER. SIGNED WAIVERS MUST BE SHOWN AT ADMISSIONS BEFORE ENTRY\, HAVE IT READY TO KEEP THE CHECK IN PROCESS SMOOTH!   EFFECTIVE 10/11/2024
URL:https://www.unitedskates.com/skate-zone-71/event/grinch-steals-valentines-skate/
LOCATION:Skate Zone 71\, 4900 Evanswood Ddr.\, Columbus\, OH\, 43229\, United States
CATEGORIES:Public Skates,Special Events
ATTACH;FMTTYPE=image/png:https://unitedskates-assets.sfo3.digitaloceanspaces.com/wp-content/uploads/sites/7/2024/12/2.14-grinch-steals-valentines-day-2025.png
END:VEVENT
BEGIN:VEVENT
DTSTART;TZID=America/New_York:20250214T213000
DTEND;TZID=America/New_York:20250215T000000
DTSTAMP:20260424T110220
CREATED:20241227T185923Z
LAST-MODIFIED:20250108T181318Z
UID:34283-1739568600-1739577600@www.unitedskates.com
SUMMARY:Stop Light Adult Skate
DESCRIPTION:🩷Skate Zone 71 does Valentine’s Day!!🩷\nGroove to live DJ beats\, enjoy exciting laser & arcade games\, and vibe with an electric crowd! Whether you’re skating solo or with your squad\, this is the place to be.\n❤️ Red: Taken — here for the fun!\n💛 Yellow: Open — let’s chat.\n💚 Green: Single and ready to mingle!\n9:30PM – 12:00AM\n\n$13 Admission\n$6 Skate Rental\n\nPURCHASE TICKETS HERE!\nTOP R&B & HIP-HOP\nSTOP LIGHT SKATES ARE FOR 21+ ONLY WITH VALID PHOTO ID CHECK AT DOOR\nALL SKATING INDIVIDUALS MUST FILL OUT THE SKATING WAIVER. SIGNED WAIVERS MUST BE SHOWN AT ADMISSIONS BEFORE ENTRY\, HAVE IT READY TO KEEP THE CHECK IN PROCESS SMOOTH!   EFFECTIVE 10/11/2024
URL:https://www.unitedskates.com/skate-zone-71/event/stop-light-adult-skate/
LOCATION:Skate Zone 71\, 4900 Evanswood Ddr.\, Columbus\, OH\, 43229\, United States
CATEGORIES:Adult Events,Special Events
ATTACH;FMTTYPE=image/jpeg:https://unitedskates-assets.sfo3.digitaloceanspaces.com/wp-content/uploads/sites/7/2024/12/2.14-STOP-Light-Skate.jpg
END:VEVENT
END:VCALENDAR