BEGIN:VCALENDAR
VERSION:2.0
PRODID:-//Rink 2 - Skate Zone 71 - ECPv6.15.20//NONSGML v1.0//EN
CALSCALE:GREGORIAN
METHOD:PUBLISH
X-ORIGINAL-URL:https://www.unitedskates.com/skate-zone-71
X-WR-CALDESC:Events for Rink 2 - Skate Zone 71
REFRESH-INTERVAL;VALUE=DURATION:PT1H
X-Robots-Tag:noindex
X-PUBLISHED-TTL:PT1H
BEGIN:VTIMEZONE
TZID:America/New_York
BEGIN:DAYLIGHT
TZOFFSETFROM:-0500
TZOFFSETTO:-0400
TZNAME:EDT
DTSTART:20240310T070000
END:DAYLIGHT
BEGIN:STANDARD
TZOFFSETFROM:-0400
TZOFFSETTO:-0500
TZNAME:EST
DTSTART:20241103T060000
END:STANDARD
BEGIN:DAYLIGHT
TZOFFSETFROM:-0500
TZOFFSETTO:-0400
TZNAME:EDT
DTSTART:20250309T070000
END:DAYLIGHT
BEGIN:STANDARD
TZOFFSETFROM:-0400
TZOFFSETTO:-0500
TZNAME:EST
DTSTART:20251102T060000
END:STANDARD
BEGIN:DAYLIGHT
TZOFFSETFROM:-0500
TZOFFSETTO:-0400
TZNAME:EDT
DTSTART:20260308T070000
END:DAYLIGHT
BEGIN:STANDARD
TZOFFSETFROM:-0400
TZOFFSETTO:-0500
TZNAME:EST
DTSTART:20261101T060000
END:STANDARD
END:VTIMEZONE
BEGIN:VEVENT
DTSTART;TZID=America/New_York:20250207T133000
DTEND;TZID=America/New_York:20250207T160000
DTSTAMP:20260424T051745
CREATED:20250115T190117Z
LAST-MODIFIED:20250128T151936Z
UID:34405-1738935000-1738944000@www.unitedskates.com
SUMMARY:Home School Skate
DESCRIPTION:Home School Skate\nWe’ve got a special session to bring you this Month! We will have a raffle for TWO Birthday Parties at the end of the session to two lucky guests!!\nEach Admission earns a raffle ticket\, winners must be present to claim.\nFebruary 7th\n1:30PM – 4PM\n$10 Admission includes Skate Rental \n\nAll Ages Welcome\nSession Times Begin and End at posted times – *NO STAYOVERS\n\nPURCHASE TICKETS HERE! \n*All Groups Welcome – No Reservation Needed*\nAll adults and children who enter the building need to fill out our online waiver which can be found by clicking this link. You will have to show the signed waiver to the admission associate so please have it ready to make check in as quick as possible.   Effective 10/11/2024
URL:https://www.unitedskates.com/skate-zone-71/event/home-school-skate-4/
LOCATION:Skate Zone 71\, 4900 Evanswood Ddr.\, Columbus\, OH\, 43229\, United States
CATEGORIES:Public Skates,Special Events
ATTACH;FMTTYPE=image/png:https://unitedskates-assets.sfo3.digitaloceanspaces.com/wp-content/uploads/sites/7/2025/01/2.7-home-school-skate-2025-1.png
END:VEVENT
BEGIN:VEVENT
DTSTART;TZID=America/New_York:20250207T183000
DTEND;TZID=America/New_York:20250207T210000
DTSTAMP:20260424T051745
CREATED:20250128T161139Z
LAST-MODIFIED:20250128T161139Z
UID:35699-1738953000-1738962000@www.unitedskates.com
SUMMARY:80s VS 90s Glow Skate
DESCRIPTION:80s VS 90s Glow Skate\nRep your decade and join the fun! We’ll have the best of the 80s and 90s battling it out all session long!\n6:30PM – 9:00PM\n\nAdmission: $13.00\nSkate Rental: $6.00\nPURCHASE TICKETS HERE!\n\n⏰ Session Times: Begin and end at the posted start & end time—no stayovers allowed. \n🚨 Important Info: \n\nAll guests ages 3-17 must pay admission & skate rental (or bring their own skates).\nNon-skating adults may enter at no charge.\nOnline waiver required for all adults and children entering the building. Click here to fill it out. Please have your signed waiver ready to show at check-in to make the process quick and easy. Effective 10/11/2024\n\n💥 Group Rates available for parties of 15+—Click here for reservations\n🎉 Birthday Parties available—CLICK HERE\n💡 Looking for a fun group event to earn money?—Click here for more info
URL:https://www.unitedskates.com/skate-zone-71/event/80s-vs-90s-glow-skate/
LOCATION:Skate Zone 71\, 4900 Evanswood Ddr.\, Columbus\, OH\, 43229\, United States
CATEGORIES:Public Skates,Special Events
ATTACH;FMTTYPE=image/png:https://unitedskates-assets.sfo3.digitaloceanspaces.com/wp-content/uploads/sites/7/2025/01/2.7-80s-90s-Skate.png
END:VEVENT
END:VCALENDAR