BEGIN:VCALENDAR
VERSION:2.0
PRODID:-//Rink 2 - Skate Zone 71 - ECPv6.15.20//NONSGML v1.0//EN
CALSCALE:GREGORIAN
METHOD:PUBLISH
X-WR-CALNAME:Rink 2 - Skate Zone 71
X-ORIGINAL-URL:https://www.unitedskates.com/skate-zone-71
X-WR-CALDESC:Events for Rink 2 - Skate Zone 71
REFRESH-INTERVAL;VALUE=DURATION:PT1H
X-Robots-Tag:noindex
X-PUBLISHED-TTL:PT1H
BEGIN:VTIMEZONE
TZID:America/New_York
BEGIN:DAYLIGHT
TZOFFSETFROM:-0500
TZOFFSETTO:-0400
TZNAME:EDT
DTSTART:20240310T070000
END:DAYLIGHT
BEGIN:STANDARD
TZOFFSETFROM:-0400
TZOFFSETTO:-0500
TZNAME:EST
DTSTART:20241103T060000
END:STANDARD
BEGIN:DAYLIGHT
TZOFFSETFROM:-0500
TZOFFSETTO:-0400
TZNAME:EDT
DTSTART:20250309T070000
END:DAYLIGHT
BEGIN:STANDARD
TZOFFSETFROM:-0400
TZOFFSETTO:-0500
TZNAME:EST
DTSTART:20251102T060000
END:STANDARD
BEGIN:DAYLIGHT
TZOFFSETFROM:-0500
TZOFFSETTO:-0400
TZNAME:EDT
DTSTART:20260308T070000
END:DAYLIGHT
BEGIN:STANDARD
TZOFFSETFROM:-0400
TZOFFSETTO:-0500
TZNAME:EST
DTSTART:20261101T060000
END:STANDARD
END:VTIMEZONE
BEGIN:VEVENT
DTSTART;VALUE=DATE:20250117
DTEND;VALUE=DATE:20250122
DTSTAMP:20260424T063623
CREATED:20241127T173348Z
LAST-MODIFIED:20241127T173348Z
UID:33877-1737090000-1737435599@www.unitedskates.com
SUMMARY:Dr. MLK Jr. Weekend!
DESCRIPTION:We’ve got big things planned over Dr. MLK Jr. Weekend\, stop in on your day off or for an evening away with Family & Friends!\nCHECK OUT THE FULL SCHEDULE HERE!\nBIRTHDAY PARTIES AVAILABLE – CLICK HERE\n  \nALL CHILDREN AGES 3-17 MUST PAY ADMISSION & ROLLER SKATE RENTAL (OR BRING THEIR OWN SKATES)\nNON-SKATING ADULTS MAY ENTER AT NO CHARGE\nALL SKATING INDIVIDUALS (ADULTS & PARENTS OF CHILDREN SKATING) MUST FILL OUT THE SKATING WAIVER. SIGNED WAIVERS MUST BE SHOWN AT ADMISSIONS BEFORE ENTRY\, HAVE IT READY TO KEEP THE CHECK IN PROCESS SMOOTH!   EFFECTIVE 10/11/2024
URL:https://www.unitedskates.com/skate-zone-71/event/dr-mlk-jr-weekend/
LOCATION:Skate Zone 71\, 4900 Evanswood Ddr.\, Columbus\, OH\, 43229\, United States
CATEGORIES:Special Events
ATTACH;FMTTYPE=image/jpeg:https://unitedskates-assets.sfo3.digitaloceanspaces.com/wp-content/uploads/sites/7/2024/11/MLK-weekend-break-2025-calendar-Front-rink2.jpg
END:VEVENT
BEGIN:VEVENT
DTSTART;TZID=America/New_York:20250120T100000
DTEND;TZID=America/New_York:20250120T143000
DTSTAMP:20260424T063623
CREATED:20241127T192349Z
LAST-MODIFIED:20241211T175023Z
UID:33901-1737367200-1737383400@www.unitedskates.com
SUMMARY:Early Bird Skate w/ Mario
DESCRIPTION:We’ve got big things planned over Dr. MLK Jr. Weekend\, stop in on your day off or for an evening away with Family & Friends!\nPURCHASE TICKETS HERE!\nCHECK OUT THE FULL SCHEDULE HERE!\nBIRTHDAY PARTIES AVAILABLE – CLICK HERE\n  \nALL CHILDREN AGES 3-17 MUST PAY ADMISSION & ROLLER SKATE RENTAL (OR BRING THEIR OWN SKATES)\nNON-SKATING ADULTS MAY ENTER AT NO CHARGE\nALL SKATING INDIVIDUALS (ADULTS & PARENTS OF CHILDREN SKATING) MUST FILL OUT THE SKATING WAIVER. SIGNED WAIVERS MUST BE SHOWN AT ADMISSIONS BEFORE ENTRY\, HAVE IT READY TO KEEP THE CHECK IN PROCESS SMOOTH!   EFFECTIVE 10/11/2024
URL:https://www.unitedskates.com/skate-zone-71/event/early-bird-skate-w-mario/
LOCATION:Skate Zone 71\, 4900 Evanswood Ddr.\, Columbus\, OH\, 43229\, United States
CATEGORIES:Public Skates,Special Events
ATTACH;FMTTYPE=image/png:https://unitedskates-assets.sfo3.digitaloceanspaces.com/wp-content/uploads/sites/7/2024/11/1.20-mlk-day-singleday-2025.png
END:VEVENT
BEGIN:VEVENT
DTSTART;TZID=America/New_York:20250120T150000
DTEND;TZID=America/New_York:20250120T173000
DTSTAMP:20260424T063623
CREATED:20241127T192529Z
LAST-MODIFIED:20241211T175149Z
UID:33903-1737385200-1737394200@www.unitedskates.com
SUMMARY:Game Day Skate with Mario
DESCRIPTION:We’ve got big things planned over Dr. MLK Jr. Weekend\, stop in on your day off or for an evening away with Family & Friends!\nPURCHASE TICKETS HERE!\nCHECK OUT THE FULL SCHEDULE HERE!\nBIRTHDAY PARTIES AVAILABLE – CLICK HERE\n  \nALL CHILDREN AGES 3-17 MUST PAY ADMISSION & ROLLER SKATE RENTAL (OR BRING THEIR OWN SKATES)\nNON-SKATING ADULTS MAY ENTER AT NO CHARGE\nALL SKATING INDIVIDUALS (ADULTS & PARENTS OF CHILDREN SKATING) MUST FILL OUT THE SKATING WAIVER. SIGNED WAIVERS MUST BE SHOWN AT ADMISSIONS BEFORE ENTRY\, HAVE IT READY TO KEEP THE CHECK IN PROCESS SMOOTH!   EFFECTIVE 10/11/2024
URL:https://www.unitedskates.com/skate-zone-71/event/game-day-skate-with-mario/
LOCATION:Skate Zone 71\, 4900 Evanswood Ddr.\, Columbus\, OH\, 43229\, United States
CATEGORIES:Public Skates,Special Events
ATTACH;FMTTYPE=image/png:https://unitedskates-assets.sfo3.digitaloceanspaces.com/wp-content/uploads/sites/7/2024/11/1.20-mlk-day-singleday-2025.png
END:VEVENT
BEGIN:VEVENT
DTSTART;TZID=America/New_York:20250120T180000
DTEND;TZID=America/New_York:20250120T203000
DTSTAMP:20260424T063623
CREATED:20241127T192822Z
LAST-MODIFIED:20241211T180551Z
UID:33953-1737396000-1737405000@www.unitedskates.com
SUMMARY:CF Championship Game Dinner Skate
DESCRIPTION:We’ve got big things planned over Dr. MLK Jr. Weekend\, stop in on your day off or for an evening away with Family & Friends!\nPURCHASE TICKETS HERE!\nCHECK OUT THE FULL SCHEDULE HERE!\nBIRTHDAY PARTIES AVAILABLE – CLICK HERE\n  \nALL CHILDREN AGES 3-17 MUST PAY ADMISSION & ROLLER SKATE RENTAL (OR BRING THEIR OWN SKATES)\nNON-SKATING ADULTS MAY ENTER AT NO CHARGE\nALL SKATING INDIVIDUALS (ADULTS & PARENTS OF CHILDREN SKATING) MUST FILL OUT THE SKATING WAIVER. SIGNED WAIVERS MUST BE SHOWN AT ADMISSIONS BEFORE ENTRY\, HAVE IT READY TO KEEP THE CHECK IN PROCESS SMOOTH!   EFFECTIVE 10/11/2024
URL:https://www.unitedskates.com/skate-zone-71/event/cf-championship-game-dinner-skate/
LOCATION:Skate Zone 71\, 4900 Evanswood Ddr.\, Columbus\, OH\, 43229\, United States
CATEGORIES:Public Skates,Special Events
ATTACH;FMTTYPE=image/png:https://unitedskates-assets.sfo3.digitaloceanspaces.com/wp-content/uploads/sites/7/2024/11/1.20-mlk-day-singleday-2025.png
END:VEVENT
END:VCALENDAR