BEGIN:VCALENDAR
VERSION:2.0
PRODID:-//Rink 2 - Skate Zone 71 - ECPv6.15.20//NONSGML v1.0//EN
CALSCALE:GREGORIAN
METHOD:PUBLISH
X-ORIGINAL-URL:https://www.unitedskates.com/skate-zone-71
X-WR-CALDESC:Events for Rink 2 - Skate Zone 71
REFRESH-INTERVAL;VALUE=DURATION:PT1H
X-Robots-Tag:noindex
X-PUBLISHED-TTL:PT1H
BEGIN:VTIMEZONE
TZID:America/New_York
BEGIN:DAYLIGHT
TZOFFSETFROM:-0500
TZOFFSETTO:-0400
TZNAME:EDT
DTSTART:20240310T070000
END:DAYLIGHT
BEGIN:STANDARD
TZOFFSETFROM:-0400
TZOFFSETTO:-0500
TZNAME:EST
DTSTART:20241103T060000
END:STANDARD
BEGIN:DAYLIGHT
TZOFFSETFROM:-0500
TZOFFSETTO:-0400
TZNAME:EDT
DTSTART:20250309T070000
END:DAYLIGHT
BEGIN:STANDARD
TZOFFSETFROM:-0400
TZOFFSETTO:-0500
TZNAME:EST
DTSTART:20251102T060000
END:STANDARD
BEGIN:DAYLIGHT
TZOFFSETFROM:-0500
TZOFFSETTO:-0400
TZNAME:EDT
DTSTART:20260308T070000
END:DAYLIGHT
BEGIN:STANDARD
TZOFFSETFROM:-0400
TZOFFSETTO:-0500
TZNAME:EST
DTSTART:20261101T060000
END:STANDARD
END:VTIMEZONE
BEGIN:VEVENT
DTSTART;TZID=America/New_York:20250109T180000
DTEND;TZID=America/New_York:20250109T203000
DTSTAMP:20260424T113543
CREATED:20241220T194728Z
LAST-MODIFIED:20241223T184244Z
UID:34194-1736445600-1736454600@www.unitedskates.com
SUMMARY:Customer Appreciation Skate Night
DESCRIPTION:Join us at Skate Zone 71 on January 9th to celebrate our community with the best tunes\, skating\, games & MORE!\nWe’ll be pulling Raffle Winners all night for future Free Admissions Passes & Arcade Game Cards!\n(raffle winners must be present to claim) \n6:00PM – 8:30PM\n\n$5 Admission\n$6 Skate Rental\n\nPURCHASE TICKETS HERE SOON!\nFAMILY TOP 40\, POP \, R&B & HIP-HOP\nALL CHILDREN AGES 3-17 MUST PAY ADMISSION & ROLLER SKATE RENTAL (OR BRING THEIR OWN SKATES)\nNON-SKATING ADULTS MAY ENTER AT NO CHARGE\nALL SKATING INDIVIDUALS (ADULTS & PARENTS OF CHILDREN SKATING) MUST FILL OUT THE SKATING WAIVER. SIGNED WAIVERS MUST BE SHOWN AT ADMISSIONS BEFORE ENTRY\, HAVE IT READY TO KEEP THE CHECK IN PROCESS SMOOTH!   EFFECTIVE 10/11/2024
URL:https://www.unitedskates.com/skate-zone-71/event/customer-appreciation-skate-night/
LOCATION:Skate Zone 71\, 4900 Evanswood Ddr.\, Columbus\, OH\, 43229\, United States
CATEGORIES:Public Skates,Special Events
ATTACH;FMTTYPE=image/png:https://unitedskates-assets.sfo3.digitaloceanspaces.com/wp-content/uploads/sites/7/2024/12/1.9-Customer-Appreciation-Night.png
END:VEVENT
BEGIN:VEVENT
DTSTART;TZID=America/New_York:20250109T210000
DTEND;TZID=America/New_York:20250110T000000
DTSTAMP:20260424T113543
CREATED:20241224T164715Z
LAST-MODIFIED:20241226T181820Z
UID:34213-1736456400-1736467200@www.unitedskates.com
SUMMARY:Customer Appreciation Adult Skate
DESCRIPTION:Join us at Skate Zone 71 on January 9th to celebrate our community with the best tunes\, skating\, games & MORE!\nWe’ll be pulling Raffle Winners all night including a Grand Prize of 25 Free Adult Night Skate Admissions!\n(raffle winners must be present to claim) \n9:00PM – 12:00AM\n\n$13 Admission\n$6 Skate Rental\n\nPURCHASE TICKETS HERE!\nTOP R&B & HIP-HOP\nADULT SKATES ARE FOR 18+ ONLY WITH VALID PHOTO ID CHECK AT DOOR\nALL SKATING INDIVIDUALS (ADULTS & PARENTS OF CHILDREN SKATING) MUST FILL OUT THE SKATING WAIVER. SIGNED WAIVERS MUST BE SHOWN AT ADMISSIONS BEFORE ENTRY\, HAVE IT READY TO KEEP THE CHECK IN PROCESS SMOOTH!   EFFECTIVE 10/11/2024
URL:https://www.unitedskates.com/skate-zone-71/event/customer-appreciation-adult-skate/
LOCATION:Skate Zone 71\, 4900 Evanswood Ddr.\, Columbus\, OH\, 43229\, United States
CATEGORIES:Adult Events,Special Events
ATTACH;FMTTYPE=image/jpeg:https://unitedskates-assets.sfo3.digitaloceanspaces.com/wp-content/uploads/sites/7/2024/12/1.9-Customer-Appreciation-Adult-Skate-rink2-1.jpg
END:VEVENT
END:VCALENDAR